Workbook

Sheet Eingabe
C2: Beschreibung der Arbeit | J2: Bewertungsschlüssel | T2: Klassenliste
BD3: 1 | BF3: 2 | BH3: 3 | BJ3: 4 | BL3: 5 | BN3: 6
AJ4: Klassen | AZ4: =D31 -> 0 | BC4: Bewertung | BD4: <= | BE4: >= | BF4: <= | BG4: >= | BH4: <= | BI4: >= | BJ4: <= | BK4: >= | BL4: <= | BM4: >= | BN4: <= | BO4: >=
C5: Schuljahr: | D5: 2011/2012 | L5: Gesamtpunktzahl: | O5: 100 | P5: =IF(O5<20,"zu wenig!","") | T5: Zahl | U5: Nr. | V5: Zahl | W5: Nr-Sverweis | X5: Nachname | Y5: Vorname | Z5: Name | AA5: =AZ4 -> 0 | AB5: Note | AC5: ="+" -> + | AD5: Note | AE5: Bemerkung | AF5: Gruppe | AJ5: Kürzel | AK5: Klasse | AL5: Klassenleiter | AM5: Schule | AZ5: kleiner gleich | BA5: größer gleich | BC5: Punkte | BD5: =AZ33 -> 100 | BE5: =BA33 -> 90 | BF5: =AZ34 -> 89 | BG5: =BA34 -> 80 | BH5: =AZ35 -> 79 | BI5: =BA35 -> 65 | BJ5: =AZ36 -> 64 | BK5: =BA36 -> 50 | BL5: =AZ37 -> 49 | BM5: =BA37 -> 30 | BN5: =AZ38 -> 29 | BO5: =BA38 -> 0
T6: 1 | U6: =IF(T6=T5,"",T6&".") -> 1. | V6: 1 | W6: ="#"&IF(V6<10,"0","")&V6&"#" -> #01# | X6: =IF(VLOOKUP($W6,$AJ$20:$AM$45,2,FALSE)="","",VLOOKUP($W6,$AJ$20:$AM$45,2,FALSE)) | Y6: =IF(VLOOKUP($W6,$AJ$20:$AM$45,3,FALSE)="","",VLOOKUP($W6,$AJ$20:$AM$45,3,FALSE)) | Z6: =X6&IF(OR(X6="",Y6=""),"",", ")&Y6 | AB6: =IF(AND(AA6<=$AZ$6,AA6>=$BA$6),1,IF(AND(AA6<=$AZ$7,AA6>=$BA$7),2,IF(AND(AA6<=$AZ$8,AA6>=$BA$8),3,IF(AND(AA6<=$AZ$9,AA6>=$BA$9),4,IF(AND(AA6<=$AZ$10,AA6>=$BA$10),5,6))))) -> #N/A | AD6: =IF(X6="","",IF(AF6="JA",IF(AA6="","offen",IF(AB6+AC6>6,6,AB6+AC6)),"-/-")) | AE6: =IF(VLOOKUP($W6,$AJ$20:$AM$45,4,FALSE)="","",VLOOKUP($W6,$AJ$20:$AM$45,4,FALSE)) | AF6: =IF(VLOOKUP($W6,$AJ$20:$AU$45,12,FALSE)="","",VLOOKUP($W6,$AJ$20:$AU$45,12,FALSE)) | AJ6: ='KL01'!$C$4 -> 0 | AK6: ='KL01'!$C$6 -> 0 | AL6: ='KL01'!$D$6 -> 0 | AM6: ='KL01'!$D$4 -> 0 | AZ6: =VLOOKUP($AZ$4,$BC$5:$BO$14,2,FALSE) -> #N/A | BA6: =VLOOKUP($AZ$4,$BC$5:$BO$14,3,FALSE) -> #N/A | BC6: Prozent | BD6: =AZ42*100 -> 100 | BE6: =BA42*100 -> 90 | BF6: =AZ43*100 -> 89.9 | BG6: =BA43*100 -> 80 | BH6: =AZ44*100 -> 79.9 | BI6: =BA44*100 -> 65 | BJ6: =AZ45*100 -> 64.9 | BK6: =BA45*100 -> 50 | BL6: =AZ46*100 -> 49.9 | BM6: =BA46*100 -> 30 | BN6: =AZ47*100 -> 29.9 | BO6: =BA47*100 -> 0
C7: Fachlehrer: | J7: =IF(OR(J25="x",J16="x"),"-","x") -> x | L7: Prozent | O7: à Punkte | T7: =IF(X7="",T6,T6+1) -> 1 | U7: =IF(T7=T6,"",T7&".") | V7: 2 | W7: ="#"&IF(V7<10,"0","")&V7&"#" -> #02# | X7: =IF(VLOOKUP($W7,$AJ$20:$AM$45,2,FALSE)="","",VLOOKUP($W7,$AJ$20:$AM$45,2,FALSE)) | Y7: =IF(VLOOKUP($W7,$AJ$20:$AM$45,3,FALSE)="","",VLOOKUP($W7,$AJ$20:$AM$45,3,FALSE)) | Z7: =X7&IF(OR(X7="",Y7=""),"",", ")&Y7 | AB7: =IF(AND(AA7<=$AZ$6,AA7>=$BA$6),1,IF(AND(AA7<=$AZ$7,AA7>=$BA$7),2,IF(AND(AA7<=$AZ$8,AA7>=$BA$8),3,IF(AND(AA7<=$AZ$9,AA7>=$BA$9),4,IF(AND(AA7<=$AZ$10,AA7>=$BA$10),5,6))))) -> #N/A | AD7: =IF(X7="","",IF(AF7="JA",IF(AA7="","offen",IF(AB7+AC7>6,6,AB7+AC7)),"-/-")) | AE7: =IF(VLOOKUP($W7,$AJ$20:$AM$45,4,FALSE)="","",VLOOKUP($W7,$AJ$20:$AM$45,4,FALSE)) | AF7: =IF(VLOOKUP($W7,$AJ$20:$AU$45,12,FALSE)="","",VLOOKUP($W7,$AJ$20:$AU$45,12,FALSE)) | AJ7: ='KL02'!$C$4 -> 0 | AK7: ='KL02'!$C$6 -> 0 | AL7: ='KL02'!$D$6 -> 0 | AM7: ='KL02'!$D$4 -> 0 | AZ7: =VLOOKUP($AZ$4,$BC$5:$BO$14,4,FALSE) -> #N/A | BA7: =VLOOKUP($AZ$4,$BC$5:$BO$14,5,FALSE) -> #N/A | BC7: Fehler | BD7: =O27 -> 0 | BE7: =P27 -> 0 | BF7: =O28 -> 0 | BG7: =P28 -> 1 | BH7: =O29 -> 0 | BI7: =P29 -> 1 | BJ7: =O30 -> 0 | BK7: =P30 -> 1 | BL7: =O31 -> 0 | BM7: =P31 -> 1 | BN7: =O32 -> 99999.9 | BO7: =P32 -> 1
C8: Fach: | J8: Note | L8: kleiner gleich | M8: größer gleich | O8: kleiner gleich | P8: größer gleich | T8: =IF(X8="",T7,T7+1) -> 1 | U8: =IF(T8=T7,"",T8&".") | V8: 3 | W8: ="#"&IF(V8<10,"0","")&V8&"#" -> #03# | X8: =IF(VLOOKUP($W8,$AJ$20:$AM$45,2,FALSE)="","",VLOOKUP($W8,$AJ$20:$AM$45,2,FALSE)) | Y8: =IF(VLOOKUP($W8,$AJ$20:$AM$45,3,FALSE)="","",VLOOKUP($W8,$AJ$20:$AM$45,3,FALSE)) | Z8: =X8&IF(OR(X8="",Y8=""),"",", ")&Y8 | AB8: =IF(AND(AA8<=$AZ$6,AA8>=$BA$6),1,IF(AND(AA8<=$AZ$7,AA8>=$BA$7),2,IF(AND(AA8<=$AZ$8,AA8>=$BA$8),3,IF(AND(AA8<=$AZ$9,AA8>=$BA$9),4,IF(AND(AA8<=$AZ$10,AA8>=$BA$10),5,6))))) -> #N/A | AD8: =IF(X8="","",IF(AF8="JA",IF(AA8="","offen",IF(AB8+AC8>6,6,AB8+AC8)),"-/-")) | AE8: =IF(VLOOKUP($W8,$AJ$20:$AM$45,4,FALSE)="","",VLOOKUP($W8,$AJ$20:$AM$45,4,FALSE)) | AF8: =IF(VLOOKUP($W8,$AJ$20:$AU$45,12,FALSE)="","",VLOOKUP($W8,$AJ$20:$AU$45,12,FALSE)) | AJ8: ='KL03'!$C$4 -> 0 | AK8: ='KL03'!$C$6 -> 0 | AL8: ='KL03'!$D$6 -> 0 | AM8: ='KL03'!$D$4 -> 0 | AZ8: =VLOOKUP($AZ$4,$BC$5:$BO$14,6,FALSE) -> #N/A | BA8: =VLOOKUP($AZ$4,$BC$5:$BO$14,7,FALSE) -> #N/A | BC8: Sekunden | BD8: =L38 -> 0 | BE8: =M38 -> 0 | BF8: =L39 -> 0 | BG8: =M39 -> 1 | BH8: =L40 -> 0 | BI8: =M40 -> 1 | BJ8: =L41 -> 0 | BK8: =M41 -> 1 | BL8: =L42 -> 0 | BM8: =M42 -> 1 | BN8: =L43 -> 99999.999 | BO8: =M43 -> 1
J9: 1 | L9: 1 | M9: 0.9 | O9: =O5 -> 100 | P9: =IF($E$32="JA",ROUND($O$9*M9*2,0)/2,ROUND($O$9*M9,$F$32)) -> 90 | T9: =IF(X9="",T8,T8+1) -> 1 | U9: =IF(T9=T8,"",T9&".") | V9: 4 | W9: ="#"&IF(V9<10,"0","")&V9&"#" -> #04# | X9: =IF(VLOOKUP($W9,$AJ$20:$AM$45,2,FALSE)="","",VLOOKUP($W9,$AJ$20:$AM$45,2,FALSE)) | Y9: =IF(VLOOKUP($W9,$AJ$20:$AM$45,3,FALSE)="","",VLOOKUP($W9,$AJ$20:$AM$45,3,FALSE)) | Z9: =X9&IF(OR(X9="",Y9=""),"",", ")&Y9 | AB9: =IF(AND(AA9<=$AZ$6,AA9>=$BA$6),1,IF(AND(AA9<=$AZ$7,AA9>=$BA$7),2,IF(AND(AA9<=$AZ$8,AA9>=$BA$8),3,IF(AND(AA9<=$AZ$9,AA9>=$BA$9),4,IF(AND(AA9<=$AZ$10,AA9>=$BA$10),5,6))))) -> #N/A | AD9: =IF(X9="","",IF(AF9="JA",IF(AA9="","offen",IF(AB9+AC9>6,6,AB9+AC9)),"-/-")) | AE9: =IF(VLOOKUP($W9,$AJ$20:$AM$45,4,FALSE)="","",VLOOKUP($W9,$AJ$20:$AM$45,4,FALSE)) | AF9: =IF(VLOOKUP($W9,$AJ$20:$AU$45,12,FALSE)="","",VLOOKUP($W9,$AJ$20:$AU$45,12,FALSE)) | AJ9: ='KL04'!$C$4 -> 0 | AK9: ='KL04'!$C$6 -> 0 | AL9: ='KL04'!$D$6 -> 0 | AM9: ='KL04'!$D$4 -> 0 | AZ9: =VLOOKUP($AZ$4,$BC$5:$BO$14,8,FALSE) -> #N/A | BA9: =VLOOKUP($AZ$4,$BC$5:$BO$14,9,FALSE) -> #N/A | BC9: Meter | BD9: =O38 -> 99999.999 | BE9: =P38 -> 0 | BF9: =O39 -> -1 | BG9: =P39 -> 0 | BH9: =O40 -> -1 | BI9: =P40 -> 0 | BJ9: =O41 -> -1 | BK9: =P41 -> 0 | BL9: =O42 -> -1 | BM9: =P42 -> 0 | BN9: =O43 -> -1 | BO9: =P43 -> 0
C10: Klassen: | D10: =IF(AJ6=0,"-/-",AJ6) -> -/- | E10: =IF(AJ10=0,"-/-",AJ10) -> -/- | F10: =IF(AJ14=0,"-/-",AJ14) -> -/- | J10: 2 | L10: =M9-0.001 -> 0.899 | M10: 0.8 | O10: =P9-IF($E$32="JA",0.5,IF($F$32<0.5,1,IF($F$32<1.5,0.1,IF($F$32<2.5,0.01,0.001)))) -> 89 | P10: =IF($E$32="JA",ROUND($O$9*M10*2,0)/2,ROUND($O$9*M10,$F$32)) -> 80 | T10: =IF(X10="",T9,T9+1) -> 1 | U10: =IF(T10=T9,"",T10&".") | V10: 5 | W10: ="#"&IF(V10<10,"0","")&V10&"#" -> #05# | X10: =IF(VLOOKUP($W10,$AJ$20:$AM$45,2,FALSE)="","",VLOOKUP($W10,$AJ$20:$AM$45,2,FALSE)) | Y10: =IF(VLOOKUP($W10,$AJ$20:$AM$45,3,FALSE)="","",VLOOKUP($W10,$AJ$20:$AM$45,3,FALSE)) | Z10: =X10&IF(OR(X10="",Y10=""),"",", ")&Y10 | AB10: =IF(AND(AA10<=$AZ$6,AA10>=$BA$6),1,IF(AND(AA10<=$AZ$7,AA10>=$BA$7),2,IF(AND(AA10<=$AZ$8,AA10>=$BA$8),3,IF(AND(AA10<=$AZ$9,AA10>=$BA$9),4,IF(AND(AA10<=$AZ$10,AA10>=$BA$10),5,6))))) -> #N/A | AD10: =IF(X10="","",IF(AF10="JA",IF(AA10="","offen",IF(AB10+AC10>6,6,AB10+AC10)),"-/-")) | AE10: =IF(VLOOKUP($W10,$AJ$20:$AM$45,4,FALSE)="","",VLOOKUP($W10,$AJ$20:$AM$45,4,FALSE)) | AF10: =IF(VLOOKUP($W10,$AJ$20:$AU$45,12,FALSE)="","",VLOOKUP($W10,$AJ$20:$AU$45,12,FALSE)) | AJ10: ='KL05'!$C$4 -> 0 | AK10: ='KL05'!$C$6 -> 0 | AL10: ='KL05'!$D$6 -> 0 | AM10: ='KL05'!$D$4 -> 0 | AZ10: =VLOOKUP($AZ$4,$BC$5:$BO$14,10,FALSE) -> #N/A | BA10: =VLOOKUP($AZ$4,$BC$5:$BO$14,11,FALSE) -> #N/A | BC10: Fehlerprozent | BD10: =L49 -> 0 | BE10: =M49 -> 0 | BF10: =L50 -> 0 | BG10: =M50 -> 1 | BH10: =L51 -> 0 | BI10: =M51 -> 1 | BJ10: =L52 -> 0 | BK10: =M52 -> 1 | BL10: =L53 -> 0 | BM10: =M53 -> 1 | BN10: =L54 -> 99999.999 | BO10: =M54 -> 1
D11: =IF(AJ7=0,"-/-",AJ7) -> -/- | E11: =IF(AJ11=0,"-/-",AJ11) -> -/- | F11: =IF(AJ15=0,"-/-",AJ15) -> -/- | J11: 3 | L11: =M10-0.001 -> 0.799 | M11: 0.65 | O11: =P10-IF($E$32="JA",0.5,IF($F$32<0.5,1,IF($F$32<1.5,0.1,IF($F$32<2.5,0.01,0.001)))) -> 79 | P11: =IF($E$32="JA",ROUND($O$9*M11*2,0)/2,ROUND($O$9*M11,$F$32)) -> 65 | T11: =IF(X11="",T10,T10+1) -> 1 | U11: =IF(T11=T10,"",T11&".") | V11: 6 | W11: ="#"&IF(V11<10,"0","")&V11&"#" -> #06# | X11: =IF(VLOOKUP($W11,$AJ$20:$AM$45,2,FALSE)="","",VLOOKUP($W11,$AJ$20:$AM$45,2,FALSE)) | Y11: =IF(VLOOKUP($W11,$AJ$20:$AM$45,3,FALSE)="","",VLOOKUP($W11,$AJ$20:$AM$45,3,FALSE)) | Z11: =X11&IF(OR(X11="",Y11=""),"",", ")&Y11 | AB11: =IF(AND(AA11<=$AZ$6,AA11>=$BA$6),1,IF(AND(AA11<=$AZ$7,AA11>=$BA$7),2,IF(AND(AA11<=$AZ$8,AA11>=$BA$8),3,IF(AND(AA11<=$AZ$9,AA11>=$BA$9),4,IF(AND(AA11<=$AZ$10,AA11>=$BA$10),5,6))))) -> #N/A | AD11: =IF(X11="","",IF(AF11="JA",IF(AA11="","offen",IF(AB11+AC11>6,6,AB11+AC11)),"-/-")) | AE11: =IF(VLOOKUP($W11,$AJ$20:$AM$45,4,FALSE)="","",VLOOKUP($W11,$AJ$20:$AM$45,4,FALSE)) | AF11: =IF(VLOOKUP($W11,$AJ$20:$AU$45,12,FALSE)="","",VLOOKUP($W11,$AJ$20:$AU$45,12,FALSE)) | AJ11: ='KL06'!$C$4 -> 0 | AK11: ='KL06'!$C$6 -> 0 | AL11: ='KL06'!$D$6 -> 0 | AM11: ='KL06'!$D$4 -> 0 | AZ11: =VLOOKUP($AZ$4,$BC$5:$BO$14,12,FALSE) -> #N/A | BA11: =VLOOKUP($AZ$4,$BC$5:$BO$14,13,FALSE) -> #N/A | BC11: Fehlerpunkte | BD11: =O49 -> 0 | BE11: =P49 -> 0 | BF11: =O50 -> 0 | BG11: =P50 -> 1 | BH11: =O51 -> 0 | BI11: =P51 -> 1 | BJ11: =O52 -> 0 | BK11: =P52 -> 1 | BL11: =O53 -> 0 | BM11: =P53 -> 1 | BN11: =O54 -> 99999 | BO11: =P54 -> 1
D12: =IF(AJ8=0,"-/-",AJ8) -> -/- | E12: =IF(AJ12=0,"-/-",AJ12) -> -/- | F12: =IF(AJ16=0,"-/-",AJ16) -> -/- | J12: 4 | L12: =M11-0.001 -> 0.649 | M12: 0.5 | O12: =P11-IF($E$32="JA",0.5,IF($F$32<0.5,1,IF($F$32<1.5,0.1,IF($F$32<2.5,0.01,0.001)))) -> 64 | P12: =IF($E$32="JA",ROUND($O$9*M12*2,0)/2,ROUND($O$9*M12,$F$32)) -> 50 | T12: =IF(X12="",T11,T11+1) -> 1 | U12: =IF(T12=T11,"",T12&".") | V12: 7 | W12: ="#"&IF(V12<10,"0","")&V12&"#" -> #07# | X12: =IF(VLOOKUP($W12,$AJ$20:$AM$45,2,FALSE)="","",VLOOKUP($W12,$AJ$20:$AM$45,2,FALSE)) | Y12: =IF(VLOOKUP($W12,$AJ$20:$AM$45,3,FALSE)="","",VLOOKUP($W12,$AJ$20:$AM$45,3,FALSE)) | Z12: =X12&IF(OR(X12="",Y12=""),"",", ")&Y12 | AB12: =IF(AND(AA12<=$AZ$6,AA12>=$BA$6),1,IF(AND(AA12<=$AZ$7,AA12>=$BA$7),2,IF(AND(AA12<=$AZ$8,AA12>=$BA$8),3,IF(AND(AA12<=$AZ$9,AA12>=$BA$9),4,IF(AND(AA12<=$AZ$10,AA12>=$BA$10),5,6))))) -> #N/A | AD12: =IF(X12="","",IF(AF12="JA",IF(AA12="","offen",IF(AB12+AC12>6,6,AB12+AC12)),"-/-")) | AE12: =IF(VLOOKUP($W12,$AJ$20:$AM$45,4,FALSE)="","",VLOOKUP($W12,$AJ$20:$AM$45,4,FALSE)) | AF12: =IF(VLOOKUP($W12,$AJ$20:$AU$45,12,FALSE)="","",VLOOKUP($W12,$AJ$20:$AU$45,12,FALSE)) | AJ12: ='KL07'!$C$4 -> 0 | AK12: ='KL07'!$C$6 -> 0 | AL12: ='KL07'!$D$6 -> 0 | AM12: ='KL07'!$D$4 -> 0 | BC12: =IF(L58="","-/-",L58) -> -/- | BD12: =L60 -> 0 | BE12: =M60 -> 0 | BF12: =L61 -> 0 | BG12: =M61 -> 0 | BH12: =L62 -> 0 | BI12: =M62 -> 0 | BJ12: =L63 -> 0 | BK12: =M63 -> 0 | BL12: =L64 -> 0 | BM12: =M64 -> 0 | BN12: =L65 -> 0 | BO12: =M65 -> 0
D13: =IF(AJ9=0,"-/-",AJ9) -> -/- | E13: =IF(AJ13=0,"-/-",AJ13) -> -/- | F13: =IF(AJ17=0,"-/-",AJ17) -> -/- | J13: 5 | L13: =M12-0.001 -> 0.499 | M13: 0.3 | O13: =P12-IF($E$32="JA",0.5,IF($F$32<0.5,1,IF($F$32<1.5,0.1,IF($F$32<2.5,0.01,0.001)))) -> 49 | P13: =IF($E$32="JA",ROUND($O$9*M13*2,0)/2,ROUND($O$9*M13,$F$32)) -> 30 | T13: =IF(X13="",T12,T12+1) -> 1 | U13: =IF(T13=T12,"",T13&".") | V13: 8 | W13: ="#"&IF(V13<10,"0","")&V13&"#" -> #08# | X13: =IF(VLOOKUP($W13,$AJ$20:$AM$45,2,FALSE)="","",VLOOKUP($W13,$AJ$20:$AM$45,2,FALSE)) | Y13: =IF(VLOOKUP($W13,$AJ$20:$AM$45,3,FALSE)="","",VLOOKUP($W13,$AJ$20:$AM$45,3,FALSE)) | Z13: =X13&IF(OR(X13="",Y13=""),"",", ")&Y13 | AB13: =IF(AND(AA13<=$AZ$6,AA13>=$BA$6),1,IF(AND(AA13<=$AZ$7,AA13>=$BA$7),2,IF(AND(AA13<=$AZ$8,AA13>=$BA$8),3,IF(AND(AA13<=$AZ$9,AA13>=$BA$9),4,IF(AND(AA13<=$AZ$10,AA13>=$BA$10),5,6))))) -> #N/A | AD13: =IF(X13="","",IF(AF13="JA",IF(AA13="","offen",IF(AB13+AC13>6,6,AB13+AC13)),"-/-")) | AE13: =IF(VLOOKUP($W13,$AJ$20:$AM$45,4,FALSE)="","",VLOOKUP($W13,$AJ$20:$AM$45,4,FALSE)) | AF13: =IF(VLOOKUP($W13,$AJ$20:$AU$45,12,FALSE)="","",VLOOKUP($W13,$AJ$20:$AU$45,12,FALSE)) | AJ13: ='KL08'!$C$4 -> 0 | AK13: ='KL08'!$C$6 -> 0 | AL13: ='KL08'!$D$6 -> 0 | AM13: ='KL08'!$D$4 -> 0 | AZ13: =AZ4 -> 0 | BC13: =IF(O58="","-/-",O58) -> -/- | BD13: =O60 -> 0 | BE13: =P60 -> 0 | BF13: =O61 -> 0 | BG13: =P61 -> 0 | BH13: =O62 -> 0 | BI13: =P62 -> 0 | BJ13: =O63 -> 0 | BK13: =P63 -> 0 | BL13: =O64 -> 0 | BM13: =P64 -> 0 | BN13: =O65 -> 0 | BO13: =P65 -> 0
C14: Kürzel: | J14: 6 | L14: =M13-0.001 -> 0.299 | M14: 0 | O14: =P13-IF($E$32="JA",0.5,IF($F$32<0.5,1,IF($F$32<1.5,0.1,IF($F$32<2.5,0.01,0.001)))) -> 29 | P14: 0 | T14: =IF(X14="",T13,T13+1) -> 1 | U14: =IF(T14=T13,"",T14&".") | V14: 9 | W14: ="#"&IF(V14<10,"0","")&V14&"#" -> #09# | X14: =IF(VLOOKUP($W14,$AJ$20:$AM$45,2,FALSE)="","",VLOOKUP($W14,$AJ$20:$AM$45,2,FALSE)) | Y14: =IF(VLOOKUP($W14,$AJ$20:$AM$45,3,FALSE)="","",VLOOKUP($W14,$AJ$20:$AM$45,3,FALSE)) | Z14: =X14&IF(OR(X14="",Y14=""),"",", ")&Y14 | AB14: =IF(AND(AA14<=$AZ$6,AA14>=$BA$6),1,IF(AND(AA14<=$AZ$7,AA14>=$BA$7),2,IF(AND(AA14<=$AZ$8,AA14>=$BA$8),3,IF(AND(AA14<=$AZ$9,AA14>=$BA$9),4,IF(AND(AA14<=$AZ$10,AA14>=$BA$10),5,6))))) -> #N/A | AD14: =IF(X14="","",IF(AF14="JA",IF(AA14="","offen",IF(AB14+AC14>6,6,AB14+AC14)),"-/-")) | AE14: =IF(VLOOKUP($W14,$AJ$20:$AM$45,4,FALSE)="","",VLOOKUP($W14,$AJ$20:$AM$45,4,FALSE)) | AF14: =IF(VLOOKUP($W14,$AJ$20:$AU$45,12,FALSE)="","",VLOOKUP($W14,$AJ$20:$AU$45,12,FALSE)) | AJ14: ='KL09'!$C$4 -> 0 | AK14: ='KL09'!$C$6 -> 0 | AL14: ='KL09'!$D$6 -> 0 | AM14: ='KL09'!$D$4 -> 0 | AZ14: =IF($AZ$6<$BA$6,AZ5,BA5) -> #N/A | BA14: =IF($AZ$6<$BA$6,BA5,AZ5) -> #N/A | BC14: Schnitt | BD14: 1.5 | BE14: 1 | BF14: 2.5 | BG14: 1.5 | BH14: 3.5 | BI14: 2.5 | BJ14: 4.5 | BK14: 3.5 | BL14: 5.5 | BM14: 4.5 | BN14: 6 | BO14: 5.5
C15: Schule: | D15: =IF(VLOOKUP($D$14,$AJ$6:$AM$17,4,FALSE)="","",VLOOKUP($D$14,$AJ$6:$AM$17,4,FALSE)) -> 0 | T15: =IF(X15="",T14,T14+1) -> 1 | U15: =IF(T15=T14,"",T15&".") | V15: 10 | W15: ="#"&IF(V15<10,"0","")&V15&"#" -> #10# | X15: =IF(VLOOKUP($W15,$AJ$20:$AM$45,2,FALSE)="","",VLOOKUP($W15,$AJ$20:$AM$45,2,FALSE)) | Y15: =IF(VLOOKUP($W15,$AJ$20:$AM$45,3,FALSE)="","",VLOOKUP($W15,$AJ$20:$AM$45,3,FALSE)) | Z15: =X15&IF(OR(X15="",Y15=""),"",", ")&Y15 | AB15: =IF(AND(AA15<=$AZ$6,AA15>=$BA$6),1,IF(AND(AA15<=$AZ$7,AA15>=$BA$7),2,IF(AND(AA15<=$AZ$8,AA15>=$BA$8),3,IF(AND(AA15<=$AZ$9,AA15>=$BA$9),4,IF(AND(AA15<=$AZ$10,AA15>=$BA$10),5,6))))) -> #N/A | AD15: =IF(X15="","",IF(AF15="JA",IF(AA15="","offen",IF(AB15+AC15>6,6,AB15+AC15)),"-/-")) | AE15: =IF(VLOOKUP($W15,$AJ$20:$AM$45,4,FALSE)="","",VLOOKUP($W15,$AJ$20:$AM$45,4,FALSE)) | AF15: =IF(VLOOKUP($W15,$AJ$20:$AU$45,12,FALSE)="","",VLOOKUP($W15,$AJ$20:$AU$45,12,FALSE)) | AJ15: ='KL10'!$C$4 -> 0 | AK15: ='KL10'!$C$6 -> 0 | AL15: ='KL10'!$D$6 -> 0 | AM15: ='KL10'!$D$4 -> 0 | AZ15: =IF($AZ$6<$BA$6,AZ6,BA6) -> #N/A | BA15: =IF($AZ$6<$BA$6,BA6,AZ6) -> #N/A
C16: Klasse: | D16: =IF(VLOOKUP($D$14,$AJ$6:$AM$17,2,FALSE)="","",VLOOKUP($D$14,$AJ$6:$AM$17,2,FALSE)) -> 0 | J16: =IF(J25="X","-",IF(OR(M18="",M19="",M20="",M21="",M22=""),"-","x")) -> - | L16: Prozent | O16: à Punkte | T16: =IF(X16="",T15,T15+1) -> 1 | U16: =IF(T16=T15,"",T16&".") | V16: 11 | W16: ="#"&IF(V16<10,"0","")&V16&"#" -> #11# | X16: =IF(VLOOKUP($W16,$AJ$20:$AM$45,2,FALSE)="","",VLOOKUP($W16,$AJ$20:$AM$45,2,FALSE)) | Y16: =IF(VLOOKUP($W16,$AJ$20:$AM$45,3,FALSE)="","",VLOOKUP($W16,$AJ$20:$AM$45,3,FALSE)) | Z16: =X16&IF(OR(X16="",Y16=""),"",", ")&Y16 | AB16: =IF(AND(AA16<=$AZ$6,AA16>=$BA$6),1,IF(AND(AA16<=$AZ$7,AA16>=$BA$7),2,IF(AND(AA16<=$AZ$8,AA16>=$BA$8),3,IF(AND(AA16<=$AZ$9,AA16>=$BA$9),4,IF(AND(AA16<=$AZ$10,AA16>=$BA$10),5,6))))) -> #N/A | AD16: =IF(X16="","",IF(AF16="JA",IF(AA16="","offen",IF(AB16+AC16>6,6,AB16+AC16)),"-/-")) | AE16: =IF(VLOOKUP($W16,$AJ$20:$AM$45,4,FALSE)="","",VLOOKUP($W16,$AJ$20:$AM$45,4,FALSE)) | AF16: =IF(VLOOKUP($W16,$AJ$20:$AU$45,12,FALSE)="","",VLOOKUP($W16,$AJ$20:$AU$45,12,FALSE)) | AJ16: ='KL11'!$C$4 -> 0 | AK16: ='KL11'!$C$6 -> 0 | AL16: ='KL11'!$D$6 -> 0 | AM16: ='KL11'!$D$4 -> 0 | AZ16: =IF($AZ$6<$BA$6,AZ7,BA7) -> #N/A | BA16: =IF($AZ$6<$BA$6,BA7,AZ7) -> #N/A
C17: Klassenleiter/in: | D17: =IF(VLOOKUP($D$14,$AJ$6:$AM$17,3,FALSE)="","",VLOOKUP($D$14,$AJ$6:$AM$17,3,FALSE)) -> 0 | J17: Note | L17: kleiner gleich | M17: größer gleich | O17: kleiner gleich | P17: größer gleich | T17: =IF(X17="",T16,T16+1) -> 1 | U17: =IF(T17=T16,"",T17&".") | V17: 12 | W17: ="#"&IF(V17<10,"0","")&V17&"#" -> #12# | X17: =IF(VLOOKUP($W17,$AJ$20:$AM$45,2,FALSE)="","",VLOOKUP($W17,$AJ$20:$AM$45,2,FALSE)) | Y17: =IF(VLOOKUP($W17,$AJ$20:$AM$45,3,FALSE)="","",VLOOKUP($W17,$AJ$20:$AM$45,3,FALSE)) | Z17: =X17&IF(OR(X17="",Y17=""),"",", ")&Y17 | AB17: =IF(AND(AA17<=$AZ$6,AA17>=$BA$6),1,IF(AND(AA17<=$AZ$7,AA17>=$BA$7),2,IF(AND(AA17<=$AZ$8,AA17>=$BA$8),3,IF(AND(AA17<=$AZ$9,AA17>=$BA$9),4,IF(AND(AA17<=$AZ$10,AA17>=$BA$10),5,6))))) -> #N/A | AD17: =IF(X17="","",IF(AF17="JA",IF(AA17="","offen",IF(AB17+AC17>6,6,AB17+AC17)),"-/-")) | AE17: =IF(VLOOKUP($W17,$AJ$20:$AM$45,4,FALSE)="","",VLOOKUP($W17,$AJ$20:$AM$45,4,FALSE)) | AF17: =IF(VLOOKUP($W17,$AJ$20:$AU$45,12,FALSE)="","",VLOOKUP($W17,$AJ$20:$AU$45,12,FALSE)) | AJ17: ='KL12'!$C$4 -> 0 | AK17: ='KL12'!$C$6 -> 0 | AL17: ='KL12'!$D$6 -> 0 | AM17: ='KL12'!$D$4 -> 0 | AZ17: =IF($AZ$6<$BA$6,AZ8,BA8) -> #N/A | BA17: =IF($AZ$6<$BA$6,BA8,AZ8) -> #N/A
C18: Gruppen: | D18: =AO19 | E18: =AP19 | F18: =AQ19 | J18: 1 | L18: 1 | O18: =O5 -> 100 | P18: =ROUND(($O$9*M18*IF($E$32="JA",2,1)),F32)/IF($E$32="JA",2,1) -> 0 | T18: =IF(X18="",T17,T17+1) -> 1 | U18: =IF(T18=T17,"",T18&".") | V18: 13 | W18: ="#"&IF(V18<10,"0","")&V18&"#" -> #13# | X18: =IF(VLOOKUP($W18,$AJ$20:$AM$45,2,FALSE)="","",VLOOKUP($W18,$AJ$20:$AM$45,2,FALSE)) | Y18: =IF(VLOOKUP($W18,$AJ$20:$AM$45,3,FALSE)="","",VLOOKUP($W18,$AJ$20:$AM$45,3,FALSE)) | Z18: =X18&IF(OR(X18="",Y18=""),"",", ")&Y18 | AB18: =IF(AND(AA18<=$AZ$6,AA18>=$BA$6),1,IF(AND(AA18<=$AZ$7,AA18>=$BA$7),2,IF(AND(AA18<=$AZ$8,AA18>=$BA$8),3,IF(AND(AA18<=$AZ$9,AA18>=$BA$9),4,IF(AND(AA18<=$AZ$10,AA18>=$BA$10),5,6))))) -> #N/A | AD18: =IF(X18="","",IF(AF18="JA",IF(AA18="","offen",IF(AB18+AC18>6,6,AB18+AC18)),"-/-")) | AE18: =IF(VLOOKUP($W18,$AJ$20:$AM$45,4,FALSE)="","",VLOOKUP($W18,$AJ$20:$AM$45,4,FALSE)) | AF18: =IF(VLOOKUP($W18,$AJ$20:$AU$45,12,FALSE)="","",VLOOKUP($W18,$AJ$20:$AU$45,12,FALSE)) | AZ18: =IF($AZ$6<$BA$6,AZ9,BA9) -> #N/A | BA18: =IF($AZ$6<$BA$6,BA9,AZ9) -> #N/A
C19: Gruppenauswahl: | J19: 2 | L19: =M18-0.001 -> -0.001 | O19: =P18-IF($E$32="JA",0.5,IF($F$32<0.5,1,IF($F$32<1.5,0.1,IF($F$32<2.5,0.01,0.001)))) -> -1 | P19: =ROUND(($O$9*M19*IF($E$32="JA",2,1)),F33)/IF($E$32="JA",2,1) -> 0 | T19: =IF(X19="",T18,T18+1) -> 1 | U19: =IF(T19=T18,"",T19&".") | V19: 14 | W19: ="#"&IF(V19<10,"0","")&V19&"#" -> #14# | X19: =IF(VLOOKUP($W19,$AJ$20:$AM$45,2,FALSE)="","",VLOOKUP($W19,$AJ$20:$AM$45,2,FALSE)) | Y19: =IF(VLOOKUP($W19,$AJ$20:$AM$45,3,FALSE)="","",VLOOKUP($W19,$AJ$20:$AM$45,3,FALSE)) | Z19: =X19&IF(OR(X19="",Y19=""),"",", ")&Y19 | AB19: =IF(AND(AA19<=$AZ$6,AA19>=$BA$6),1,IF(AND(AA19<=$AZ$7,AA19>=$BA$7),2,IF(AND(AA19<=$AZ$8,AA19>=$BA$8),3,IF(AND(AA19<=$AZ$9,AA19>=$BA$9),4,IF(AND(AA19<=$AZ$10,AA19>=$BA$10),5,6))))) -> #N/A | AD19: =IF(X19="","",IF(AF19="JA",IF(AA19="","offen",IF(AB19+AC19>6,6,AB19+AC19)),"-/-")) | AE19: =IF(VLOOKUP($W19,$AJ$20:$AM$45,4,FALSE)="","",VLOOKUP($W19,$AJ$20:$AM$45,4,FALSE)) | AF19: =IF(VLOOKUP($W19,$AJ$20:$AU$45,12,FALSE)="","",VLOOKUP($W19,$AJ$20:$AU$45,12,FALSE)) | AJ19: Sverweis | AK19: Nachname | AL19: Vorname | AM19: Bemerkungen | AN19: Jgst. | AO19: =IF($D$14='KL01'!$C$4,'KL01'!G3,"")&IF($D$14='KL02'!$C$4,'KL02'!G3,"")&IF($D$14='KL03'!$C$4,'KL03'!G3,"")&IF($D$14='KL04'!$C$4,'KL04'!G3,"")&IF($D$14='KL05'!$C$4,'KL05'!G3,"")&IF($D$14='KL06'!$C$4,'KL06'!G3,"")&IF($D$14='KL07'!$C$4,'KL07'!G3,"")&IF($D$14='KL08'!$C$4,'KL08'!G3,"")&IF($D$14='KL09'!$C$4,'KL09'!G3,"")&IF($D$14='KL10'!$C$4,'KL10'!G3,"")&IF($D$14='KL11'!$C$4,'KL11'!G3,"")&IF($D$14='KL12'!$C$4,'KL12'!G3,"") | AP19: =IF($D$14='KL01'!$C$4,'KL01'!H3,"")&IF($D$14='KL02'!$C$4,'KL02'!H3,"")&IF($D$14='KL03'!$C$4,'KL03'!H3,"")&IF($D$14='KL04'!$C$4,'KL04'!H3,"")&IF($D$14='KL05'!$C$4,'KL05'!H3,"")&IF($D$14='KL06'!$C$4,'KL06'!H3,"")&IF($D$14='KL07'!$C$4,'KL07'!H3,"")&IF($D$14='KL08'!$C$4,'KL08'!H3,"")&IF($D$14='KL09'!$C$4,'KL09'!H3,"")&IF($D$14='KL10'!$C$4,'KL10'!H3,"")&IF($D$14='KL11'!$C$4,'KL11'!H3,"")&IF($D$14='KL12'!$C$4,'KL12'!H3,"") | AQ19: =IF($D$14='KL01'!$C$4,'KL01'!I3,"")&IF($D$14='KL02'!$C$4,'KL02'!I3,"")&IF($D$14='KL03'!$C$4,'KL03'!I3,"")&IF($D$14='KL04'!$C$4,'KL04'!I3,"")&IF($D$14='KL05'!$C$4,'KL05'!I3,"")&IF($D$14='KL06'!$C$4,'KL06'!I3,"")&IF($D$14='KL07'!$C$4,'KL07'!I3,"")&IF($D$14='KL08'!$C$4,'KL08'!I3,"")&IF($D$14='KL09'!$C$4,'KL09'!I3,"")&IF($D$14='KL10'!$C$4,'KL10'!I3,"")&IF($D$14='KL11'!$C$4,'KL11'!I3,"")&IF($D$14='KL12'!$C$4,'KL12'!I3,"") | AR19: Gruppe1 | AS19: Gruppe2 | AT19: Gruppe2 | AU19: Gruppe | AV19: Rang | AW19: Name | AZ19: =IF($AZ$6<$BA$6,AZ10,BA10) -> #N/A | BA19: =IF($AZ$6<$BA$6,BA10,AZ10) -> #N/A
J20: 3 | L20: =M19-0.001 -> -0.001 | O20: =P19-IF($E$32="JA",0.5,IF($F$32<0.5,1,IF($F$32<1.5,0.1,IF($F$32<2.5,0.01,0.001)))) -> -1 | P20: =ROUND(($O$9*M20*IF($E$32="JA",2,1)),F34)/IF($E$32="JA",2,1) -> 0 | T20: =IF(X20="",T19,T19+1) -> 1 | U20: =IF(T20=T19,"",T20&".") | V20: 15 | W20: ="#"&IF(V20<10,"0","")&V20&"#" -> #15# | X20: =IF(VLOOKUP($W20,$AJ$20:$AM$45,2,FALSE)="","",VLOOKUP($W20,$AJ$20:$AM$45,2,FALSE)) | Y20: =IF(VLOOKUP($W20,$AJ$20:$AM$45,3,FALSE)="","",VLOOKUP($W20,$AJ$20:$AM$45,3,FALSE)) | Z20: =X20&IF(OR(X20="",Y20=""),"",", ")&Y20 | AB20: =IF(AND(AA20<=$AZ$6,AA20>=$BA$6),1,IF(AND(AA20<=$AZ$7,AA20>=$BA$7),2,IF(AND(AA20<=$AZ$8,AA20>=$BA$8),3,IF(AND(AA20<=$AZ$9,AA20>=$BA$9),4,IF(AND(AA20<=$AZ$10,AA20>=$BA$10),5,6))))) -> #N/A | AD20: =IF(X20="","",IF(AF20="JA",IF(AA20="","offen",IF(AB20+AC20>6,6,AB20+AC20)),"-/-")) | AE20: =IF(VLOOKUP($W20,$AJ$20:$AM$45,4,FALSE)="","",VLOOKUP($W20,$AJ$20:$AM$45,4,FALSE)) | AF20: =IF(VLOOKUP($W20,$AJ$20:$AU$45,12,FALSE)="","",VLOOKUP($W20,$AJ$20:$AU$45,12,FALSE)) | AJ20: ="#"&IF(AV20<10,"0","")&AV20&"#" -> #01# | AK20: =IF($D$14='KL01'!$C$4,'KL01'!C9,"")&IF($D$14='KL02'!$C$4,'KL02'!C9,"")&IF($D$14='KL03'!$C$4,'KL03'!C9,"")&IF($D$14='KL04'!$C$4,'KL04'!C9,"")&IF($D$14='KL05'!$C$4,'KL05'!C9,"")&IF($D$14='KL06'!$C$4,'KL06'!C9,"")&IF($D$14='KL07'!$C$4,'KL07'!C9,"")&IF($D$14='KL08'!$C$4,'KL08'!C9,"")&IF($D$14='KL09'!$C$4,'KL09'!C9,"")&IF($D$14='KL10'!$C$4,'KL10'!C9,"")&IF($D$14='KL11'!$C$4,'KL11'!C9,"")&IF($D$14='KL12'!$C$4,'KL12'!C9,"") | AL20: =IF($D$14='KL01'!$C$4,'KL01'!D9,"")&IF($D$14='KL02'!$C$4,'KL02'!D9,"")&IF($D$14='KL03'!$C$4,'KL03'!D9,"")&IF($D$14='KL04'!$C$4,'KL04'!D9,"")&IF($D$14='KL05'!$C$4,'KL05'!D9,"")&IF($D$14='KL06'!$C$4,'KL06'!D9,"")&IF($D$14='KL07'!$C$4,'KL07'!D9,"")&IF($D$14='KL08'!$C$4,'KL08'!D9,"")&IF($D$14='KL09'!$C$4,'KL09'!D9,"")&IF($D$14='KL10'!$C$4,'KL10'!D9,"")&IF($D$14='KL11'!$C$4,'KL11'!D9,"")&IF($D$14='KL12'!$C$4,'KL12'!D9,"") | AM20: =IF($D$14='KL01'!$C$4,'KL01'!E9,"")&IF($D$14='KL02'!$C$4,'KL02'!E9,"")&IF($D$14='KL03'!$C$4,'KL03'!E9,"")&IF($D$14='KL04'!$C$4,'KL04'!E9,"")&IF($D$14='KL05'!$C$4,'KL05'!E9,"")&IF($D$14='KL06'!$C$4,'KL06'!E9,"")&IF($D$14='KL07'!$C$4,'KL07'!E9,"")&IF($D$14='KL08'!$C$4,'KL08'!E9,"")&IF($D$14='KL09'!$C$4,'KL09'!E9,"")&IF($D$14='KL10'!$C$4,'KL10'!E9,"")&IF($D$14='KL11'!$C$4,'KL11'!E9,"")&IF($D$14='KL12'!$C$4,'KL12'!E9,"") | AN20: =IF($D$14='KL01'!$C$4,'KL01'!F9,"")&IF($D$14='KL02'!$C$4,'KL02'!F9,"")&IF($D$14='KL03'!$C$4,'KL03'!F9,"")&IF($D$14='KL04'!$C$4,'KL04'!F9,"")&IF($D$14='KL05'!$C$4,'KL05'!F9,"")&IF($D$14='KL06'!$C$4,'KL06'!F9,"")&IF($D$14='KL07'!$C$4,'KL07'!F9,"")&IF($D$14='KL08'!$C$4,'KL08'!F9,"")&IF($D$14='KL09'!$C$4,'KL09'!F9,"")&IF($D$14='KL10'!$C$4,'KL10'!F9,"")&IF($D$14='KL11'!$C$4,'KL11'!F9,"")&IF($D$14='KL12'!$C$4,'KL12'!F9,"") | AO20: =IF($D$14='KL01'!$C$4,'KL01'!G9,"")&IF($D$14='KL02'!$C$4,'KL02'!G9,"")&IF($D$14='KL03'!$C$4,'KL03'!G9,"")&IF($D$14='KL04'!$C$4,'KL04'!G9,"")&IF($D$14='KL05'!$C$4,'KL05'!G9,"")&IF($D$14='KL06'!$C$4,'KL06'!G9,"")&IF($D$14='KL07'!$C$4,'KL07'!G9,"")&IF($D$14='KL08'!$C$4,'KL08'!G9,"")&IF($D$14='KL09'!$C$4,'KL09'!G9,"")&IF($D$14='KL10'!$C$4,'KL10'!G9,"")&IF($D$14='KL11'!$C$4,'KL11'!G9,"")&IF($D$14='KL12'!$C$4,'KL12'!G9,"") | AP20: =IF($D$14='KL01'!$C$4,'KL01'!H9,"")&IF($D$14='KL02'!$C$4,'KL02'!H9,"")&IF($D$14='KL03'!$C$4,'KL03'!H9,"")&IF($D$14='KL04'!$C$4,'KL04'!H9,"")&IF($D$14='KL05'!$C$4,'KL05'!H9,"")&IF($D$14='KL06'!$C$4,'KL06'!H9,"")&IF($D$14='KL07'!$C$4,'KL07'!H9,"")&IF($D$14='KL08'!$C$4,'KL08'!H9,"")&IF($D$14='KL09'!$C$4,'KL09'!H9,"")&IF($D$14='KL10'!$C$4,'KL10'!H9,"")&IF($D$14='KL11'!$C$4,'KL11'!H9,"")&IF($D$14='KL12'!$C$4,'KL12'!H9,"") | AQ20: =IF($D$14='KL01'!$C$4,'KL01'!I9,"")&IF($D$14='KL02'!$C$4,'KL02'!I9,"")&IF($D$14='KL03'!$C$4,'KL03'!I9,"")&IF($D$14='KL04'!$C$4,'KL04'!I9,"")&IF($D$14='KL05'!$C$4,'KL05'!I9,"")&IF($D$14='KL06'!$C$4,'KL06'!I9,"")&IF($D$14='KL07'!$C$4,'KL07'!I9,"")&IF($D$14='KL08'!$C$4,'KL08'!I9,"")&IF($D$14='KL09'!$C$4,'KL09'!I9,"")&IF($D$14='KL10'!$C$4,'KL10'!I9,"")&IF($D$14='KL11'!$C$4,'KL11'!I9,"")&IF($D$14='KL12'!$C$4,'KL12'!I9,"") | AR20: =IF(AO20="","-/-",$AO$19) -> -/- | AS20: =IF(AP20="","-/-",$AP$19) -> -/- | AT20: =IF(AQ20="","-/-",$AQ$19) -> -/- | AU20: =IF(AK20="","",IF($D$19="","JA",IF($D$19=AR20,"JA",IF($D$19=AS20,"JA",IF($D$19=AT20,"JA",""))))) | AV20: =1+SUMPRODUCT(($AW$20:$AW$45<AW20)+(AW20="")*1000) -> 1 | AW20: =IF(AN20&AK20&AL20="","Z"&IF(AX20<10,"0"&AX20,AX20),AN20&AK20&AL20) -> Z01 | AX20: 1 | AZ20: =IF($AZ$6<$BA$6,AZ11,BA11) -> #N/A | BA20: =IF($AZ$6<$BA$6,BA11,AZ11) -> #N/A
C21: Datum: | J21: 4 | L21: =M20-0.001 -> -0.001 | O21: =P20-IF($E$32="JA",0.5,IF($F$32<0.5,1,IF($F$32<1.5,0.1,IF($F$32<2.5,0.01,0.001)))) -> -1 | P21: =ROUND(($O$9*M21*IF($E$32="JA",2,1)),F35)/IF($E$32="JA",2,1) -> 0 | T21: =IF(X21="",T20,T20+1) -> 1 | U21: =IF(T21=T20,"",T21&".") | V21: 16 | W21: ="#"&IF(V21<10,"0","")&V21&"#" -> #16# | X21: =IF(VLOOKUP($W21,$AJ$20:$AM$45,2,FALSE)="","",VLOOKUP($W21,$AJ$20:$AM$45,2,FALSE)) | Y21: =IF(VLOOKUP($W21,$AJ$20:$AM$45,3,FALSE)="","",VLOOKUP($W21,$AJ$20:$AM$45,3,FALSE)) | Z21: =X21&IF(OR(X21="",Y21=""),"",", ")&Y21 | AB21: =IF(AND(AA21<=$AZ$6,AA21>=$BA$6),1,IF(AND(AA21<=$AZ$7,AA21>=$BA$7),2,IF(AND(AA21<=$AZ$8,AA21>=$BA$8),3,IF(AND(AA21<=$AZ$9,AA21>=$BA$9),4,IF(AND(AA21<=$AZ$10,AA21>=$BA$10),5,6))))) -> #N/A | AD21: =IF(X21="","",IF(AF21="JA",IF(AA21="","offen",IF(AB21+AC21>6,6,AB21+AC21)),"-/-")) | AE21: =IF(VLOOKUP($W21,$AJ$20:$AM$45,4,FALSE)="","",VLOOKUP($W21,$AJ$20:$AM$45,4,FALSE)) | AF21: =IF(VLOOKUP($W21,$AJ$20:$AU$45,12,FALSE)="","",VLOOKUP($W21,$AJ$20:$AU$45,12,FALSE)) | AJ21: ="#"&IF(AV21<10,"0","")&AV21&"#" -> #02# | AK21: =IF($D$14='KL01'!$C$4,'KL01'!C10,"")&IF($D$14='KL02'!$C$4,'KL02'!C10,"")&IF($D$14='KL03'!$C$4,'KL03'!C10,"")&IF($D$14='KL04'!$C$4,'KL04'!C10,"")&IF($D$14='KL05'!$C$4,'KL05'!C10,"")&IF($D$14='KL06'!$C$4,'KL06'!C10,"")&IF($D$14='KL07'!$C$4,'KL07'!C10,"")&IF($D$14='KL08'!$C$4,'KL08'!C10,"")&IF($D$14='KL09'!$C$4,'KL09'!C10,"")&IF($D$14='KL10'!$C$4,'KL10'!C10,"")&IF($D$14='KL11'!$C$4,'KL11'!C10,"")&IF($D$14='KL12'!$C$4,'KL12'!C10,"") | AL21: =IF($D$14='KL01'!$C$4,'KL01'!D10,"")&IF($D$14='KL02'!$C$4,'KL02'!D10,"")&IF($D$14='KL03'!$C$4,'KL03'!D10,"")&IF($D$14='KL04'!$C$4,'KL04'!D10,"")&IF($D$14='KL05'!$C$4,'KL05'!D10,"")&IF($D$14='KL06'!$C$4,'KL06'!D10,"")&IF($D$14='KL07'!$C$4,'KL07'!D10,"")&IF($D$14='KL08'!$C$4,'KL08'!D10,"")&IF($D$14='KL09'!$C$4,'KL09'!D10,"")&IF($D$14='KL10'!$C$4,'KL10'!D10,"")&IF($D$14='KL11'!$C$4,'KL11'!D10,"")&IF($D$14='KL12'!$C$4,'KL12'!D10,"") | AM21: =IF($D$14='KL01'!$C$4,'KL01'!E10,"")&IF($D$14='KL02'!$C$4,'KL02'!E10,"")&IF($D$14='KL03'!$C$4,'KL03'!E10,"")&IF($D$14='KL04'!$C$4,'KL04'!E10,"")&IF($D$14='KL05'!$C$4,'KL05'!E10,"")&IF($D$14='KL06'!$C$4,'KL06'!E10,"")&IF($D$14='KL07'!$C$4,'KL07'!E10,"")&IF($D$14='KL08'!$C$4,'KL08'!E10,"")&IF($D$14='KL09'!$C$4,'KL09'!E10,"")&IF($D$14='KL10'!$C$4,'KL10'!E10,"")&IF($D$14='KL11'!$C$4,'KL11'!E10,"")&IF($D$14='KL12'!$C$4,'KL12'!E10,"") | AN21: =IF($D$14='KL01'!$C$4,'KL01'!F10,"")&IF($D$14='KL02'!$C$4,'KL02'!F10,"")&IF($D$14='KL03'!$C$4,'KL03'!F10,"")&IF($D$14='KL04'!$C$4,'KL04'!F10,"")&IF($D$14='KL05'!$C$4,'KL05'!F10,"")&IF($D$14='KL06'!$C$4,'KL06'!F10,"")&IF($D$14='KL07'!$C$4,'KL07'!F10,"")&IF($D$14='KL08'!$C$4,'KL08'!F10,"")&IF($D$14='KL09'!$C$4,'KL09'!F10,"")&IF($D$14='KL10'!$C$4,'KL10'!F10,"")&IF($D$14='KL11'!$C$4,'KL11'!F10,"")&IF($D$14='KL12'!$C$4,'KL12'!F10,"") | AO21: =IF($D$14='KL01'!$C$4,'KL01'!G10,"")&IF($D$14='KL02'!$C$4,'KL02'!G10,"")&IF($D$14='KL03'!$C$4,'KL03'!G10,"")&IF($D$14='KL04'!$C$4,'KL04'!G10,"")&IF($D$14='KL05'!$C$4,'KL05'!G10,"")&IF($D$14='KL06'!$C$4,'KL06'!G10,"")&IF($D$14='KL07'!$C$4,'KL07'!G10,"")&IF($D$14='KL08'!$C$4,'KL08'!G10,"")&IF($D$14='KL09'!$C$4,'KL09'!G10,"")&IF($D$14='KL10'!$C$4,'KL10'!G10,"")&IF($D$14='KL11'!$C$4,'KL11'!G10,"")&IF($D$14='KL12'!$C$4,'KL12'!G10,"") | AP21: =IF($D$14='KL01'!$C$4,'KL01'!H10,"")&IF($D$14='KL02'!$C$4,'KL02'!H10,"")&IF($D$14='KL03'!$C$4,'KL03'!H10,"")&IF($D$14='KL04'!$C$4,'KL04'!H10,"")&IF($D$14='KL05'!$C$4,'KL05'!H10,"")&IF($D$14='KL06'!$C$4,'KL06'!H10,"")&IF($D$14='KL07'!$C$4,'KL07'!H10,"")&IF($D$14='KL08'!$C$4,'KL08'!H10,"")&IF($D$14='KL09'!$C$4,'KL09'!H10,"")&IF($D$14='KL10'!$C$4,'KL10'!H10,"")&IF($D$14='KL11'!$C$4,'KL11'!H10,"")&IF($D$14='KL12'!$C$4,'KL12'!H10,"") | AQ21: =IF($D$14='KL01'!$C$4,'KL01'!I10,"")&IF($D$14='KL02'!$C$4,'KL02'!I10,"")&IF($D$14='KL03'!$C$4,'KL03'!I10,"")&IF($D$14='KL04'!$C$4,'KL04'!I10,"")&IF($D$14='KL05'!$C$4,'KL05'!I10,"")&IF($D$14='KL06'!$C$4,'KL06'!I10,"")&IF($D$14='KL07'!$C$4,'KL07'!I10,"")&IF($D$14='KL08'!$C$4,'KL08'!I10,"")&IF($D$14='KL09'!$C$4,'KL09'!I10,"")&IF($D$14='KL10'!$C$4,'KL10'!I10,"")&IF($D$14='KL11'!$C$4,'KL11'!I10,"")&IF($D$14='KL12'!$C$4,'KL12'!I10,"") | AR21: =IF(AO21="","-/-",$AO$19) -> -/- | AS21: =IF(AP21="","-/-",$AP$19) -> -/- | AT21: =IF(AQ21="","-/-",$AQ$19) -> -/- | AU21: =IF(AK21="","",IF($D$19="","JA",IF($D$19=AR21,"JA",IF($D$19=AS21,"JA",IF($D$19=AT21,"JA",""))))) | AV21: =1+SUMPRODUCT(($AW$20:$AW$45<AW21)+(AW21="")*1000) -> 2 | AW21: =IF(AN21&AK21&AL21="","Z"&IF(AX21<10,"0"&AX21,AX21),AN21&AK21&AL21) -> Z02 | AX21: 2
C22: Ordnungszahl: | J22: 5 | L22: =M21-0.001 -> -0.001 | O22: =P21-IF($E$32="JA",0.5,IF($F$32<0.5,1,IF($F$32<1.5,0.1,IF($F$32<2.5,0.01,0.001)))) -> -1 | P22: =ROUND(($O$9*M22*IF($E$32="JA",2,1)),F36)/IF($E$32="JA",2,1) -> 0 | T22: =IF(X22="",T21,T21+1) -> 1 | U22: =IF(T22=T21,"",T22&".") | V22: 17 | W22: ="#"&IF(V22<10,"0","")&V22&"#" -> #17# | X22: =IF(VLOOKUP($W22,$AJ$20:$AM$45,2,FALSE)="","",VLOOKUP($W22,$AJ$20:$AM$45,2,FALSE)) | Y22: =IF(VLOOKUP($W22,$AJ$20:$AM$45,3,FALSE)="","",VLOOKUP($W22,$AJ$20:$AM$45,3,FALSE)) | Z22: =X22&IF(OR(X22="",Y22=""),"",", ")&Y22 | AB22: =IF(AND(AA22<=$AZ$6,AA22>=$BA$6),1,IF(AND(AA22<=$AZ$7,AA22>=$BA$7),2,IF(AND(AA22<=$AZ$8,AA22>=$BA$8),3,IF(AND(AA22<=$AZ$9,AA22>=$BA$9),4,IF(AND(AA22<=$AZ$10,AA22>=$BA$10),5,6))))) -> #N/A | AD22: =IF(X22="","",IF(AF22="JA",IF(AA22="","offen",IF(AB22+AC22>6,6,AB22+AC22)),"-/-")) | AE22: =IF(VLOOKUP($W22,$AJ$20:$AM$45,4,FALSE)="","",VLOOKUP($W22,$AJ$20:$AM$45,4,FALSE)) | AF22: =IF(VLOOKUP($W22,$AJ$20:$AU$45,12,FALSE)="","",VLOOKUP($W22,$AJ$20:$AU$45,12,FALSE)) | AJ22: ="#"&IF(AV22<10,"0","")&AV22&"#" -> #03# | AK22: =IF($D$14='KL01'!$C$4,'KL01'!C11,"")&IF($D$14='KL02'!$C$4,'KL02'!C11,"")&IF($D$14='KL03'!$C$4,'KL03'!C11,"")&IF($D$14='KL04'!$C$4,'KL04'!C11,"")&IF($D$14='KL05'!$C$4,'KL05'!C11,"")&IF($D$14='KL06'!$C$4,'KL06'!C11,"")&IF($D$14='KL07'!$C$4,'KL07'!C11,"")&IF($D$14='KL08'!$C$4,'KL08'!C11,"")&IF($D$14='KL09'!$C$4,'KL09'!C11,"")&IF($D$14='KL10'!$C$4,'KL10'!C11,"")&IF($D$14='KL11'!$C$4,'KL11'!C11,"")&IF($D$14='KL12'!$C$4,'KL12'!C11,"") | AL22: =IF($D$14='KL01'!$C$4,'KL01'!D11,"")&IF($D$14='KL02'!$C$4,'KL02'!D11,"")&IF($D$14='KL03'!$C$4,'KL03'!D11,"")&IF($D$14='KL04'!$C$4,'KL04'!D11,"")&IF($D$14='KL05'!$C$4,'KL05'!D11,"")&IF($D$14='KL06'!$C$4,'KL06'!D11,"")&IF($D$14='KL07'!$C$4,'KL07'!D11,"")&IF($D$14='KL08'!$C$4,'KL08'!D11,"")&IF($D$14='KL09'!$C$4,'KL09'!D11,"")&IF($D$14='KL10'!$C$4,'KL10'!D11,"")&IF($D$14='KL11'!$C$4,'KL11'!D11,"")&IF($D$14='KL12'!$C$4,'KL12'!D11,"") | AM22: =IF($D$14='KL01'!$C$4,'KL01'!E11,"")&IF($D$14='KL02'!$C$4,'KL02'!E11,"")&IF($D$14='KL03'!$C$4,'KL03'!E11,"")&IF($D$14='KL04'!$C$4,'KL04'!E11,"")&IF($D$14='KL05'!$C$4,'KL05'!E11,"")&IF($D$14='KL06'!$C$4,'KL06'!E11,"")&IF($D$14='KL07'!$C$4,'KL07'!E11,"")&IF($D$14='KL08'!$C$4,'KL08'!E11,"")&IF($D$14='KL09'!$C$4,'KL09'!E11,"")&IF($D$14='KL10'!$C$4,'KL10'!E11,"")&IF($D$14='KL11'!$C$4,'KL11'!E11,"")&IF($D$14='KL12'!$C$4,'KL12'!E11,"") | AN22: =IF($D$14='KL01'!$C$4,'KL01'!F11,"")&IF($D$14='KL02'!$C$4,'KL02'!F11,"")&IF($D$14='KL03'!$C$4,'KL03'!F11,"")&IF($D$14='KL04'!$C$4,'KL04'!F11,"")&IF($D$14='KL05'!$C$4,'KL05'!F11,"")&IF($D$14='KL06'!$C$4,'KL06'!F11,"")&IF($D$14='KL07'!$C$4,'KL07'!F11,"")&IF($D$14='KL08'!$C$4,'KL08'!F11,"")&IF($D$14='KL09'!$C$4,'KL09'!F11,"")&IF($D$14='KL10'!$C$4,'KL10'!F11,"")&IF($D$14='KL11'!$C$4,'KL11'!F11,"")&IF($D$14='KL12'!$C$4,'KL12'!F11,"") | AO22: =IF($D$14='KL01'!$C$4,'KL01'!G11,"")&IF($D$14='KL02'!$C$4,'KL02'!G11,"")&IF($D$14='KL03'!$C$4,'KL03'!G11,"")&IF($D$14='KL04'!$C$4,'KL04'!G11,"")&IF($D$14='KL05'!$C$4,'KL05'!G11,"")&IF($D$14='KL06'!$C$4,'KL06'!G11,"")&IF($D$14='KL07'!$C$4,'KL07'!G11,"")&IF($D$14='KL08'!$C$4,'KL08'!G11,"")&IF($D$14='KL09'!$C$4,'KL09'!G11,"")&IF($D$14='KL10'!$C$4,'KL10'!G11,"")&IF($D$14='KL11'!$C$4,'KL11'!G11,"")&IF($D$14='KL12'!$C$4,'KL12'!G11,"") | AP22: =IF($D$14='KL01'!$C$4,'KL01'!H11,"")&IF($D$14='KL02'!$C$4,'KL02'!H11,"")&IF($D$14='KL03'!$C$4,'KL03'!H11,"")&IF($D$14='KL04'!$C$4,'KL04'!H11,"")&IF($D$14='KL05'!$C$4,'KL05'!H11,"")&IF($D$14='KL06'!$C$4,'KL06'!H11,"")&IF($D$14='KL07'!$C$4,'KL07'!H11,"")&IF($D$14='KL08'!$C$4,'KL08'!H11,"")&IF($D$14='KL09'!$C$4,'KL09'!H11,"")&IF($D$14='KL10'!$C$4,'KL10'!H11,"")&IF($D$14='KL11'!$C$4,'KL11'!H11,"")&IF($D$14='KL12'!$C$4,'KL12'!H11,"") | AQ22: =IF($D$14='KL01'!$C$4,'KL01'!I11,"")&IF($D$14='KL02'!$C$4,'KL02'!I11,"")&IF($D$14='KL03'!$C$4,'KL03'!I11,"")&IF($D$14='KL04'!$C$4,'KL04'!I11,"")&IF($D$14='KL05'!$C$4,'KL05'!I11,"")&IF($D$14='KL06'!$C$4,'KL06'!I11,"")&IF($D$14='KL07'!$C$4,'KL07'!I11,"")&IF($D$14='KL08'!$C$4,'KL08'!I11,"")&IF($D$14='KL09'!$C$4,'KL09'!I11,"")&IF($D$14='KL10'!$C$4,'KL10'!I11,"")&IF($D$14='KL11'!$C$4,'KL11'!I11,"")&IF($D$14='KL12'!$C$4,'KL12'!I11,"") | AR22: =IF(AO22="","-/-",$AO$19) -> -/- | AS22: =IF(AP22="","-/-",$AP$19) -> -/- | AT22: =IF(AQ22="","-/-",$AQ$19) -> -/- | AU22: =IF(AK22="","",IF($D$19="","JA",IF($D$19=AR22,"JA",IF($D$19=AS22,"JA",IF($D$19=AT22,"JA",""))))) | AV22: =1+SUMPRODUCT(($AW$20:$AW$45<AW22)+(AW22="")*1000) -> 3 | AW22: =IF(AN22&AK22&AL22="","Z"&IF(AX22<10,"0"&AX22,AX22),AN22&AK22&AL22) -> Z03 | AX22: 3 | AZ22: =AZ13 -> 0
C23: Arbeitstitel: | J23: 6 | L23: =M22-0.001 -> -0.001 | M23: 0 | O23: =P22-IF($E$32="JA",0.5,IF($F$32<0.5,1,IF($F$32<1.5,0.1,IF($F$32<2.5,0.01,0.001)))) -> -1 | P23: =ROUND(($O$9*M23*IF($E$32="JA",2,1)),F37)/IF($E$32="JA",2,1) -> 0 | T23: =IF(X23="",T22,T22+1) -> 1 | U23: =IF(T23=T22,"",T23&".") | V23: 18 | W23: ="#"&IF(V23<10,"0","")&V23&"#" -> #18# | X23: =IF(VLOOKUP($W23,$AJ$20:$AM$45,2,FALSE)="","",VLOOKUP($W23,$AJ$20:$AM$45,2,FALSE)) | Y23: =IF(VLOOKUP($W23,$AJ$20:$AM$45,3,FALSE)="","",VLOOKUP($W23,$AJ$20:$AM$45,3,FALSE)) | Z23: =X23&IF(OR(X23="",Y23=""),"",", ")&Y23 | AB23: =IF(AND(AA23<=$AZ$6,AA23>=$BA$6),1,IF(AND(AA23<=$AZ$7,AA23>=$BA$7),2,IF(AND(AA23<=$AZ$8,AA23>=$BA$8),3,IF(AND(AA23<=$AZ$9,AA23>=$BA$9),4,IF(AND(AA23<=$AZ$10,AA23>=$BA$10),5,6))))) -> #N/A | AD23: =IF(X23="","",IF(AF23="JA",IF(AA23="","offen",IF(AB23+AC23>6,6,AB23+AC23)),"-/-")) | AE23: =IF(VLOOKUP($W23,$AJ$20:$AM$45,4,FALSE)="","",VLOOKUP($W23,$AJ$20:$AM$45,4,FALSE)) | AF23: =IF(VLOOKUP($W23,$AJ$20:$AU$45,12,FALSE)="","",VLOOKUP($W23,$AJ$20:$AU$45,12,FALSE)) | AJ23: ="#"&IF(AV23<10,"0","")&AV23&"#" -> #04# | AK23: =IF($D$14='KL01'!$C$4,'KL01'!C12,"")&IF($D$14='KL02'!$C$4,'KL02'!C12,"")&IF($D$14='KL03'!$C$4,'KL03'!C12,"")&IF($D$14='KL04'!$C$4,'KL04'!C12,"")&IF($D$14='KL05'!$C$4,'KL05'!C12,"")&IF($D$14='KL06'!$C$4,'KL06'!C12,"")&IF($D$14='KL07'!$C$4,'KL07'!C12,"")&IF($D$14='KL08'!$C$4,'KL08'!C12,"")&IF($D$14='KL09'!$C$4,'KL09'!C12,"")&IF($D$14='KL10'!$C$4,'KL10'!C12,"")&IF($D$14='KL11'!$C$4,'KL11'!C12,"")&IF($D$14='KL12'!$C$4,'KL12'!C12,"") | AL23: =IF($D$14='KL01'!$C$4,'KL01'!D12,"")&IF($D$14='KL02'!$C$4,'KL02'!D12,"")&IF($D$14='KL03'!$C$4,'KL03'!D12,"")&IF($D$14='KL04'!$C$4,'KL04'!D12,"")&IF($D$14='KL05'!$C$4,'KL05'!D12,"")&IF($D$14='KL06'!$C$4,'KL06'!D12,"")&IF($D$14='KL07'!$C$4,'KL07'!D12,"")&IF($D$14='KL08'!$C$4,'KL08'!D12,"")&IF($D$14='KL09'!$C$4,'KL09'!D12,"")&IF($D$14='KL10'!$C$4,'KL10'!D12,"")&IF($D$14='KL11'!$C$4,'KL11'!D12,"")&IF($D$14='KL12'!$C$4,'KL12'!D12,"") | AM23: =IF($D$14='KL01'!$C$4,'KL01'!E12,"")&IF($D$14='KL02'!$C$4,'KL02'!E12,"")&IF($D$14='KL03'!$C$4,'KL03'!E12,"")&IF($D$14='KL04'!$C$4,'KL04'!E12,"")&IF($D$14='KL05'!$C$4,'KL05'!E12,"")&IF($D$14='KL06'!$C$4,'KL06'!E12,"")&IF($D$14='KL07'!$C$4,'KL07'!E12,"")&IF($D$14='KL08'!$C$4,'KL08'!E12,"")&IF($D$14='KL09'!$C$4,'KL09'!E12,"")&IF($D$14='KL10'!$C$4,'KL10'!E12,"")&IF($D$14='KL11'!$C$4,'KL11'!E12,"")&IF($D$14='KL12'!$C$4,'KL12'!E12,"") | AN23: =IF($D$14='KL01'!$C$4,'KL01'!F12,"")&IF($D$14='KL02'!$C$4,'KL02'!F12,"")&IF($D$14='KL03'!$C$4,'KL03'!F12,"")&IF($D$14='KL04'!$C$4,'KL04'!F12,"")&IF($D$14='KL05'!$C$4,'KL05'!F12,"")&IF($D$14='KL06'!$C$4,'KL06'!F12,"")&IF($D$14='KL07'!$C$4,'KL07'!F12,"")&IF($D$14='KL08'!$C$4,'KL08'!F12,"")&IF($D$14='KL09'!$C$4,'KL09'!F12,"")&IF($D$14='KL10'!$C$4,'KL10'!F12,"")&IF($D$14='KL11'!$C$4,'KL11'!F12,"")&IF($D$14='KL12'!$C$4,'KL12'!F12,"") | AO23: =IF($D$14='KL01'!$C$4,'KL01'!G12,"")&IF($D$14='KL02'!$C$4,'KL02'!G12,"")&IF($D$14='KL03'!$C$4,'KL03'!G12,"")&IF($D$14='KL04'!$C$4,'KL04'!G12,"")&IF($D$14='KL05'!$C$4,'KL05'!G12,"")&IF($D$14='KL06'!$C$4,'KL06'!G12,"")&IF($D$14='KL07'!$C$4,'KL07'!G12,"")&IF($D$14='KL08'!$C$4,'KL08'!G12,"")&IF($D$14='KL09'!$C$4,'KL09'!G12,"")&IF($D$14='KL10'!$C$4,'KL10'!G12,"")&IF($D$14='KL11'!$C$4,'KL11'!G12,"")&IF($D$14='KL12'!$C$4,'KL12'!G12,"") | AP23: =IF($D$14='KL01'!$C$4,'KL01'!H12,"")&IF($D$14='KL02'!$C$4,'KL02'!H12,"")&IF($D$14='KL03'!$C$4,'KL03'!H12,"")&IF($D$14='KL04'!$C$4,'KL04'!H12,"")&IF($D$14='KL05'!$C$4,'KL05'!H12,"")&IF($D$14='KL06'!$C$4,'KL06'!H12,"")&IF($D$14='KL07'!$C$4,'KL07'!H12,"")&IF($D$14='KL08'!$C$4,'KL08'!H12,"")&IF($D$14='KL09'!$C$4,'KL09'!H12,"")&IF($D$14='KL10'!$C$4,'KL10'!H12,"")&IF($D$14='KL11'!$C$4,'KL11'!H12,"")&IF($D$14='KL12'!$C$4,'KL12'!H12,"") | AQ23: =IF($D$14='KL01'!$C$4,'KL01'!I12,"")&IF($D$14='KL02'!$C$4,'KL02'!I12,"")&IF($D$14='KL03'!$C$4,'KL03'!I12,"")&IF($D$14='KL04'!$C$4,'KL04'!I12,"")&IF($D$14='KL05'!$C$4,'KL05'!I12,"")&IF($D$14='KL06'!$C$4,'KL06'!I12,"")&IF($D$14='KL07'!$C$4,'KL07'!I12,"")&IF($D$14='KL08'!$C$4,'KL08'!I12,"")&IF($D$14='KL09'!$C$4,'KL09'!I12,"")&IF($D$14='KL10'!$C$4,'KL10'!I12,"")&IF($D$14='KL11'!$C$4,'KL11'!I12,"")&IF($D$14='KL12'!$C$4,'KL12'!I12,"") | AR23: =IF(AO23="","-/-",$AO$19) -> -/- | AS23: =IF(AP23="","-/-",$AP$19) -> -/- | AT23: =IF(AQ23="","-/-",$AQ$19) -> -/- | AU23: =IF(AK23="","",IF($D$19="","JA",IF($D$19=AR23,"JA",IF($D$19=AS23,"JA",IF($D$19=AT23,"JA",""))))) | AV23: =1+SUMPRODUCT(($AW$20:$AW$45<AW23)+(AW23="")*1000) -> 4 | AW23: =IF(AN23&AK23&AL23="","Z"&IF(AX23<10,"0"&AX23,AX23),AN23&AK23&AL23) -> Z04 | AX23: 4 | AZ23: =IF(AZ15>9000,"",FIXED(AZ15,$F$32,FALSE)) -> #N/A | BA23: =IF(BA15>9000,"",FIXED(BA15,$F$32,FALSE)) -> #N/A
C24: Thema: | T24: =IF(X24="",T23,T23+1) -> 1 | U24: =IF(T24=T23,"",T24&".") | V24: 19 | W24: ="#"&IF(V24<10,"0","")&V24&"#" -> #19# | X24: =IF(VLOOKUP($W24,$AJ$20:$AM$45,2,FALSE)="","",VLOOKUP($W24,$AJ$20:$AM$45,2,FALSE)) | Y24: =IF(VLOOKUP($W24,$AJ$20:$AM$45,3,FALSE)="","",VLOOKUP($W24,$AJ$20:$AM$45,3,FALSE)) | Z24: =X24&IF(OR(X24="",Y24=""),"",", ")&Y24 | AB24: =IF(AND(AA24<=$AZ$6,AA24>=$BA$6),1,IF(AND(AA24<=$AZ$7,AA24>=$BA$7),2,IF(AND(AA24<=$AZ$8,AA24>=$BA$8),3,IF(AND(AA24<=$AZ$9,AA24>=$BA$9),4,IF(AND(AA24<=$AZ$10,AA24>=$BA$10),5,6))))) -> #N/A | AD24: =IF(X24="","",IF(AF24="JA",IF(AA24="","offen",IF(AB24+AC24>6,6,AB24+AC24)),"-/-")) | AE24: =IF(VLOOKUP($W24,$AJ$20:$AM$45,4,FALSE)="","",VLOOKUP($W24,$AJ$20:$AM$45,4,FALSE)) | AF24: =IF(VLOOKUP($W24,$AJ$20:$AU$45,12,FALSE)="","",VLOOKUP($W24,$AJ$20:$AU$45,12,FALSE)) | AJ24: ="#"&IF(AV24<10,"0","")&AV24&"#" -> #05# | AK24: =IF($D$14='KL01'!$C$4,'KL01'!C13,"")&IF($D$14='KL02'!$C$4,'KL02'!C13,"")&IF($D$14='KL03'!$C$4,'KL03'!C13,"")&IF($D$14='KL04'!$C$4,'KL04'!C13,"")&IF($D$14='KL05'!$C$4,'KL05'!C13,"")&IF($D$14='KL06'!$C$4,'KL06'!C13,"")&IF($D$14='KL07'!$C$4,'KL07'!C13,"")&IF($D$14='KL08'!$C$4,'KL08'!C13,"")&IF($D$14='KL09'!$C$4,'KL09'!C13,"")&IF($D$14='KL10'!$C$4,'KL10'!C13,"")&IF($D$14='KL11'!$C$4,'KL11'!C13,"")&IF($D$14='KL12'!$C$4,'KL12'!C13,"") | AL24: =IF($D$14='KL01'!$C$4,'KL01'!D13,"")&IF($D$14='KL02'!$C$4,'KL02'!D13,"")&IF($D$14='KL03'!$C$4,'KL03'!D13,"")&IF($D$14='KL04'!$C$4,'KL04'!D13,"")&IF($D$14='KL05'!$C$4,'KL05'!D13,"")&IF($D$14='KL06'!$C$4,'KL06'!D13,"")&IF($D$14='KL07'!$C$4,'KL07'!D13,"")&IF($D$14='KL08'!$C$4,'KL08'!D13,"")&IF($D$14='KL09'!$C$4,'KL09'!D13,"")&IF($D$14='KL10'!$C$4,'KL10'!D13,"")&IF($D$14='KL11'!$C$4,'KL11'!D13,"")&IF($D$14='KL12'!$C$4,'KL12'!D13,"") | AM24: =IF($D$14='KL01'!$C$4,'KL01'!E13,"")&IF($D$14='KL02'!$C$4,'KL02'!E13,"")&IF($D$14='KL03'!$C$4,'KL03'!E13,"")&IF($D$14='KL04'!$C$4,'KL04'!E13,"")&IF($D$14='KL05'!$C$4,'KL05'!E13,"")&IF($D$14='KL06'!$C$4,'KL06'!E13,"")&IF($D$14='KL07'!$C$4,'KL07'!E13,"")&IF($D$14='KL08'!$C$4,'KL08'!E13,"")&IF($D$14='KL09'!$C$4,'KL09'!E13,"")&IF($D$14='KL10'!$C$4,'KL10'!E13,"")&IF($D$14='KL11'!$C$4,'KL11'!E13,"")&IF($D$14='KL12'!$C$4,'KL12'!E13,"") | AN24: =IF($D$14='KL01'!$C$4,'KL01'!F13,"")&IF($D$14='KL02'!$C$4,'KL02'!F13,"")&IF($D$14='KL03'!$C$4,'KL03'!F13,"")&IF($D$14='KL04'!$C$4,'KL04'!F13,"")&IF($D$14='KL05'!$C$4,'KL05'!F13,"")&IF($D$14='KL06'!$C$4,'KL06'!F13,"")&IF($D$14='KL07'!$C$4,'KL07'!F13,"")&IF($D$14='KL08'!$C$4,'KL08'!F13,"")&IF($D$14='KL09'!$C$4,'KL09'!F13,"")&IF($D$14='KL10'!$C$4,'KL10'!F13,"")&IF($D$14='KL11'!$C$4,'KL11'!F13,"")&IF($D$14='KL12'!$C$4,'KL12'!F13,"") | AO24: =IF($D$14='KL01'!$C$4,'KL01'!G13,"")&IF($D$14='KL02'!$C$4,'KL02'!G13,"")&IF($D$14='KL03'!$C$4,'KL03'!G13,"")&IF($D$14='KL04'!$C$4,'KL04'!G13,"")&IF($D$14='KL05'!$C$4,'KL05'!G13,"")&IF($D$14='KL06'!$C$4,'KL06'!G13,"")&IF($D$14='KL07'!$C$4,'KL07'!G13,"")&IF($D$14='KL08'!$C$4,'KL08'!G13,"")&IF($D$14='KL09'!$C$4,'KL09'!G13,"")&IF($D$14='KL10'!$C$4,'KL10'!G13,"")&IF($D$14='KL11'!$C$4,'KL11'!G13,"")&IF($D$14='KL12'!$C$4,'KL12'!G13,"") | AP24: =IF($D$14='KL01'!$C$4,'KL01'!H13,"")&IF($D$14='KL02'!$C$4,'KL02'!H13,"")&IF($D$14='KL03'!$C$4,'KL03'!H13,"")&IF($D$14='KL04'!$C$4,'KL04'!H13,"")&IF($D$14='KL05'!$C$4,'KL05'!H13,"")&IF($D$14='KL06'!$C$4,'KL06'!H13,"")&IF($D$14='KL07'!$C$4,'KL07'!H13,"")&IF($D$14='KL08'!$C$4,'KL08'!H13,"")&IF($D$14='KL09'!$C$4,'KL09'!H13,"")&IF($D$14='KL10'!$C$4,'KL10'!H13,"")&IF($D$14='KL11'!$C$4,'KL11'!H13,"")&IF($D$14='KL12'!$C$4,'KL12'!H13,"") | AQ24: =IF($D$14='KL01'!$C$4,'KL01'!I13,"")&IF($D$14='KL02'!$C$4,'KL02'!I13,"")&IF($D$14='KL03'!$C$4,'KL03'!I13,"")&IF($D$14='KL04'!$C$4,'KL04'!I13,"")&IF($D$14='KL05'!$C$4,'KL05'!I13,"")&IF($D$14='KL06'!$C$4,'KL06'!I13,"")&IF($D$14='KL07'!$C$4,'KL07'!I13,"")&IF($D$14='KL08'!$C$4,'KL08'!I13,"")&IF($D$14='KL09'!$C$4,'KL09'!I13,"")&IF($D$14='KL10'!$C$4,'KL10'!I13,"")&IF($D$14='KL11'!$C$4,'KL11'!I13,"")&IF($D$14='KL12'!$C$4,'KL12'!I13,"") | AR24: =IF(AO24="","-/-",$AO$19) -> -/- | AS24: =IF(AP24="","-/-",$AP$19) -> -/- | AT24: =IF(AQ24="","-/-",$AQ$19) -> -/- | AU24: =IF(AK24="","",IF($D$19="","JA",IF($D$19=AR24,"JA",IF($D$19=AS24,"JA",IF($D$19=AT24,"JA",""))))) | AV24: =1+SUMPRODUCT(($AW$20:$AW$45<AW24)+(AW24="")*1000) -> 5 | AW24: =IF(AN24&AK24&AL24="","Z"&IF(AX24<10,"0"&AX24,AX24),AN24&AK24&AL24) -> Z05 | AX24: 5 | AZ24: =IF(AZ16>9000,"",FIXED(AZ16,$F$32,FALSE)) -> #N/A | BA24: =IF(BA16>9000,"",FIXED(BA16,$F$32,FALSE)) -> #N/A
C25: Arbeitszeit: | J25: =IF(OR(M27="",M28="",M29="",M30="",M31=""),"-","x") -> - | L25: Punkte | O25: Fehler | T25: =IF(X25="",T24,T24+1) -> 1 | U25: =IF(T25=T24,"",T25&".") | V25: 20 | W25: ="#"&IF(V25<10,"0","")&V25&"#" -> #20# | X25: =IF(VLOOKUP($W25,$AJ$20:$AM$45,2,FALSE)="","",VLOOKUP($W25,$AJ$20:$AM$45,2,FALSE)) | Y25: =IF(VLOOKUP($W25,$AJ$20:$AM$45,3,FALSE)="","",VLOOKUP($W25,$AJ$20:$AM$45,3,FALSE)) | Z25: =X25&IF(OR(X25="",Y25=""),"",", ")&Y25 | AB25: =IF(AND(AA25<=$AZ$6,AA25>=$BA$6),1,IF(AND(AA25<=$AZ$7,AA25>=$BA$7),2,IF(AND(AA25<=$AZ$8,AA25>=$BA$8),3,IF(AND(AA25<=$AZ$9,AA25>=$BA$9),4,IF(AND(AA25<=$AZ$10,AA25>=$BA$10),5,6))))) -> #N/A | AD25: =IF(X25="","",IF(AF25="JA",IF(AA25="","offen",IF(AB25+AC25>6,6,AB25+AC25)),"-/-")) | AE25: =IF(VLOOKUP($W25,$AJ$20:$AM$45,4,FALSE)="","",VLOOKUP($W25,$AJ$20:$AM$45,4,FALSE)) | AF25: =IF(VLOOKUP($W25,$AJ$20:$AU$45,12,FALSE)="","",VLOOKUP($W25,$AJ$20:$AU$45,12,FALSE)) | AJ25: ="#"&IF(AV25<10,"0","")&AV25&"#" -> #06# | AK25: =IF($D$14='KL01'!$C$4,'KL01'!C14,"")&IF($D$14='KL02'!$C$4,'KL02'!C14,"")&IF($D$14='KL03'!$C$4,'KL03'!C14,"")&IF($D$14='KL04'!$C$4,'KL04'!C14,"")&IF($D$14='KL05'!$C$4,'KL05'!C14,"")&IF($D$14='KL06'!$C$4,'KL06'!C14,"")&IF($D$14='KL07'!$C$4,'KL07'!C14,"")&IF($D$14='KL08'!$C$4,'KL08'!C14,"")&IF($D$14='KL09'!$C$4,'KL09'!C14,"")&IF($D$14='KL10'!$C$4,'KL10'!C14,"")&IF($D$14='KL11'!$C$4,'KL11'!C14,"")&IF($D$14='KL12'!$C$4,'KL12'!C14,"") | AL25: =IF($D$14='KL01'!$C$4,'KL01'!D14,"")&IF($D$14='KL02'!$C$4,'KL02'!D14,"")&IF($D$14='KL03'!$C$4,'KL03'!D14,"")&IF($D$14='KL04'!$C$4,'KL04'!D14,"")&IF($D$14='KL05'!$C$4,'KL05'!D14,"")&IF($D$14='KL06'!$C$4,'KL06'!D14,"")&IF($D$14='KL07'!$C$4,'KL07'!D14,"")&IF($D$14='KL08'!$C$4,'KL08'!D14,"")&IF($D$14='KL09'!$C$4,'KL09'!D14,"")&IF($D$14='KL10'!$C$4,'KL10'!D14,"")&IF($D$14='KL11'!$C$4,'KL11'!D14,"")&IF($D$14='KL12'!$C$4,'KL12'!D14,"") | AM25: =IF($D$14='KL01'!$C$4,'KL01'!E14,"")&IF($D$14='KL02'!$C$4,'KL02'!E14,"")&IF($D$14='KL03'!$C$4,'KL03'!E14,"")&IF($D$14='KL04'!$C$4,'KL04'!E14,"")&IF($D$14='KL05'!$C$4,'KL05'!E14,"")&IF($D$14='KL06'!$C$4,'KL06'!E14,"")&IF($D$14='KL07'!$C$4,'KL07'!E14,"")&IF($D$14='KL08'!$C$4,'KL08'!E14,"")&IF($D$14='KL09'!$C$4,'KL09'!E14,"")&IF($D$14='KL10'!$C$4,'KL10'!E14,"")&IF($D$14='KL11'!$C$4,'KL11'!E14,"")&IF($D$14='KL12'!$C$4,'KL12'!E14,"") | AN25: =IF($D$14='KL01'!$C$4,'KL01'!F14,"")&IF($D$14='KL02'!$C$4,'KL02'!F14,"")&IF($D$14='KL03'!$C$4,'KL03'!F14,"")&IF($D$14='KL04'!$C$4,'KL04'!F14,"")&IF($D$14='KL05'!$C$4,'KL05'!F14,"")&IF($D$14='KL06'!$C$4,'KL06'!F14,"")&IF($D$14='KL07'!$C$4,'KL07'!F14,"")&IF($D$14='KL08'!$C$4,'KL08'!F14,"")&IF($D$14='KL09'!$C$4,'KL09'!F14,"")&IF($D$14='KL10'!$C$4,'KL10'!F14,"")&IF($D$14='KL11'!$C$4,'KL11'!F14,"")&IF($D$14='KL12'!$C$4,'KL12'!F14,"") | AO25: =IF($D$14='KL01'!$C$4,'KL01'!G14,"")&IF($D$14='KL02'!$C$4,'KL02'!G14,"")&IF($D$14='KL03'!$C$4,'KL03'!G14,"")&IF($D$14='KL04'!$C$4,'KL04'!G14,"")&IF($D$14='KL05'!$C$4,'KL05'!G14,"")&IF($D$14='KL06'!$C$4,'KL06'!G14,"")&IF($D$14='KL07'!$C$4,'KL07'!G14,"")&IF($D$14='KL08'!$C$4,'KL08'!G14,"")&IF($D$14='KL09'!$C$4,'KL09'!G14,"")&IF($D$14='KL10'!$C$4,'KL10'!G14,"")&IF($D$14='KL11'!$C$4,'KL11'!G14,"")&IF($D$14='KL12'!$C$4,'KL12'!G14,"") | AP25: =IF($D$14='KL01'!$C$4,'KL01'!H14,"")&IF($D$14='KL02'!$C$4,'KL02'!H14,"")&IF($D$14='KL03'!$C$4,'KL03'!H14,"")&IF($D$14='KL04'!$C$4,'KL04'!H14,"")&IF($D$14='KL05'!$C$4,'KL05'!H14,"")&IF($D$14='KL06'!$C$4,'KL06'!H14,"")&IF($D$14='KL07'!$C$4,'KL07'!H14,"")&IF($D$14='KL08'!$C$4,'KL08'!H14,"")&IF($D$14='KL09'!$C$4,'KL09'!H14,"")&IF($D$14='KL10'!$C$4,'KL10'!H14,"")&IF($D$14='KL11'!$C$4,'KL11'!H14,"")&IF($D$14='KL12'!$C$4,'KL12'!H14,"") | AQ25: =IF($D$14='KL01'!$C$4,'KL01'!I14,"")&IF($D$14='KL02'!$C$4,'KL02'!I14,"")&IF($D$14='KL03'!$C$4,'KL03'!I14,"")&IF($D$14='KL04'!$C$4,'KL04'!I14,"")&IF($D$14='KL05'!$C$4,'KL05'!I14,"")&IF($D$14='KL06'!$C$4,'KL06'!I14,"")&IF($D$14='KL07'!$C$4,'KL07'!I14,"")&IF($D$14='KL08'!$C$4,'KL08'!I14,"")&IF($D$14='KL09'!$C$4,'KL09'!I14,"")&IF($D$14='KL10'!$C$4,'KL10'!I14,"")&IF($D$14='KL11'!$C$4,'KL11'!I14,"")&IF($D$14='KL12'!$C$4,'KL12'!I14,"") | AR25: =IF(AO25="","-/-",$AO$19) -> -/- | AS25: =IF(AP25="","-/-",$AP$19) -> -/- | AT25: =IF(AQ25="","-/-",$AQ$19) -> -/- | AU25: =IF(AK25="","",IF($D$19="","JA",IF($D$19=AR25,"JA",IF($D$19=AS25,"JA",IF($D$19=AT25,"JA",""))))) | AV25: =1+SUMPRODUCT(($AW$20:$AW$45<AW25)+(AW25="")*1000) -> 6 | AW25: =IF(AN25&AK25&AL25="","Z"&IF(AX25<10,"0"&AX25,AX25),AN25&AK25&AL25) -> Z06 | AX25: 6 | AZ25: =IF(AZ17>9000,"",FIXED(AZ17,$F$32,FALSE)) -> #N/A | BA25: =IF(BA17>9000,"",FIXED(BA17,$F$32,FALSE)) -> #N/A
J26: Note | L26: kleiner gleich | M26: größer gleich | O26: kleiner gleich | P26: größer gleich | T26: =IF(X26="",T25,T25+1) -> 1 | U26: =IF(T26=T25,"",T26&".") | V26: 21 | W26: ="#"&IF(V26<10,"0","")&V26&"#" -> #21# | X26: =IF(VLOOKUP($W26,$AJ$20:$AM$45,2,FALSE)="","",VLOOKUP($W26,$AJ$20:$AM$45,2,FALSE)) | Y26: =IF(VLOOKUP($W26,$AJ$20:$AM$45,3,FALSE)="","",VLOOKUP($W26,$AJ$20:$AM$45,3,FALSE)) | Z26: =X26&IF(OR(X26="",Y26=""),"",", ")&Y26 | AB26: =IF(AND(AA26<=$AZ$6,AA26>=$BA$6),1,IF(AND(AA26<=$AZ$7,AA26>=$BA$7),2,IF(AND(AA26<=$AZ$8,AA26>=$BA$8),3,IF(AND(AA26<=$AZ$9,AA26>=$BA$9),4,IF(AND(AA26<=$AZ$10,AA26>=$BA$10),5,6))))) -> #N/A | AD26: =IF(X26="","",IF(AF26="JA",IF(AA26="","offen",IF(AB26+AC26>6,6,AB26+AC26)),"-/-")) | AE26: =IF(VLOOKUP($W26,$AJ$20:$AM$45,4,FALSE)="","",VLOOKUP($W26,$AJ$20:$AM$45,4,FALSE)) | AF26: =IF(VLOOKUP($W26,$AJ$20:$AU$45,12,FALSE)="","",VLOOKUP($W26,$AJ$20:$AU$45,12,FALSE)) | AJ26: ="#"&IF(AV26<10,"0","")&AV26&"#" -> #07# | AK26: =IF($D$14='KL01'!$C$4,'KL01'!C15,"")&IF($D$14='KL02'!$C$4,'KL02'!C15,"")&IF($D$14='KL03'!$C$4,'KL03'!C15,"")&IF($D$14='KL04'!$C$4,'KL04'!C15,"")&IF($D$14='KL05'!$C$4,'KL05'!C15,"")&IF($D$14='KL06'!$C$4,'KL06'!C15,"")&IF($D$14='KL07'!$C$4,'KL07'!C15,"")&IF($D$14='KL08'!$C$4,'KL08'!C15,"")&IF($D$14='KL09'!$C$4,'KL09'!C15,"")&IF($D$14='KL10'!$C$4,'KL10'!C15,"")&IF($D$14='KL11'!$C$4,'KL11'!C15,"")&IF($D$14='KL12'!$C$4,'KL12'!C15,"") | AL26: =IF($D$14='KL01'!$C$4,'KL01'!D15,"")&IF($D$14='KL02'!$C$4,'KL02'!D15,"")&IF($D$14='KL03'!$C$4,'KL03'!D15,"")&IF($D$14='KL04'!$C$4,'KL04'!D15,"")&IF($D$14='KL05'!$C$4,'KL05'!D15,"")&IF($D$14='KL06'!$C$4,'KL06'!D15,"")&IF($D$14='KL07'!$C$4,'KL07'!D15,"")&IF($D$14='KL08'!$C$4,'KL08'!D15,"")&IF($D$14='KL09'!$C$4,'KL09'!D15,"")&IF($D$14='KL10'!$C$4,'KL10'!D15,"")&IF($D$14='KL11'!$C$4,'KL11'!D15,"")&IF($D$14='KL12'!$C$4,'KL12'!D15,"") | AM26: =IF($D$14='KL01'!$C$4,'KL01'!E15,"")&IF($D$14='KL02'!$C$4,'KL02'!E15,"")&IF($D$14='KL03'!$C$4,'KL03'!E15,"")&IF($D$14='KL04'!$C$4,'KL04'!E15,"")&IF($D$14='KL05'!$C$4,'KL05'!E15,"")&IF($D$14='KL06'!$C$4,'KL06'!E15,"")&IF($D$14='KL07'!$C$4,'KL07'!E15,"")&IF($D$14='KL08'!$C$4,'KL08'!E15,"")&IF($D$14='KL09'!$C$4,'KL09'!E15,"")&IF($D$14='KL10'!$C$4,'KL10'!E15,"")&IF($D$14='KL11'!$C$4,'KL11'!E15,"")&IF($D$14='KL12'!$C$4,'KL12'!E15,"") | AN26: =IF($D$14='KL01'!$C$4,'KL01'!F15,"")&IF($D$14='KL02'!$C$4,'KL02'!F15,"")&IF($D$14='KL03'!$C$4,'KL03'!F15,"")&IF($D$14='KL04'!$C$4,'KL04'!F15,"")&IF($D$14='KL05'!$C$4,'KL05'!F15,"")&IF($D$14='KL06'!$C$4,'KL06'!F15,"")&IF($D$14='KL07'!$C$4,'KL07'!F15,"")&IF($D$14='KL08'!$C$4,'KL08'!F15,"")&IF($D$14='KL09'!$C$4,'KL09'!F15,"")&IF($D$14='KL10'!$C$4,'KL10'!F15,"")&IF($D$14='KL11'!$C$4,'KL11'!F15,"")&IF($D$14='KL12'!$C$4,'KL12'!F15,"") | AO26: =IF($D$14='KL01'!$C$4,'KL01'!G15,"")&IF($D$14='KL02'!$C$4,'KL02'!G15,"")&IF($D$14='KL03'!$C$4,'KL03'!G15,"")&IF($D$14='KL04'!$C$4,'KL04'!G15,"")&IF($D$14='KL05'!$C$4,'KL05'!G15,"")&IF($D$14='KL06'!$C$4,'KL06'!G15,"")&IF($D$14='KL07'!$C$4,'KL07'!G15,"")&IF($D$14='KL08'!$C$4,'KL08'!G15,"")&IF($D$14='KL09'!$C$4,'KL09'!G15,"")&IF($D$14='KL10'!$C$4,'KL10'!G15,"")&IF($D$14='KL11'!$C$4,'KL11'!G15,"")&IF($D$14='KL12'!$C$4,'KL12'!G15,"") | AP26: =IF($D$14='KL01'!$C$4,'KL01'!H15,"")&IF($D$14='KL02'!$C$4,'KL02'!H15,"")&IF($D$14='KL03'!$C$4,'KL03'!H15,"")&IF($D$14='KL04'!$C$4,'KL04'!H15,"")&IF($D$14='KL05'!$C$4,'KL05'!H15,"")&IF($D$14='KL06'!$C$4,'KL06'!H15,"")&IF($D$14='KL07'!$C$4,'KL07'!H15,"")&IF($D$14='KL08'!$C$4,'KL08'!H15,"")&IF($D$14='KL09'!$C$4,'KL09'!H15,"")&IF($D$14='KL10'!$C$4,'KL10'!H15,"")&IF($D$14='KL11'!$C$4,'KL11'!H15,"")&IF($D$14='KL12'!$C$4,'KL12'!H15,"") | AQ26: =IF($D$14='KL01'!$C$4,'KL01'!I15,"")&IF($D$14='KL02'!$C$4,'KL02'!I15,"")&IF($D$14='KL03'!$C$4,'KL03'!I15,"")&IF($D$14='KL04'!$C$4,'KL04'!I15,"")&IF($D$14='KL05'!$C$4,'KL05'!I15,"")&IF($D$14='KL06'!$C$4,'KL06'!I15,"")&IF($D$14='KL07'!$C$4,'KL07'!I15,"")&IF($D$14='KL08'!$C$4,'KL08'!I15,"")&IF($D$14='KL09'!$C$4,'KL09'!I15,"")&IF($D$14='KL10'!$C$4,'KL10'!I15,"")&IF($D$14='KL11'!$C$4,'KL11'!I15,"")&IF($D$14='KL12'!$C$4,'KL12'!I15,"") | AR26: =IF(AO26="","-/-",$AO$19) -> -/- | AS26: =IF(AP26="","-/-",$AP$19) -> -/- | AT26: =IF(AQ26="","-/-",$AQ$19) -> -/- | AU26: =IF(AK26="","",IF($D$19="","JA",IF($D$19=AR26,"JA",IF($D$19=AS26,"JA",IF($D$19=AT26,"JA",""))))) | AV26: =1+SUMPRODUCT(($AW$20:$AW$45<AW26)+(AW26="")*1000) -> 7 | AW26: =IF(AN26&AK26&AL26="","Z"&IF(AX26<10,"0"&AX26,AX26),AN26&AK26&AL26) -> Z07 | AX26: 7 | AZ26: =IF(AZ18>9000,"",FIXED(AZ18,$F$32,FALSE)) -> #N/A | BA26: =IF(BA18>9000,"",FIXED(BA18,$F$32,FALSE)) -> #N/A
D27: Punkte | E27: Meter | F27: =IF(L58="","-/-",L58) -> -/- | J27: 1 | L27: =O5 -> 100 | P27: 0 | T27: =IF(X27="",T26,T26+1) -> 1 | U27: =IF(T27=T26,"",T27&".") | V27: 22 | W27: ="#"&IF(V27<10,"0","")&V27&"#" -> #22# | X27: =IF(VLOOKUP($W27,$AJ$20:$AM$45,2,FALSE)="","",VLOOKUP($W27,$AJ$20:$AM$45,2,FALSE)) | Y27: =IF(VLOOKUP($W27,$AJ$20:$AM$45,3,FALSE)="","",VLOOKUP($W27,$AJ$20:$AM$45,3,FALSE)) | Z27: =X27&IF(OR(X27="",Y27=""),"",", ")&Y27 | AB27: =IF(AND(AA27<=$AZ$6,AA27>=$BA$6),1,IF(AND(AA27<=$AZ$7,AA27>=$BA$7),2,IF(AND(AA27<=$AZ$8,AA27>=$BA$8),3,IF(AND(AA27<=$AZ$9,AA27>=$BA$9),4,IF(AND(AA27<=$AZ$10,AA27>=$BA$10),5,6))))) -> #N/A | AD27: =IF(X27="","",IF(AF27="JA",IF(AA27="","offen",IF(AB27+AC27>6,6,AB27+AC27)),"-/-")) | AE27: =IF(VLOOKUP($W27,$AJ$20:$AM$45,4,FALSE)="","",VLOOKUP($W27,$AJ$20:$AM$45,4,FALSE)) | AF27: =IF(VLOOKUP($W27,$AJ$20:$AU$45,12,FALSE)="","",VLOOKUP($W27,$AJ$20:$AU$45,12,FALSE)) | AJ27: ="#"&IF(AV27<10,"0","")&AV27&"#" -> #08# | AK27: =IF($D$14='KL01'!$C$4,'KL01'!C16,"")&IF($D$14='KL02'!$C$4,'KL02'!C16,"")&IF($D$14='KL03'!$C$4,'KL03'!C16,"")&IF($D$14='KL04'!$C$4,'KL04'!C16,"")&IF($D$14='KL05'!$C$4,'KL05'!C16,"")&IF($D$14='KL06'!$C$4,'KL06'!C16,"")&IF($D$14='KL07'!$C$4,'KL07'!C16,"")&IF($D$14='KL08'!$C$4,'KL08'!C16,"")&IF($D$14='KL09'!$C$4,'KL09'!C16,"")&IF($D$14='KL10'!$C$4,'KL10'!C16,"")&IF($D$14='KL11'!$C$4,'KL11'!C16,"")&IF($D$14='KL12'!$C$4,'KL12'!C16,"") | AL27: =IF($D$14='KL01'!$C$4,'KL01'!D16,"")&IF($D$14='KL02'!$C$4,'KL02'!D16,"")&IF($D$14='KL03'!$C$4,'KL03'!D16,"")&IF($D$14='KL04'!$C$4,'KL04'!D16,"")&IF($D$14='KL05'!$C$4,'KL05'!D16,"")&IF($D$14='KL06'!$C$4,'KL06'!D16,"")&IF($D$14='KL07'!$C$4,'KL07'!D16,"")&IF($D$14='KL08'!$C$4,'KL08'!D16,"")&IF($D$14='KL09'!$C$4,'KL09'!D16,"")&IF($D$14='KL10'!$C$4,'KL10'!D16,"")&IF($D$14='KL11'!$C$4,'KL11'!D16,"")&IF($D$14='KL12'!$C$4,'KL12'!D16,"") | AM27: =IF($D$14='KL01'!$C$4,'KL01'!E16,"")&IF($D$14='KL02'!$C$4,'KL02'!E16,"")&IF($D$14='KL03'!$C$4,'KL03'!E16,"")&IF($D$14='KL04'!$C$4,'KL04'!E16,"")&IF($D$14='KL05'!$C$4,'KL05'!E16,"")&IF($D$14='KL06'!$C$4,'KL06'!E16,"")&IF($D$14='KL07'!$C$4,'KL07'!E16,"")&IF($D$14='KL08'!$C$4,'KL08'!E16,"")&IF($D$14='KL09'!$C$4,'KL09'!E16,"")&IF($D$14='KL10'!$C$4,'KL10'!E16,"")&IF($D$14='KL11'!$C$4,'KL11'!E16,"")&IF($D$14='KL12'!$C$4,'KL12'!E16,"") | AN27: =IF($D$14='KL01'!$C$4,'KL01'!F16,"")&IF($D$14='KL02'!$C$4,'KL02'!F16,"")&IF($D$14='KL03'!$C$4,'KL03'!F16,"")&IF($D$14='KL04'!$C$4,'KL04'!F16,"")&IF($D$14='KL05'!$C$4,'KL05'!F16,"")&IF($D$14='KL06'!$C$4,'KL06'!F16,"")&IF($D$14='KL07'!$C$4,'KL07'!F16,"")&IF($D$14='KL08'!$C$4,'KL08'!F16,"")&IF($D$14='KL09'!$C$4,'KL09'!F16,"")&IF($D$14='KL10'!$C$4,'KL10'!F16,"")&IF($D$14='KL11'!$C$4,'KL11'!F16,"")&IF($D$14='KL12'!$C$4,'KL12'!F16,"") | AO27: =IF($D$14='KL01'!$C$4,'KL01'!G16,"")&IF($D$14='KL02'!$C$4,'KL02'!G16,"")&IF($D$14='KL03'!$C$4,'KL03'!G16,"")&IF($D$14='KL04'!$C$4,'KL04'!G16,"")&IF($D$14='KL05'!$C$4,'KL05'!G16,"")&IF($D$14='KL06'!$C$4,'KL06'!G16,"")&IF($D$14='KL07'!$C$4,'KL07'!G16,"")&IF($D$14='KL08'!$C$4,'KL08'!G16,"")&IF($D$14='KL09'!$C$4,'KL09'!G16,"")&IF($D$14='KL10'!$C$4,'KL10'!G16,"")&IF($D$14='KL11'!$C$4,'KL11'!G16,"")&IF($D$14='KL12'!$C$4,'KL12'!G16,"") | AP27: =IF($D$14='KL01'!$C$4,'KL01'!H16,"")&IF($D$14='KL02'!$C$4,'KL02'!H16,"")&IF($D$14='KL03'!$C$4,'KL03'!H16,"")&IF($D$14='KL04'!$C$4,'KL04'!H16,"")&IF($D$14='KL05'!$C$4,'KL05'!H16,"")&IF($D$14='KL06'!$C$4,'KL06'!H16,"")&IF($D$14='KL07'!$C$4,'KL07'!H16,"")&IF($D$14='KL08'!$C$4,'KL08'!H16,"")&IF($D$14='KL09'!$C$4,'KL09'!H16,"")&IF($D$14='KL10'!$C$4,'KL10'!H16,"")&IF($D$14='KL11'!$C$4,'KL11'!H16,"")&IF($D$14='KL12'!$C$4,'KL12'!H16,"") | AQ27: =IF($D$14='KL01'!$C$4,'KL01'!I16,"")&IF($D$14='KL02'!$C$4,'KL02'!I16,"")&IF($D$14='KL03'!$C$4,'KL03'!I16,"")&IF($D$14='KL04'!$C$4,'KL04'!I16,"")&IF($D$14='KL05'!$C$4,'KL05'!I16,"")&IF($D$14='KL06'!$C$4,'KL06'!I16,"")&IF($D$14='KL07'!$C$4,'KL07'!I16,"")&IF($D$14='KL08'!$C$4,'KL08'!I16,"")&IF($D$14='KL09'!$C$4,'KL09'!I16,"")&IF($D$14='KL10'!$C$4,'KL10'!I16,"")&IF($D$14='KL11'!$C$4,'KL11'!I16,"")&IF($D$14='KL12'!$C$4,'KL12'!I16,"") | AR27: =IF(AO27="","-/-",$AO$19) -> -/- | AS27: =IF(AP27="","-/-",$AP$19) -> -/- | AT27: =IF(AQ27="","-/-",$AQ$19) -> -/- | AU27: =IF(AK27="","",IF($D$19="","JA",IF($D$19=AR27,"JA",IF($D$19=AS27,"JA",IF($D$19=AT27,"JA",""))))) | AV27: =1+SUMPRODUCT(($AW$20:$AW$45<AW27)+(AW27="")*1000) -> 8 | AW27: =IF(AN27&AK27&AL27="","Z"&IF(AX27<10,"0"&AX27,AX27),AN27&AK27&AL27) -> Z08 | AX27: 8 | AZ27: =IF(AZ19>9000,"",FIXED(AZ19,$F$32,FALSE)) -> #N/A | BA27: =IF(BA19>9000,"",FIXED(BA19,$F$32,FALSE)) -> #N/A
