Workbook

Sheet Eingabe
C2: Beschreibung der Arbeit | J2: Bewertungsschlüssel | T2: Klassenliste
BD3: 1 | BF3: 2 | BH3: 3 | BJ3: 4 | BL3: 5 | BN3: 6
AJ4: Klassen | AZ4: =D31 -> 0 | BC4: Bewertung | BD4: <= | BE4: >= | BF4: <= | BG4: >= | BH4: <= | BI4: >= | BJ4: <= | BK4: >= | BL4: <= | BM4: >= | BN4: <= | BO4: >=
C5: Schuljahr: | D5: 2011/2012 | L5: Gesamtpunktzahl: | O5: 100 | P5: =IF(O5<20,"zu wenig!","") | T5: Zahl | U5: Nr. | V5: Zahl | W5: Nr-Sverweis | X5: Nachname | Y5: Vorname | Z5: Name | AA5: =AZ4 -> 0 | AB5: Note | AC5: ="+" -> + | AD5: Note | AE5: Bemerkung | AF5: Gruppe | AJ5: Kürzel | AK5: Klasse | AL5: Klassenleiter | AM5: Schule | AZ5: kleiner gleich | BA5: größer gleich | BC5: Punkte | BD5: =AZ33 -> 100 | BE5: =BA33 -> 90 | BF5: =AZ34 -> 89 | BG5: =BA34 -> 80 | BH5: =AZ35 -> 79 | BI5: =BA35 -> 65 | BJ5: =AZ36 -> 64 | BK5: =BA36 -> 50 | BL5: =AZ37 -> 49 | BM5: =BA37 -> 30 | BN5: =AZ38 -> 29 | BO5: =BA38 -> 0
T6: 1 | U6: =IF(T6=T5,"",T6&".") -> 1. | V6: 1 | W6: ="#"&IF(V6<10,"0","")&V6&"#" -> #01# | X6: =IF(VLOOKUP($W6,$AJ$20:$AM$45,2,FALSE)="","",VLOOKUP($W6,$AJ$20:$AM$45,2,FALSE)) | Y6: =IF(VLOOKUP($W6,$AJ$20:$AM$45,3,FALSE)="","",VLOOKUP($W6,$AJ$20:$AM$45,3,FALSE)) | Z6: =X6&IF(OR(X6="",Y6=""),"",", ")&Y6 | AB6: =IF(AND(AA6<=$AZ$6,AA6>=$BA$6),1,IF(AND(AA6<=$AZ$7,AA6>=$BA$7),2,IF(AND(AA6<=$AZ$8,AA6>=$BA$8),3,IF(AND(AA6<=$AZ$9,AA6>=$BA$9),4,IF(AND(AA6<=$AZ$10,AA6>=$BA$10),5,6))))) -> #N/A | AD6: =IF(X6="","",IF(AF6="JA",IF(AA6="","offen",IF(AB6+AC6>6,6,AB6+AC6)),"-/-")) | AE6: =IF(VLOOKUP($W6,$AJ$20:$AM$45,4,FALSE)="","",VLOOKUP($W6,$AJ$20:$AM$45,4,FALSE)) | AF6: =IF(VLOOKUP($W6,$AJ$20:$AU$45,12,FALSE)="","",VLOOKUP($W6,$AJ$20:$AU$45,12,FALSE)) | AJ6: ='KL01'!$C$4 -> 0 | AK6: ='KL01'!$C$6 -> 0 | AL6: ='KL01'!$D$6 -> 0 | AM6: ='KL01'!$D$4 -> 0 | AZ6: =VLOOKUP($AZ$4,$BC$5:$BO$14,2,FALSE) -> #N/A | BA6: =VLOOKUP($AZ$4,$BC$5:$BO$14,3,FALSE) -> #N/A | BC6: Prozent | BD6: =AZ42*100 -> 100 | BE6: =BA42*100 -> 90 | BF6: =AZ43*100 -> 89.9 | BG6: =BA43*100 -> 80 | BH6: =AZ44*100 -> 79.9 | BI6: =BA44*100 -> 65 | BJ6: =AZ45*100 -> 64.9 | BK6: =BA45*100 -> 50 | BL6: =AZ46*100 -> 49.9 | BM6: =BA46*100 -> 30 | BN6: =AZ47*100 -> 29.9 | BO6: =BA47*100 -> 0
C7: Fachlehrer: | J7: =IF(OR(J25="x",J16="x"),"-","x") -> x | L7: Prozent | O7: à Punkte | T7: =IF(X7="",T6,T6+1) -> 1 | U7: =IF(T7=T6,"",T7&".") | V7: 2 | W7: ="#"&IF(V7<10,"0","")&V7&"#" -> #02# | X7: =IF(VLOOKUP($W7,$AJ$20:$AM$45,2,FALSE)="","",VLOOKUP($W7,$AJ$20:$AM$45,2,FALSE)) | Y7: =IF(VLOOKUP($W7,$AJ$20:$AM$45,3,FALSE)="","",VLOOKUP($W7,$AJ$20:$AM$45,3,FALSE)) | Z7: =X7&IF(OR(X7="",Y7=""),"",", ")&Y7 | AB7: =IF(AND(AA7<=$AZ$6,AA7>=$BA$6),1,IF(AND(AA7<=$AZ$7,AA7>=$BA$7),2,IF(AND(AA7<=$AZ$8,AA7>=$BA$8),3,IF(AND(AA7<=$AZ$9,AA7>=$BA$9),4,IF(AND(AA7<=$AZ$10,AA7>=$BA$10),5,6))))) -> #N/A | AD7: =IF(X7="","",IF(AF7="JA",IF(AA7="","offen",IF(AB7+AC7>6,6,AB7+AC7)),"-/-")) | AE7: =IF(VLOOKUP($W7,$AJ$20:$AM$45,4,FALSE)="","",VLOOKUP($W7,$AJ$20:$AM$45,4,FALSE)) | AF7: =IF(VLOOKUP($W7,$AJ$20:$AU$45,12,FALSE)="","",VLOOKUP($W7,$AJ$20:$AU$45,12,FALSE)) | AJ7: ='KL02'!$C$4 -> 0 | AK7: ='KL02'!$C$6 -> 0 | AL7: ='KL02'!$D$6 -> 0 | AM7: ='KL02'!$D$4 -> 0 | AZ7: =VLOOKUP($AZ$4,$BC$5:$BO$14,4,FALSE) -> #N/A | BA7: =VLOOKUP($AZ$4,$BC$5:$BO$14,5,FALSE) -> #N/A | BC7: Fehler | BD7: =O27 -> 0 | BE7: =P27 -> 0 | BF7: =O28 -> 0 | BG7: =P28 -> 1 | BH7: =O29 -> 0 | BI7: =P29 -> 1 | BJ7: =O30 -> 0 | BK7: =P30 -> 1 | BL7: =O31 -> 0 | BM7: =P31 -> 1 | BN7: =O32 -> 99999.9 | BO7: =P32 -> 1
C8: Fach: | J8: Note | L8: kleiner gleich | M8: größer gleich | O8: kleiner gleich | P8: größer gleich | T8: =IF(X8="",T7,T7+1) -> 1 | U8: =IF(T8=T7,"",T8&".") | V8: 3 | W8: ="#"&IF(V8<10,"0","")&V8&"#" -> #03# | X8: =IF(VLOOKUP($W8,$AJ$20:$AM$45,2,FALSE)="","",VLOOKUP($W8,$AJ$20:$AM$45,2,FALSE)) | Y8: =IF(VLOOKUP($W8,$AJ$20:$AM$45,3,FALSE)="","",VLOOKUP($W8,$AJ$20:$AM$45,3,FALSE)) | Z8: =X8&IF(OR(X8="",Y8=""),"",", ")&Y8 | AB8: =IF(AND(AA8<=$AZ$6,AA8>=$BA$6),1,IF(AND(AA8<=$AZ$7,AA8>=$BA$7),2,IF(AND(AA8<=$AZ$8,AA8>=$BA$8),3,IF(AND(AA8<=$AZ$9,AA8>=$BA$9),4,IF(AND(AA8<=$AZ$10,AA8>=$BA$10),5,6))))) -> #N/A | AD8: =IF(X8="","",IF(AF8="JA",IF(AA8="","offen",IF(AB8+AC8>6,6,AB8+AC8)),"-/-")) | AE8: =IF(VLOOKUP($W8,$AJ$20:$AM$45,4,FALSE)="","",VLOOKUP($W8,$AJ$20:$AM$45,4,FALSE)) | AF8: =IF(VLOOKUP($W8,$AJ$20:$AU$45,12,FALSE)="","",VLOOKUP($W8,$AJ$20:$AU$45,12,FALSE)) | AJ8: ='KL03'!$C$4 -> 0 | AK8: ='KL03'!$C$6 -> 0 | AL8: ='KL03'!$D$6 -> 0 | AM8: ='KL03'!$D$4 -> 0 | AZ8: =VLOOKUP($AZ$4,$BC$5:$BO$14,6,FALSE) -> #N/A | BA8: =VLOOKUP($AZ$4,$BC$5:$BO$14,7,FALSE) -> #N/A | BC8: Sekunden | BD8: =L38 -> 0 | BE8: =M38 -> 0 | BF8: =L39 -> 0 | BG8: =M39 -> 1 | BH8: =L40 -> 0 | BI8: =M40 -> 1 | BJ8: =L41 -> 0 | BK8: =M41 -> 1 | BL8: =L42 -> 0 | BM8: =M42 -> 1 | BN8: =L43 -> 99999.999 | BO8: =M43 -> 1
J9: 1 | L9: 1 | M9: 0.9 | O9: =O5 -> 100 | P9: =IF($E$32="JA",ROUND($O$9*M9*2,0)/2,ROUND($O$9*M9,$F$32)) -> 90 | T9: =IF(X9="",T8,T8+1) -> 1 | U9: =IF(T9=T8,"",T9&".") | V9: 4 | W9: ="#"&IF(V9<10,"0","")&V9&"#" -> #04# | X9: =IF(VLOOKUP($W9,$AJ$20:$AM$45,2,FALSE)="","",VLOOKUP($W9,$AJ$20:$AM$45,2,FALSE)) | Y9: =IF(VLOOKUP($W9,$AJ$20:$AM$45,3,FALSE)="","",VLOOKUP($W9,$AJ$20:$AM$45,3,FALSE)) | Z9: =X9&IF(OR(X9="",Y9=""),"",", ")&Y9 | AB9: =IF(AND(AA9<=$AZ$6,AA9>=$BA$6),1,IF(AND(AA9<=$AZ$7,AA9>=$BA$7),2,IF(AND(AA9<=$AZ$8,AA9>=$BA$8),3,IF(AND(AA9<=$AZ$9,AA9>=$BA$9),4,IF(AND(AA9<=$AZ$10,AA9>=$BA$10),5,6))))) -> #N/A | AD9: =IF(X9="","",IF(AF9="JA",IF(AA9="","offen",IF(AB9+AC9>6,6,AB9+AC9)),"-/-")) | AE9: =IF(VLOOKUP($W9,$AJ$20:$AM$45,4,FALSE)="","",VLOOKUP($W9,$AJ$20:$AM$45,4,FALSE)) | AF9: =IF(VLOOKUP($W9,$AJ$20:$AU$45,12,FALSE)="","",VLOOKUP($W9,$AJ$20:$AU$45,12,FALSE)) | AJ9: ='KL04'!$C$4 -> 0 | AK9: ='KL04'!$C$6 -> 0 | AL9: ='KL04'!$D$6 -> 0 | AM9: ='KL04'!$D$4 -> 0 | AZ9: =VLOOKUP($AZ$4,$BC$5:$BO$14,8,FALSE) -> #N/A | BA9: =VLOOKUP($AZ$4,$BC$5:$BO$14,9,FALSE) -> #N/A | BC9: Meter | BD9: =O38 -> 99999.999 | BE9: =P38 -> 0 | BF9: =O39 -> -1 | BG9: =P39 -> 0 | BH9: =O40 -> -1 | BI9: =P40 -> 0 | BJ9: =O41 -> -1 | BK9: =P41 -> 0 | BL9: =O42 -> -1 | BM9: =P42 -> 0 | BN9: =O43 -> -1 | BO9: =P43 -> 0
C10: Klassen: | D10: =IF(AJ6=0,"-/-",AJ6) -> -/- | E10: =IF(AJ10=0,"-/-",AJ10) -> -/- | F10: =IF(AJ14=0,"-/-",AJ14) -> -/- | J10: 2 | L10: =M9-0.001 -> 0.899 | M10: 0.8 | O10: =P9-IF($E$32="JA",0.5,IF($F$32<0.5,1,IF($F$32<1.5,0.1,IF($F$32<2.5,0.01,0.001)))) -> 89 | P10: =IF($E$32="JA",ROUND($O$9*M10*2,0)/2,ROUND($O$9*M10,$F$32)) -> 80 | T10: =IF(X10="",T9,T9+1) -> 1 | U10: =IF(T10=T9,"",T10&".") | V10: 5 | W10: ="#"&IF(V10<10,"0","")&V10&"#" -> #05# | X10: =IF(VLOOKUP($W10,$AJ$20:$AM$45,2,FALSE)="","",VLOOKUP($W10,$AJ$20:$AM$45,2,FALSE)) | Y10: =IF(VLOOKUP($W10,$AJ$20:$AM$45,3,FALSE)="","",VLOOKUP($W10,$AJ$20:$AM$45,3,FALSE)) | Z10: =X10&IF(OR(X10="",Y10=""),"",", ")&Y10 | AB10: =IF(AND(AA10<=$AZ$6,AA10>=$BA$6),1,IF(AND(AA10<=$AZ$7,AA10>=$BA$7),2,IF(AND(AA10<=$AZ$8,AA10>=$BA$8),3,IF(AND(AA10<=$AZ$9,AA10>=$BA$9),4,IF(AND(AA10<=$AZ$10,AA10>=$BA$10),5,6))))) -> #N/A | AD10: =IF(X10="","",IF(AF10="JA",IF(AA10="","offen",IF(AB10+AC10>6,6,AB10+AC10)),"-/-")) | AE10: =IF(VLOOKUP($W10,$AJ$20:$AM$45,4,FALSE)="","",VLOOKUP($W10,$AJ$20:$AM$45,4,FALSE)) | AF10: =IF(VLOOKUP($W10,$AJ$20:$AU$45,12,FALSE)="","",VLOOKUP($W10,$AJ$20:$AU$45,12,FALSE)) | AJ10: ='KL05'!$C$4 -> 0 | AK10: ='KL05'!$C$6 -> 0 | AL10: ='KL05'!$D$6 -> 0 | AM10: ='KL05'!$D$4 -> 0 | AZ10: =VLOOKUP($AZ$4,$BC$5:$BO$14,10,FALSE) -> #N/A | BA10: =VLOOKUP($AZ$4,$BC$5:$BO$14,11,FALSE) -> #N/A | BC10: Fehlerprozent | BD10: =L49 -> 0 | BE10: =M49 -> 0 | BF10: =L50 -> 0 | BG10: =M50 -> 1 | BH10: =L51 -> 0 | BI10: =M51 -> 1 | BJ10: =L52 -> 0 | BK10: =M52 -> 1 | BL10: =L53 -> 0 | BM10: =M53 -> 1 | BN10: =L54 -> 99999.999 | BO10: =M54 -> 1
D11: =IF(AJ7=0,"-/-",AJ7) -> -/- | E11: =IF(AJ11=0,"-/-",AJ11) -> -/- | F11: =IF(AJ15=0,"-/-",AJ15) -> -/- | J11: 3 | L11: =M10-0.001 -> 0.799 | M11: 0.65 | O11: =P10-IF($E$32="JA",0.5,IF($F$32<0.5,1,IF($F$32<1.5,0.1,IF($F$32<2.5,0.01,0.001)))) -> 79 | P11: =IF($E$32="JA",ROUND($O$9*M11*2,0)/2,ROUND($O$9*M11,$F$32)) -> 65 | T11: =IF(X11="",T10,T10+1) -> 1 | U11: =IF(T11=T10,"",T11&".") | V11: 6 | W11: ="#"&IF(V11<10,"0","")&V11&"#" -> #06# | X11: =IF(VLOOKUP($W11,$AJ$20:$AM$45,2,FALSE)="","",VLOOKUP($W11,$AJ$20:$AM$45,2,FALSE)) | Y11: =IF(VLOOKUP($W11,$AJ$20:$AM$45,3,FALSE)="","",VLOOKUP($W11,$AJ$20:$AM$45,3,FALSE)) | Z11: =X11&IF(OR(X11="",Y11=""),"",", ")&Y11 | AB11: =IF(AND(AA11<=$AZ$6,AA11>=$BA$6),1,IF(AND(AA11<=$AZ$7,AA11>=$BA$7),2,IF(AND(AA11<=$AZ$8,AA11>=$BA$8),3,IF(AND(AA11<=$AZ$9,AA11>=$BA$9),4,IF(AND(AA11<=$AZ$10,AA11>=$BA$10),5,6))))) -> #N/A | AD11: =IF(X11="","",IF(AF11="JA",IF(AA11="","offen",IF(AB11+AC11>6,6,AB11+AC11)),"-/-")) | AE11: =IF(VLOOKUP($W11,$AJ$20:$AM$45,4,FALSE)="","",VLOOKUP($W11,$AJ$20:$AM$45,4,FALSE)) | AF11: =IF(VLOOKUP($W11,$AJ$20:$AU$45,12,FALSE)="","",VLOOKUP($W11,$AJ$20:$AU$45,12,FALSE)) | AJ11: ='KL06'!$C$4 -> 0 | AK11: ='KL06'!$C$6 -> 0 | AL11: ='KL06'!$D$6 -> 0 | AM11: ='KL06'!$D$4 -> 0 | AZ11: =VLOOKUP($AZ$4,$BC$5:$BO$14,12,FALSE) -> #N/A | BA11: =VLOOKUP($AZ$4,$BC$5:$BO$14,13,FALSE) -> #N/A | BC11: Fehlerpunkte | BD11: =O49 -> 0 | BE11: =P49 -> 0 | BF11: =O50 -> 0 | BG11: =P50 -> 1 | BH11: =O51 -> 0 | BI11: =P51 -> 1 | BJ11: =O52 -> 0 | BK11: =P52 -> 1 | BL11: =O53 -> 0 | BM11: =P53 -> 1 | BN11: =O54 -> 99999 | BO11: =P54 -> 1
D12: =IF(AJ8=0,"-/-",AJ8) -> -/- | E12: =IF(AJ12=0,"-/-",AJ12) -> -/- | F12: =IF(AJ16=0,"-/-",AJ16) -> -/- | J12: 4 | L12: =M11-0.001 -> 0.649 | M12: 0.5 | O12: =P11-IF($E$32="JA",0.5,IF($F$32<0.5,1,IF($F$32<1.5,0.1,IF($F$32<2.5,0.01,0.001)))) -> 64 | P12: =IF($E$32="JA",ROUND($O$9*M12*2,0)/2,ROUND($O$9*M12,$F$32)) -> 50 | T12: =IF(X12="",T11,T11+1) -> 1 | U12: =IF(T12=T11,"",T12&".") | V12: 7 | W12: ="#"&IF(V12<10,"0","")&V12&"#" -> #07# | X12: =IF(VLOOKUP($W12,$AJ$20:$AM$45,2,FALSE)="","",VLOOKUP($W12,$AJ$20:$AM$45,2,FALSE)) | Y12: =IF(VLOOKUP($W12,$AJ$20:$AM$45,3,FALSE)="","",VLOOKUP($W12,$AJ$20:$AM$45,3,FALSE)) | Z12: =X12&IF(OR(X12="",Y12=""),"",", ")&Y12 | AB12: =IF(AND(AA12<=$AZ$6,AA12>=$BA$6),1,IF(AND(AA12<=$AZ$7,AA12>=$BA$7),2,IF(AND(AA12<=$AZ$8,AA12>=$BA$8),3,IF(AND(AA12<=$AZ$9,AA12>=$BA$9),4,IF(AND(AA12<=$AZ$10,AA12>=$BA$10),5,6))))) -> #N/A | AD12: =IF(X12="","",IF(AF12="JA",IF(AA12="","offen",IF(AB12+AC12>6,6,AB12+AC12)),"-/-")) | AE12: =IF(VLOOKUP($W12,$AJ$20:$AM$45,4,FALSE)="","",VLOOKUP($W12,$AJ$20:$AM$45,4,FALSE)) | AF12: =IF(VLOOKUP($W12,$AJ$20:$AU$45,12,FALSE)="","",VLOOKUP($W12,$AJ$20:$AU$45,12,FALSE)) | AJ12: ='KL07'!$C$4 -> 0 | AK12: ='KL07'!$C$6 -> 0 | AL12: ='KL07'!$D$6 -> 0 | AM12: ='KL07'!$D$4 -> 0 | BC12: =IF(L58="","-/-",L58) -> -/- | BD12: =L60 -> 0 | BE12: =M60 -> 0 | BF12: =L61 -> 0 | BG12: =M61 -> 0 | BH12: =L62 -> 0 | BI12: =M62 -> 0 | BJ12: =L63 -> 0 | BK12: =M63 -> 0 | BL12: =L64 -> 0 | BM12: =M64 -> 0 | BN12: =L65 -> 0 | BO12: =M65 -> 0
D13: =IF(AJ9=0,"-/-",AJ9) -> -/- | E13: =IF(AJ13=0,"-/-",AJ13) -> -/- | F13: =IF(AJ17=0,"-/-",AJ17) -> -/- | J13: 5 | L13: =M12-0.001 -> 0.499 | M13: 0.3 | O13: =P12-IF($E$32="JA",0.5,IF($F$32<0.5,1,IF($F$32<1.5,0.1,IF($F$32<2.5,0.01,0.001)))) -> 49 | P13: =IF($E$32="JA",ROUND($O$9*M13*2,0)/2,ROUND($O$9*M13,$F$32)) -> 30 | T13: =IF(X13="",T12,T12+1) -> 1 | U13: =IF(T13=T12,"",T13&".") | V13: 8 | W13: ="#"&IF(V13<10,"0","")&V13&"#" -> #08# | X13: =IF(VLOOKUP($W13,$AJ$20:$AM$45,2,FALSE)="","",VLOOKUP($W13,$AJ$20:$AM$45,2,FALSE)) | Y13: =IF(VLOOKUP($W13,$AJ$20:$AM$45,3,FALSE)="","",VLOOKUP($W13,$AJ$20:$AM$45,3,FALSE)) | Z13: =X13&IF(OR(X13="",Y13=""),"",", ")&Y13 | AB13: =IF(AND(AA13<=$AZ$6,AA13>=$BA$6),1,IF(AND(AA13<=$AZ$7,AA13>=$BA$7),2,IF(AND(AA13<=$AZ$8,AA13>=$BA$8),3,IF(AND(AA13<=$AZ$9,AA13>=$BA$9),4,IF(AND(AA13<=$AZ$10,AA13>=$BA$10),5,6))))) -> #N/A | AD13: =IF(X13="","",IF(AF13="JA",IF(AA13="","offen",IF(AB13+AC13>6,6,AB13+AC13)),"-/-")) | AE13: =IF(VLOOKUP($W13,$AJ$20:$AM$45,4,FALSE)="","",VLOOKUP($W13,$AJ$20:$AM$45,4,FALSE)) | AF13: =IF(VLOOKUP($W13,$AJ$20:$AU$45,12,FALSE)="","",VLOOKUP($W13,$AJ$20:$AU$45,12,FALSE)) | AJ13: ='KL08'!$C$4 -> 0 | AK13: ='KL08'!$C$6 -> 0 | AL13: ='KL08'!$D$6 -> 0 | AM13: ='KL08'!$D$4 -> 0 | AZ13: =AZ4 -> 0 | BC13: =IF(O58="","-/-",O58) -> -/- | BD13: =O60 -> 0 | BE13: =P60 -> 0 | BF13: =O61 -> 0 | BG13: =P61 -> 0 | BH13: =O62 -> 0 | BI13: =P62 -> 0 | BJ13: =O63 -> 0 | BK13: =P63 -> 0 | BL13: =O64 -> 0 | BM13: =P64 -> 0 | BN13: =O65 -> 0 | BO13: =P65 -> 0
C14: Kürzel: | J14: 6 | L14: =M13-0.001 -> 0.299 | M14: 0 | O14: =P13-IF($E$32="JA",0.5,IF($F$32<0.5,1,IF($F$32<1.5,0.1,IF($F$32<2.5,0.01,0.001)))) -> 29 | P14: 0 | T14: =IF(X14="",T13,T13+1) -> 1 | U14: =IF(T14=T13,"",T14&".") | V14: 9 | W14: ="#"&IF(V14<10,"0","")&V14&"#" -> #09# | X14: =IF(VLOOKUP($W14,$AJ$20:$AM$45,2,FALSE)="","",VLOOKUP($W14,$AJ$20:$AM$45,2,FALSE)) | Y14: =IF(VLOOKUP($W14,$AJ$20:$AM$45,3,FALSE)="","",VLOOKUP($W14,$AJ$20:$AM$45,3,FALSE)) | Z14: =X14&IF(OR(X14="",Y14=""),"",", ")&Y14 | AB14: =IF(AND(AA14<=$AZ$6,AA14>=$BA$6),1,IF(AND(AA14<=$AZ$7,AA14>=$BA$7),2,IF(AND(AA14<=$AZ$8,AA14>=$BA$8),3,IF(AND(AA14<=$AZ$9,AA14>=$BA$9),4,IF(AND(AA14<=$AZ$10,AA14>=$BA$10),5,6))))) -> #N/A | AD14: =IF(X14="","",IF(AF14="JA",IF(AA14="","offen",IF(AB14+AC14>6,6,AB14+AC14)),"-/-")) | AE14: =IF(VLOOKUP($W14,$AJ$20:$AM$45,4,FALSE)="","",VLOOKUP($W14,$AJ$20:$AM$45,4,FALSE)) | AF14: =IF(VLOOKUP($W14,$AJ$20:$AU$45,12,FALSE)="","",VLOOKUP($W14,$AJ$20:$AU$45,12,FALSE)) | AJ14: ='KL09'!$C$4 -> 0 | AK14: ='KL09'!$C$6 -> 0 | AL14: ='KL09'!$D$6 -> 0 | AM14: ='KL09'!$D$4 -> 0 | AZ14: =IF($AZ$6<$BA$6,AZ5,BA5) -> #N/A | BA14: =IF($AZ$6<$BA$6,BA5,AZ5) -> #N/A | BC14: Schnitt | BD14: 1.5 | BE14: 1 | BF14: 2.5 | BG14: 1.5 | BH14: 3.5 | BI14: 2.5 | BJ14: 4.5 | BK14: 3.5 | BL14: 5.5 | BM14: 4.5 | BN14: 6 | BO14: 5.5
C15: Schule: | D15: =IF(VLOOKUP($D$14,$AJ$6:$AM$17,4,FALSE)="","",VLOOKUP($D$14,$AJ$6:$AM$17,4,FALSE)) -> 0 | T15: =IF(X15="",T14,T14+1) -> 1 | U15: =IF(T15=T14,"",T15&".") | V15: 10 | W15: ="#"&IF(V15<10,"0","")&V15&"#" -> #10# | X15: =IF(VLOOKUP($W15,$AJ$20:$AM$45,2,FALSE)="","",VLOOKUP($W15,$AJ$20:$AM$45,2,FALSE)) | Y15: =IF(VLOOKUP($W15,$AJ$20:$AM$45,3,FALSE)="","",VLOOKUP($W15,$AJ$20:$AM$45,3,FALSE)) | Z15: =X15&IF(OR(X15="",Y15=""),"",", ")&Y15 | AB15: =IF(AND(AA15<=$AZ$6,AA15>=$BA$6),1,IF(AND(AA15<=$AZ$7,AA15>=$BA$7),2,IF(AND(AA15<=$AZ$8,AA15>=$BA$8),3,IF(AND(AA15<=$AZ$9,AA15>=$BA$9),4,IF(AND(AA15<=$AZ$10,AA15>=$BA$10),5,6))))) -> #N/A | AD15: =IF(X15="","",IF(AF15="JA",IF(AA15="","offen",IF(AB15+AC15>6,6,AB15+AC15)),"-/-")) | AE15: =IF(VLOOKUP($W15,$AJ$20:$AM$45,4,FALSE)="","",VLOOKUP($W15,$AJ$20:$AM$45,4,FALSE)) | AF15: =IF(VLOOKUP($W15,$AJ$20:$AU$45,12,FALSE)="","",VLOOKUP($W15,$AJ$20:$AU$45,12,FALSE)) | AJ15: ='KL10'!$C$4 -> 0 | AK15: ='KL10'!$C$6 -> 0 | AL15: ='KL10'!$D$6 -> 0 | AM15: ='KL10'!$D$4 -> 0 | AZ15: =IF($AZ$6<$BA$6,AZ6,BA6) -> #N/A | BA15: =IF($AZ$6<$BA$6,BA6,AZ6) -> #N/A
C16: Klasse: | D16: =IF(VLOOKUP($D$14,$AJ$6:$AM$17,2,FALSE)="","",VLOOKUP($D$14,$AJ$6:$AM$17,2,FALSE)) -> 0 | J16: =IF(J25="X","-",IF(OR(M18="",M19="",M20="",M21="",M22=""),"-","x")) -> - | L16: Prozent | O16: à Punkte | T16: =IF(X16="",T15,T15+1) -> 1 | U16: =IF(T16=T15,"",T16&".") | V16: 11 | W16: ="#"&IF(V16<10,"0","")&V16&"#" -> #11# | X16: =IF(VLOOKUP($W16,$AJ$20:$AM$45,2,FALSE)="","",VLOOKUP($W16,$AJ$20:$AM$45,2,FALSE)) | Y16: =IF(VLOOKUP($W16,$AJ$20:$AM$45,3,FALSE)="","",VLOOKUP($W16,$AJ$20:$AM$45,3,FALSE)) | Z16: =X16&IF(OR(X16="",Y16=""),"",", ")&Y16 | AB16: =IF(AND(AA16<=$AZ$6,AA16>=$BA$6),1,IF(AND(AA16<=$AZ$7,AA16>=$BA$7),2,IF(AND(AA16<=$AZ$8,AA16>=$BA$8),3,IF(AND(AA16<=$AZ$9,AA16>=$BA$9),4,IF(AND(AA16<=$AZ$10,AA16>=$BA$10),5,6))))) -> #N/A | AD16: =IF(X16="","",IF(AF16="JA",IF(AA16="","offen",IF(AB16+AC16>6,6,AB16+AC16)),"-/-")) | AE16: =IF(VLOOKUP($W16,$AJ$20:$AM$45,4,FALSE)="","",VLOOKUP($W16,$AJ$20:$AM$45,4,FALSE)) | AF16: =IF(VLOOKUP($W16,$AJ$20:$AU$45,12,FALSE)="","",VLOOKUP($W16,$AJ$20:$AU$45,12,FALSE)) | AJ16: ='KL11'!$C$4 -> 0 | AK16: ='KL11'!$C$6 -> 0 | AL16: ='KL11'!$D$6 -> 0 | AM16: ='KL11'!$D$4 -> 0 | AZ16: =IF($AZ$6<$BA$6,AZ7,BA7) -> #N/A | BA16: =IF($AZ$6<$BA$6,BA7,AZ7) -> #N/A
C17: Klassenleiter/in: | D17: =IF(VLOOKUP($D$14,$AJ$6:$AM$17,3,FALSE)="","",VLOOKUP($D$14,$AJ$6:$AM$17,3,FALSE)) -> 0 | J17: Note | L17: kleiner gleich | M17: größer gleich | O17: kleiner gleich | P17: größer gleich | T17: =IF(X17="",T16,T16+1) -> 1 | U17: =IF(T17=T16,"",T17&".") | V17: 12 | W17: ="#"&IF(V17<10,"0","")&V17&"#" -> #12# | X17: =IF(VLOOKUP($W17,$AJ$20:$AM$45,2,FALSE)="","",VLOOKUP($W17,$AJ$20:$AM$45,2,FALSE)) | Y17: =IF(VLOOKUP($W17,$AJ$20:$AM$45,3,FALSE)="","",VLOOKUP($W17,$AJ$20:$AM$45,3,FALSE)) | Z17: =X17&IF(OR(X17="",Y17=""),"",", ")&Y17 | AB17: =IF(AND(AA17<=$AZ$6,AA17>=$BA$6),1,IF(AND(AA17<=$AZ$7,AA17>=$BA$7),2,IF(AND(AA17<=$AZ$8,AA17>=$BA$8),3,IF(AND(AA17<=$AZ$9,AA17>=$BA$9),4,IF(AND(AA17<=$AZ$10,AA17>=$BA$10),5,6))))) -> #N/A | AD17: =IF(X17="","",IF(AF17="JA",IF(AA17="","offen",IF(AB17+AC17>6,6,AB17+AC17)),"-/-")) | AE17: =IF(VLOOKUP($W17,$AJ$20:$AM$45,4,FALSE)="","",VLOOKUP($W17,$AJ$20:$AM$45,4,FALSE)) | AF17: =IF(VLOOKUP($W17,$AJ$20:$AU$45,12,FALSE)="","",VLOOKUP($W17,$AJ$20:$AU$45,12,FALSE)) | AJ17: ='KL12'!$C$4 -> 0 | AK17: ='KL12'!$C$6 -> 0 | AL17: ='KL12'!$D$6 -> 0 | AM17: ='KL12'!$D$4 -> 0 | AZ17: =IF($AZ$6<$BA$6,AZ8,BA8) -> #N/A | BA17: =IF($AZ$6<$BA$6,BA8,AZ8) -> #N/A
C18: Gruppen: | D18: =AO19 | E18: =AP19 | F18: =AQ19 | J18: 1 | L18: 1 | O18: =O5 -> 100 | P18: =ROUND(($O$9*M18*IF($E$32="JA",2,1)),F32)/IF($E$32="JA",2,1) -> 0 | T18: =IF(X18="",T17,T17+1) -> 1 | U18: =IF(T18=T17,"",T18&".") | V18: 13 | W18: ="#"&IF(V18<10,"0","")&V18&"#" -> #13# | X18: =IF(VLOOKUP($W18,$AJ$20:$AM$45,2,FALSE)="","",VLOOKUP($W18,$AJ$20:$AM$45,2,FALSE)) | Y18: =IF(VLOOKUP($W18,$AJ$20:$AM$45,3,FALSE)="","",VLOOKUP($W18,$AJ$20:$AM$45,3,FALSE)) | Z18: =X18&IF(OR(X18="",Y18=""),"",", ")&Y18 | AB18: =IF(AND(AA18<=$AZ$6,AA18>=$BA$6),1,IF(AND(AA18<=$AZ$7,AA18>=$BA$7),2,IF(AND(AA18<=$AZ$8,AA18>=$BA$8),3,IF(AND(AA18<=$AZ$9,AA18>=$BA$9),4,IF(AND(AA18<=$AZ$10,AA18>=$BA$10),5,6))))) -> #N/A | AD18: =IF(X18="","",IF(AF18="JA",IF(AA18="","offen",IF(AB18+AC18>6,6,AB18+AC18)),"-/-")) | AE18: =IF(VLOOKUP($W18,$AJ$20:$AM$45,4,FALSE)="","",VLOOKUP($W18,$AJ$20:$AM$45,4,FALSE)) | AF18: =IF(VLOOKUP($W18,$AJ$20:$AU$45,12,FALSE)="","",VLOOKUP($W18,$AJ$20:$AU$45,12,FALSE)) | AZ18: =IF($AZ$6<$BA$6,AZ9,BA9) -> #N/A | BA18: =IF($AZ$6<$BA$6,BA9,AZ9) -> #N/A
C19: Gruppenauswahl: | J19: 2 | L19: =M18-0.001 -> -0.001 | O19: =P18-IF($E$32="JA",0.5,IF($F$32<0.5,1,IF($F$32<1.5,0.1,IF($F$32<2.5,0.01,0.001)))) -> -1 | P19: =ROUND(($O$9*M19*IF($E$32="JA",2,1)),F33)/IF($E$32="JA",2,1) -> 0 | T19: =IF(X19="",T18,T18+1) -> 1 | U19: =IF(T19=T18,"",T19&".") | V19: 14 | W19: ="#"&IF(V19<10,"0","")&V19&"#" -> #14# | X19: =IF(VLOOKUP($W19,$AJ$20:$AM$45,2,FALSE)="","",VLOOKUP($W19,$AJ$20:$AM$45,2,FALSE)) | Y19: =IF(VLOOKUP($W19,$AJ$20:$AM$45,3,FALSE)="","",VLOOKUP($W19,$AJ$20:$AM$45,3,FALSE)) | Z19: =X19&IF(OR(X19="",Y19=""),"",", ")&Y19 | AB19: =IF(AND(AA19<=$AZ$6,AA19>=$BA$6),1,IF(AND(AA19<=$AZ$7,AA19>=$BA$7),2,IF(AND(AA19<=$AZ$8,AA19>=$BA$8),3,IF(AND(AA19<=$AZ$9,AA19>=$BA$9),4,IF(AND(AA19<=$AZ$10,AA19>=$BA$10),5,6))))) -> #N/A | AD19: =IF(X19="","",IF(AF19="JA",IF(AA19="","offen",IF(AB19+AC19>6,6,AB19+AC19)),"-/-")) | AE19: =IF(VLOOKUP($W19,$AJ$20:$AM$45,4,FALSE)="","",VLOOKUP($W19,$AJ$20:$AM$45,4,FALSE)) | AF19: =IF(VLOOKUP($W19,$AJ$20:$AU$45,12,FALSE)="","",VLOOKUP($W19,$AJ$20:$AU$45,12,FALSE)) | AJ19: Sverweis | AK19: Nachname | AL19: Vorname | AM19: Bemerkungen | AN19: Jgst. | AO19: =IF($D$14='KL01'!$C$4,'KL01'!G3,"")&IF($D$14='KL02'!$C$4,'KL02'!G3,"")&IF($D$14='KL03'!$C$4,'KL03'!G3,"")&IF($D$14='KL04'!$C$4,'KL04'!G3,"")&IF($D$14='KL05'!$C$4,'KL05'!G3,"")&IF($D$14='KL06'!$C$4,'KL06'!G3,"")&IF($D$14='KL07'!$C$4,'KL07'!G3,"")&IF($D$14='KL08'!$C$4,'KL08'!G3,"")&IF($D$14='KL09'!$C$4,'KL09'!G3,"")&IF($D$14='KL10'!$C$4,'KL10'!G3,"")&IF($D$14='KL11'!$C$4,'KL11'!G3,"")&IF($D$14='KL12'!$C$4,'KL12'!G3,"") | AP19: =IF($D$14='KL01'!$C$4,'KL01'!H3,"")&IF($D$14='KL02'!$C$4,'KL02'!H3,"")&IF($D$14='KL03'!$C$4,'KL03'!H3,"")&IF($D$14='KL04'!$C$4,'KL04'!H3,"")&IF($D$14='KL05'!$C$4,'KL05'!H3,"")&IF($D$14='KL06'!$C$4,'KL06'!H3,"")&IF($D$14='KL07'!$C$4,'KL07'!H3,"")&IF($D$14='KL08'!$C$4,'KL08'!H3,"")&IF($D$14='KL09'!$C$4,'KL09'!H3,"")&IF($D$14='KL10'!$C$4,'KL10'!H3,"")&IF($D$14='KL11'!$C$4,'KL11'!H3,"")&IF($D$14='KL12'!$C$4,'KL12'!H3,"") | AQ19: =IF($D$14='KL01'!$C$4,'KL01'!I3,"")&IF($D$14='KL02'!$C$4,'KL02'!I3,"")&IF($D$14='KL03'!$C$4,'KL03'!I3,"")&IF($D$14='KL04'!$C$4,'KL04'!I3,"")&IF($D$14='KL05'!$C$4,'KL05'!I3,"")&IF($D$14='KL06'!$C$4,'KL06'!I3,"")&IF($D$14='KL07'!$C$4,'KL07'!I3,"")&IF($D$14='KL08'!$C$4,'KL08'!I3,"")&IF($D$14='KL09'!$C$4,'KL09'!I3,"")&IF($D$14='KL10'!$C$4,'KL10'!I3,"")&IF($D$14='KL11'!$C$4,'KL11'!I3,"")&IF($D$14='KL12'!$C$4,'KL12'!I3,"") | AR19: Gruppe1 | AS19: Gruppe2 | AT19: Gruppe2 | AU19: Gruppe | AV19: Rang | AW19: Name | AZ19: =IF($AZ$6<$BA$6,AZ10,BA10) -> #N/A | BA19: =IF($AZ$6<$BA$6,BA10,AZ10) -> #N/A
J20: 3 | L20: =M19-0.001 -> -0.001 | O20: =P19-IF($E$32="JA",0.5,IF($F$32<0.5,1,IF($F$32<1.5,0.1,IF($F$32<2.5,0.01,0.001)))) -> -1 | P20: =ROUND(($O$9*M20*IF($E$32="JA",2,1)),F34)/IF($E$32="JA",2,1) -> 0 | T20: =IF(X20="",T19,T19+1) -> 1 | U20: =IF(T20=T19,"",T20&".") | V20: 15 | W20: ="#"&IF(V20<10,"0","")&V20&"#" -> #15# | X20: =IF(VLOOKUP($W20,$AJ$20:$AM$45,2,FALSE)="","",VLOOKUP($W20,$AJ$20:$AM$45,2,FALSE)) | Y20: =IF(VLOOKUP($W20,$AJ$20:$AM$45,3,FALSE)="","",VLOOKUP($W20,$AJ$20:$AM$45,3,FALSE)) | Z20: =X20&IF(OR(X20="",Y20=""),"",", ")&Y20 | AB20: =IF(AND(AA20<=$AZ$6,AA20>=$BA$6),1,IF(AND(AA20<=$AZ$7,AA20>=$BA$7),2,IF(AND(AA20<=$AZ$8,AA20>=$BA$8),3,IF(AND(AA20<=$AZ$9,AA20>=$BA$9),4,IF(AND(AA20<=$AZ$10,AA20>=$BA$10),5,6))))) -> #N/A | AD20: =IF(X20="","",IF(AF20="JA",IF(AA20="","offen",IF(AB20+AC20>6,6,AB20+AC20)),"-/-")) | AE20: =IF(VLOOKUP($W20,$AJ$20:$AM$45,4,FALSE)="","",VLOOKUP($W20,$AJ$20:$AM$45,4,FALSE)) | AF20: =IF(VLOOKUP($W20,$AJ$20:$AU$45,12,FALSE)="","",VLOOKUP($W20,$AJ$20:$AU$45,12,FALSE)) | AJ20: ="#"&IF(AV20<10,"0","")&AV20&"#" -> #01# | AK20: =IF($D$14='KL01'!$C$4,'KL01'!C9,"")&IF($D$14='KL02'!$C$4,'KL02'!C9,"")&IF($D$14='KL03'!$C$4,'KL03'!C9,"")&IF($D$14='KL04'!$C$4,'KL04'!C9,"")&IF($D$14='KL05'!$C$4,'KL05'!C9,"")&IF($D$14='KL06'!$C$4,'KL06'!C9,"")&IF($D$14='KL07'!$C$4,'KL07'!C9,"")&IF($D$14='KL08'!$C$4,'KL08'!C9,"")&IF($D$14='KL09'!$C$4,'KL09'!C9,"")&IF($D$14='KL10'!$C$4,'KL10'!C9,"")&IF($D$14='KL11'!$C$4,'KL11'!C9,"")&IF($D$14='KL12'!$C$4,'KL12'!C9,"") | AL20: =IF($D$14='KL01'!$C$4,'KL01'!D9,"")&IF($D$14='KL02'!$C$4,'KL02'!D9,"")&IF($D$14='KL03'!$C$4,'KL03'!D9,"")&IF($D$14='KL04'!$C$4,'KL04'!D9,"")&IF($D$14='KL05'!$C$4,'KL05'!D9,"")&IF($D$14='KL06'!$C$4,'KL06'!D9,"")&IF($D$14='KL07'!$C$4,'KL07'!D9,"")&IF($D$14='KL08'!$C$4,'KL08'!D9,"")&IF($D$14='KL09'!$C$4,'KL09'!D9,"")&IF($D$14='KL10'!$C$4,'KL10'!D9,"")&IF($D$14='KL11'!$C$4,'KL11'!D9,"")&IF($D$14='KL12'!$C$4,'KL12'!D9,"") | AM20: =IF($D$14='KL01'!$C$4,'KL01'!E9,"")&IF($D$14='KL02'!$C$4,'KL02'!E9,"")&IF($D$14='KL03'!$C$4,'KL03'!E9,"")&IF($D$14='KL04'!$C$4,'KL04'!E9,"")&IF($D$14='KL05'!$C$4,'KL05'!E9,"")&IF($D$14='KL06'!$C$4,'KL06'!E9,"")&IF($D$14='KL07'!$C$4,'KL07'!E9,"")&IF($D$14='KL08'!$C$4,'KL08'!E9,"")&IF($D$14='KL09'!$C$4,'KL09'!E9,"")&IF($D$14='KL10'!$C$4,'KL10'!E9,"")&IF($D$14='KL11'!$C$4,'KL11'!E9,"")&IF($D$14='KL12'!$C$4,'KL12'!E9,"") | AN20: =IF($D$14='KL01'!$C$4,'KL01'!F9,"")&IF($D$14='KL02'!$C$4,'KL02'!F9,"")&IF($D$14='KL03'!$C$4,'KL03'!F9,"")&IF($D$14='KL04'!$C$4,'KL04'!F9,"")&IF($D$14='KL05'!$C$4,'KL05'!F9,"")&IF($D$14='KL06'!$C$4,'KL06'!F9,"")&IF($D$14='KL07'!$C$4,'KL07'!F9,"")&IF($D$14='KL08'!$C$4,'KL08'!F9,"")&IF($D$14='KL09'!$C$4,'KL09'!F9,"")&IF($D$14='KL10'!$C$4,'KL10'!F9,"")&IF($D$14='KL11'!$C$4,'KL11'!F9,"")&IF($D$14='KL12'!$C$4,'KL12'!F9,"") | AO20: =IF($D$14='KL01'!$C$4,'KL01'!G9,"")&IF($D$14='KL02'!$C$4,'KL02'!G9,"")&IF($D$14='KL03'!$C$4,'KL03'!G9,"")&IF($D$14='KL04'!$C$4,'KL04'!G9,"")&IF($D$14='KL05'!$C$4,'KL05'!G9,"")&IF($D$14='KL06'!$C$4,'KL06'!G9,"")&IF($D$14='KL07'!$C$4,'KL07'!G9,"")&IF($D$14='KL08'!$C$4,'KL08'!G9,"")&IF($D$14='KL09'!$C$4,'KL09'!G9,"")&IF($D$14='KL10'!$C$4,'KL10'!G9,"")&IF($D$14='KL11'!$C$4,'KL11'!G9,"")&IF($D$14='KL12'!$C$4,'KL12'!G9,"") | AP20: =IF($D$14='KL01'!$C$4,'KL01'!H9,"")&IF($D$14='KL02'!$C$4,'KL02'!H9,"")&IF($D$14='KL03'!$C$4,'KL03'!H9,"")&IF($D$14='KL04'!$C$4,'KL04'!H9,"")&IF($D$14='KL05'!$C$4,'KL05'!H9,"")&IF($D$14='KL06'!$C$4,'KL06'!H9,"")&IF($D$14='KL07'!$C$4,'KL07'!H9,"")&IF($D$14='KL08'!$C$4,'KL08'!H9,"")&IF($D$14='KL09'!$C$4,'KL09'!H9,"")&IF($D$14='KL10'!$C$4,'KL10'!H9,"")&IF($D$14='KL11'!$C$4,'KL11'!H9,"")&IF($D$14='KL12'!$C$4,'KL12'!H9,"") | AQ20: =IF($D$14='KL01'!$C$4,'KL01'!I9,"")&IF($D$14='KL02'!$C$4,'KL02'!I9,"")&IF($D$14='KL03'!$C$4,'KL03'!I9,"")&IF($D$14='KL04'!$C$4,'KL04'!I9,"")&IF($D$14='KL05'!$C$4,'KL05'!I9,"")&IF($D$14='KL06'!$C$4,'KL06'!I9,"")&IF($D$14='KL07'!$C$4,'KL07'!I9,"")&IF($D$14='KL08'!$C$4,'KL08'!I9,"")&IF($D$14='KL09'!$C$4,'KL09'!I9,"")&IF($D$14='KL10'!$C$4,'KL10'!I9,"")&IF($D$14='KL11'!$C$4,'KL11'!I9,"")&IF($D$14='KL12'!$C$4,'KL12'!I9,"") | AR20: =IF(AO20="","-/-",$AO$19) -> -/- | AS20: =IF(AP20="","-/-",$AP$19) -> -/- | AT20: =IF(AQ20="","-/-",$AQ$19) -> -/- | AU20: =IF(AK20="","",IF($D$19="","JA",IF($D$19=AR20,"JA",IF($D$19=AS20,"JA",IF($D$19=AT20,"JA",""))))) | AV20: =1+SUMPRODUCT(($AW$20:$AW$45<AW20)+(AW20="")*1000) -> 1 | AW20: =IF(AN20&AK20&AL20="","Z"&IF(AX20<10,"0"&AX20,AX20),AN20&AK20&AL20) -> Z01 | AX20: 1 | AZ20: =IF($AZ$6<$BA$6,AZ11,BA11) -> #N/A | BA20: =IF($AZ$6<$BA$6,BA11,AZ11) -> #N/A
C21: Datum: | J21: 4 | L21: =M20-0.001 -> -0.001 | O21: =P20-IF($E$32="JA",0.5,IF($F$32<0.5,1,IF($F$32<1.5,0.1,IF($F$32<2.5,0.01,0.001)))) -> -1 | P21: =ROUND(($O$9*M21*IF($E$32="JA",2,1)),F35)/IF($E$32="JA",2,1) -> 0 | T21: =IF(X21="",T20,T20+1) -> 1 | U21: =IF(T21=T20,"",T21&".") | V21: 16 | W21: ="#"&IF(V21<10,"0","")&V21&"#" -> #16# | X21: =IF(VLOOKUP($W21,$AJ$20:$AM$45,2,FALSE)="","",VLOOKUP($W21,$AJ$20:$AM$45,2,FALSE)) | Y21: =IF(VLOOKUP($W21,$AJ$20:$AM$45,3,FALSE)="","",VLOOKUP($W21,$AJ$20:$AM$45,3,FALSE)) | Z21: =X21&IF(OR(X21="",Y21=""),"",", ")&Y21 | AB21: =IF(AND(AA21<=$AZ$6,AA21>=$BA$6),1,IF(AND(AA21<=$AZ$7,AA21>=$BA$7),2,IF(AND(AA21<=$AZ$8,AA21>=$BA$8),3,IF(AND(AA21<=$AZ$9,AA21>=$BA$9),4,IF(AND(AA21<=$AZ$10,AA21>=$BA$10),5,6))))) -> #N/A | AD21: =IF(X21="","",IF(AF21="JA",IF(AA21="","offen",IF(AB21+AC21>6,6,AB21+AC21)),"-/-")) | AE21: =IF(VLOOKUP($W21,$AJ$20:$AM$45,4,FALSE)="","",VLOOKUP($W21,$AJ$20:$AM$45,4,FALSE)) | AF21: =IF(VLOOKUP($W21,$AJ$20:$AU$45,12,FALSE)="","",VLOOKUP($W21,$AJ$20:$AU$45,12,FALSE)) | AJ21: ="#"&IF(AV21<10,"0","")&AV21&"#" -> #02# | AK21: =IF($D$14='KL01'!$C$4,'KL01'!C10,"")&IF($D$14='KL02'!$C$4,'KL02'!C10,"")&IF($D$14='KL03'!$C$4,'KL03'!C10,"")&IF($D$14='KL04'!$C$4,'KL04'!C10,"")&IF($D$14='KL05'!$C$4,'KL05'!C10,"")&IF($D$14='KL06'!$C$4,'KL06'!C10,"")&IF($D$14='KL07'!$C$4,'KL07'!C10,"")&IF($D$14='KL08'!$C$4,'KL08'!C10,"")&IF($D$14='KL09'!$C$4,'KL09'!C10,"")&IF($D$14='KL10'!$C$4,'KL10'!C10,"")&IF($D$14='KL11'!$C$4,'KL11'!C10,"")&IF($D$14='KL12'!$C$4,'KL12'!C10,"") | AL21: =IF($D$14='KL01'!$C$4,'KL01'!D10,"")&IF($D$14='KL02'!$C$4,'KL02'!D10,"")&IF($D$14='KL03'!$C$4,'KL03'!D10,"")&IF($D$14='KL04'!$C$4,'KL04'!D10,"")&IF($D$14='KL05'!$C$4,'KL05'!D10,"")&IF($D$14='KL06'!$C$4,'KL06'!D10,"")&IF($D$14='KL07'!$C$4,'KL07'!D10,"")&IF($D$14='KL08'!$C$4,'KL08'!D10,"")&IF($D$14='KL09'!$C$4,'KL09'!D10,"")&IF($D$14='KL10'!$C$4,'KL10'!D10,"")&IF($D$14='KL11'!$C$4,'KL11'!D10,"")&IF($D$14='KL12'!$C$4,'KL12'!D10,"") | AM21: =IF($D$14='KL01'!$C$4,'KL01'!E10,"")&IF($D$14='KL02'!$C$4,'KL02'!E10,"")&IF($D$14='KL03'!$C$4,'KL03'!E10,"")&IF($D$14='KL04'!$C$4,'KL04'!E10,"")&IF($D$14='KL05'!$C$4,'KL05'!E10,"")&IF($D$14='KL06'!$C$4,'KL06'!E10,"")&IF($D$14='KL07'!$C$4,'KL07'!E10,"")&IF($D$14='KL08'!$C$4,'KL08'!E10,"")&IF($D$14='KL09'!$C$4,'KL09'!E10,"")&IF($D$14='KL10'!$C$4,'KL10'!E10,"")&IF($D$14='KL11'!$C$4,'KL11'!E10,"")&IF($D$14='KL12'!$C$4,'KL12'!E10,"") | AN21: =IF($D$14='KL01'!$C$4,'KL01'!F10,"")&IF($D$14='KL02'!$C$4,'KL02'!F10,"")&IF($D$14='KL03'!$C$4,'KL03'!F10,"")&IF($D$14='KL04'!$C$4,'KL04'!F10,"")&IF($D$14='KL05'!$C$4,'KL05'!F10,"")&IF($D$14='KL06'!$C$4,'KL06'!F10,"")&IF($D$14='KL07'!$C$4,'KL07'!F10,"")&IF($D$14='KL08'!$C$4,'KL08'!F10,"")&IF($D$14='KL09'!$C$4,'KL09'!F10,"")&IF($D$14='KL10'!$C$4,'KL10'!F10,"")&IF($D$14='KL11'!$C$4,'KL11'!F10,"")&IF($D$14='KL12'!$C$4,'KL12'!F10,"") | AO21: =IF($D$14='KL01'!$C$4,'KL01'!G10,"")&IF($D$14='KL02'!$C$4,'KL02'!G10,"")&IF($D$14='KL03'!$C$4,'KL03'!G10,"")&IF($D$14='KL04'!$C$4,'KL04'!G10,"")&IF($D$14='KL05'!$C$4,'KL05'!G10,"")&IF($D$14='KL06'!$C$4,'KL06'!G10,"")&IF($D$14='KL07'!$C$4,'KL07'!G10,"")&IF($D$14='KL08'!$C$4,'KL08'!G10,"")&IF($D$14='KL09'!$C$4,'KL09'!G10,"")&IF($D$14='KL10'!$C$4,'KL10'!G10,"")&IF($D$14='KL11'!$C$4,'KL11'!G10,"")&IF($D$14='KL12'!$C$4,'KL12'!G10,"") | AP21: =IF($D$14='KL01'!$C$4,'KL01'!H10,"")&IF($D$14='KL02'!$C$4,'KL02'!H10,"")&IF($D$14='KL03'!$C$4,'KL03'!H10,"")&IF($D$14='KL04'!$C$4,'KL04'!H10,"")&IF($D$14='KL05'!$C$4,'KL05'!H10,"")&IF($D$14='KL06'!$C$4,'KL06'!H10,"")&IF($D$14='KL07'!$C$4,'KL07'!H10,"")&IF($D$14='KL08'!$C$4,'KL08'!H10,"")&IF($D$14='KL09'!$C$4,'KL09'!H10,"")&IF($D$14='KL10'!$C$4,'KL10'!H10,"")&IF($D$14='KL11'!$C$4,'KL11'!H10,"")&IF($D$14='KL12'!$C$4,'KL12'!H10,"") | AQ21: =IF($D$14='KL01'!$C$4,'KL01'!I10,"")&IF($D$14='KL02'!$C$4,'KL02'!I10,"")&IF($D$14='KL03'!$C$4,'KL03'!I10,"")&IF($D$14='KL04'!$C$4,'KL04'!I10,"")&IF($D$14='KL05'!$C$4,'KL05'!I10,"")&IF($D$14='KL06'!$C$4,'KL06'!I10,"")&IF($D$14='KL07'!$C$4,'KL07'!I10,"")&IF($D$14='KL08'!$C$4,'KL08'!I10,"")&IF($D$14='KL09'!$C$4,'KL09'!I10,"")&IF($D$14='KL10'!$C$4,'KL10'!I10,"")&IF($D$14='KL11'!$C$4,'KL11'!I10,"")&IF($D$14='KL12'!$C$4,'KL12'!I10,"") | AR21: =IF(AO21="","-/-",$AO$19) -> -/- | AS21: =IF(AP21="","-/-",$AP$19) -> -/- | AT21: =IF(AQ21="","-/-",$AQ$19) -> -/- | AU21: =IF(AK21="","",IF($D$19="","JA",IF($D$19=AR21,"JA",IF($D$19=AS21,"JA",IF($D$19=AT21,"JA",""))))) | AV21: =1+SUMPRODUCT(($AW$20:$AW$45<AW21)+(AW21="")*1000) -> 2 | AW21: =IF(AN21&AK21&AL21="","Z"&IF(AX21<10,"0"&AX21,AX21),AN21&AK21&AL21) -> Z02 | AX21: 2
C22: Ordnungszahl: | J22: 5 | L22: =M21-0.001 -> -0.001 | O22: =P21-IF($E$32="JA",0.5,IF($F$32<0.5,1,IF($F$32<1.5,0.1,IF($F$32<2.5,0.01,0.001)))) -> -1 | P22: =ROUND(($O$9*M22*IF($E$32="JA",2,1)),F36)/IF($E$32="JA",2,1) -> 0 | T22: =IF(X22="",T21,T21+1) -> 1 | U22: =IF(T22=T21,"",T22&".") | V22: 17 | W22: ="#"&IF(V22<10,"0","")&V22&"#" -> #17# | X22: =IF(VLOOKUP($W22,$AJ$20:$AM$45,2,FALSE)="","",VLOOKUP($W22,$AJ$20:$AM$45,2,FALSE)) | Y22: =IF(VLOOKUP($W22,$AJ$20:$AM$45,3,FALSE)="","",VLOOKUP($W22,$AJ$20:$AM$45,3,FALSE)) | Z22: =X22&IF(OR(X22="",Y22=""),"",", ")&Y22 | AB22: =IF(AND(AA22<=$AZ$6,AA22>=$BA$6),1,IF(AND(AA22<=$AZ$7,AA22>=$BA$7),2,IF(AND(AA22<=$AZ$8,AA22>=$BA$8),3,IF(AND(AA22<=$AZ$9,AA22>=$BA$9),4,IF(AND(AA22<=$AZ$10,AA22>=$BA$10),5,6))))) -> #N/A | AD22: =IF(X22="","",IF(AF22="JA",IF(AA22="","offen",IF(AB22+AC22>6,6,AB22+AC22)),"-/-")) | AE22: =IF(VLOOKUP($W22,$AJ$20:$AM$45,4,FALSE)="","",VLOOKUP($W22,$AJ$20:$AM$45,4,FALSE)) | AF22: =IF(VLOOKUP($W22,$AJ$20:$AU$45,12,FALSE)="","",VLOOKUP($W22,$AJ$20:$AU$45,12,FALSE)) | AJ22: ="#"&IF(AV22<10,"0","")&AV22&"#" -> #03# | AK22: =IF($D$14='KL01'!$C$4,'KL01'!C11,"")&IF($D$14='KL02'!$C$4,'KL02'!C11,"")&IF($D$14='KL03'!$C$4,'KL03'!C11,"")&IF($D$14='KL04'!$C$4,'KL04'!C11,"")&IF($D$14='KL05'!$C$4,'KL05'!C11,"")&IF($D$14='KL06'!$C$4,'KL06'!C11,"")&IF($D$14='KL07'!$C$4,'KL07'!C11,"")&IF($D$14='KL08'!$C$4,'KL08'!C11,"")&IF($D$14='KL09'!$C$4,'KL09'!C11,"")&IF($D$14='KL10'!$C$4,'KL10'!C11,"")&IF($D$14='KL11'!$C$4,'KL11'!C11,"")&IF($D$14='KL12'!$C$4,'KL12'!C11,"") | AL22: =IF($D$14='KL01'!$C$4,'KL01'!D11,"")&IF($D$14='KL02'!$C$4,'KL02'!D11,"")&IF($D$14='KL03'!$C$4,'KL03'!D11,"")&IF($D$14='KL04'!$C$4,'KL04'!D11,"")&IF($D$14='KL05'!$C$4,'KL05'!D11,"")&IF($D$14='KL06'!$C$4,'KL06'!D11,"")&IF($D$14='KL07'!$C$4,'KL07'!D11,"")&IF($D$14='KL08'!$C$4,'KL08'!D11,"")&IF($D$14='KL09'!$C$4,'KL09'!D11,"")&IF($D$14='KL10'!$C$4,'KL10'!D11,"")&IF($D$14='KL11'!$C$4,'KL11'!D11,"")&IF($D$14='KL12'!$C$4,'KL12'!D11,"") | AM22: =IF($D$14='KL01'!$C$4,'KL01'!E11,"")&IF($D$14='KL02'!$C$4,'KL02'!E11,"")&IF($D$14='KL03'!$C$4,'KL03'!E11,"")&IF($D$14='KL04'!$C$4,'KL04'!E11,"")&IF($D$14='KL05'!$C$4,'KL05'!E11,"")&IF($D$14='KL06'!$C$4,'KL06'!E11,"")&IF($D$14='KL07'!$C$4,'KL07'!E11,"")&IF($D$14='KL08'!$C$4,'KL08'!E11,"")&IF($D$14='KL09'!$C$4,'KL09'!E11,"")&IF($D$14='KL10'!$C$4,'KL10'!E11,"")&IF($D$14='KL11'!$C$4,'KL11'!E11,"")&IF($D$14='KL12'!$C$4,'KL12'!E11,"") | AN22: =IF($D$14='KL01'!$C$4,'KL01'!F11,"")&IF($D$14='KL02'!$C$4,'KL02'!F11,"")&IF($D$14='KL03'!$C$4,'KL03'!F11,"")&IF($D$14='KL04'!$C$4,'KL04'!F11,"")&IF($D$14='KL05'!$C$4,'KL05'!F11,"")&IF($D$14='KL06'!$C$4,'KL06'!F11,"")&IF($D$14='KL07'!$C$4,'KL07'!F11,"")&IF($D$14='KL08'!$C$4,'KL08'!F11,"")&IF($D$14='KL09'!$C$4,'KL09'!F11,"")&IF($D$14='KL10'!$C$4,'KL10'!F11,"")&IF($D$14='KL11'!$C$4,'KL11'!F11,"")&IF($D$14='KL12'!$C$4,'KL12'!F11,"") | AO22: =IF($D$14='KL01'!$C$4,'KL01'!G11,"")&IF($D$14='KL02'!$C$4,'KL02'!G11,"")&IF($D$14='KL03'!$C$4,'KL03'!G11,"")&IF($D$14='KL04'!$C$4,'KL04'!G11,"")&IF($D$14='KL05'!$C$4,'KL05'!G11,"")&IF($D$14='KL06'!$C$4,'KL06'!G11,"")&IF($D$14='KL07'!$C$4,'KL07'!G11,"")&IF($D$14='KL08'!$C$4,'KL08'!G11,"")&IF($D$14='KL09'!$C$4,'KL09'!G11,"")&IF($D$14='KL10'!$C$4,'KL10'!G11,"")&IF($D$14='KL11'!$C$4,'KL11'!G11,"")&IF($D$14='KL12'!$C$4,'KL12'!G11,"") | AP22: =IF($D$14='KL01'!$C$4,'KL01'!H11,"")&IF($D$14='KL02'!$C$4,'KL02'!H11,"")&IF($D$14='KL03'!$C$4,'KL03'!H11,"")&IF($D$14='KL04'!$C$4,'KL04'!H11,"")&IF($D$14='KL05'!$C$4,'KL05'!H11,"")&IF($D$14='KL06'!$C$4,'KL06'!H11,"")&IF($D$14='KL07'!$C$4,'KL07'!H11,"")&IF($D$14='KL08'!$C$4,'KL08'!H11,"")&IF($D$14='KL09'!$C$4,'KL09'!H11,"")&IF($D$14='KL10'!$C$4,'KL10'!H11,"")&IF($D$14='KL11'!$C$4,'KL11'!H11,"")&IF($D$14='KL12'!$C$4,'KL12'!H11,"") | AQ22: =IF($D$14='KL01'!$C$4,'KL01'!I11,"")&IF($D$14='KL02'!$C$4,'KL02'!I11,"")&IF($D$14='KL03'!$C$4,'KL03'!I11,"")&IF($D$14='KL04'!$C$4,'KL04'!I11,"")&IF($D$14='KL05'!$C$4,'KL05'!I11,"")&IF($D$14='KL06'!$C$4,'KL06'!I11,"")&IF($D$14='KL07'!$C$4,'KL07'!I11,"")&IF($D$14='KL08'!$C$4,'KL08'!I11,"")&IF($D$14='KL09'!$C$4,'KL09'!I11,"")&IF($D$14='KL10'!$C$4,'KL10'!I11,"")&IF($D$14='KL11'!$C$4,'KL11'!I11,"")&IF($D$14='KL12'!$C$4,'KL12'!I11,"") | AR22: =IF(AO22="","-/-",$AO$19) -> -/- | AS22: =IF(AP22="","-/-",$AP$19) -> -/- | AT22: =IF(AQ22="","-/-",$AQ$19) -> -/- | AU22: =IF(AK22="","",IF($D$19="","JA",IF($D$19=AR22,"JA",IF($D$19=AS22,"JA",IF($D$19=AT22,"JA",""))))) | AV22: =1+SUMPRODUCT(($AW$20:$AW$45<AW22)+(AW22="")*1000) -> 3 | AW22: =IF(AN22&AK22&AL22="","Z"&IF(AX22<10,"0"&AX22,AX22),AN22&AK22&AL22) -> Z03 | AX22: 3 | AZ22: =AZ13 -> 0
C23: Arbeitstitel: | J23: 6 | L23: =M22-0.001 -> -0.001 | M23: 0 | O23: =P22-IF($E$32="JA",0.5,IF($F$32<0.5,1,IF($F$32<1.5,0.1,IF($F$32<2.5,0.01,0.001)))) -> -1 | P23: =ROUND(($O$9*M23*IF($E$32="JA",2,1)),F37)/IF($E$32="JA",2,1) -> 0 | T23: =IF(X23="",T22,T22+1) -> 1 | U23: =IF(T23=T22,"",T23&".") | V23: 18 | W23: ="#"&IF(V23<10,"0","")&V23&"#" -> #18# | X23: =IF(VLOOKUP($W23,$AJ$20:$AM$45,2,FALSE)="","",VLOOKUP($W23,$AJ$20:$AM$45,2,FALSE)) | Y23: =IF(VLOOKUP($W23,$AJ$20:$AM$45,3,FALSE)="","",VLOOKUP($W23,$AJ$20:$AM$45,3,FALSE)) | Z23: =X23&IF(OR(X23="",Y23=""),"",", ")&Y23 | AB23: =IF(AND(AA23<=$AZ$6,AA23>=$BA$6),1,IF(AND(AA23<=$AZ$7,AA23>=$BA$7),2,IF(AND(AA23<=$AZ$8,AA23>=$BA$8),3,IF(AND(AA23<=$AZ$9,AA23>=$BA$9),4,IF(AND(AA23<=$AZ$10,AA23>=$BA$10),5,6))))) -> #N/A | AD23: =IF(X23="","",IF(AF23="JA",IF(AA23="","offen",IF(AB23+AC23>6,6,AB23+AC23)),"-/-")) | AE23: =IF(VLOOKUP($W23,$AJ$20:$AM$45,4,FALSE)="","",VLOOKUP($W23,$AJ$20:$AM$45,4,FALSE)) | AF23: =IF(VLOOKUP($W23,$AJ$20:$AU$45,12,FALSE)="","",VLOOKUP($W23,$AJ$20:$AU$45,12,FALSE)) | AJ23: ="#"&IF(AV23<10,"0","")&AV23&"#" -> #04# | AK23: =IF($D$14='KL01'!$C$4,'KL01'!C12,"")&IF($D$14='KL02'!$C$4,'KL02'!C12,"")&IF($D$14='KL03'!$C$4,'KL03'!C12,"")&IF($D$14='KL04'!$C$4,'KL04'!C12,"")&IF($D$14='KL05'!$C$4,'KL05'!C12,"")&IF($D$14='KL06'!$C$4,'KL06'!C12,"")&IF($D$14='KL07'!$C$4,'KL07'!C12,"")&IF($D$14='KL08'!$C$4,'KL08'!C12,"")&IF($D$14='KL09'!$C$4,'KL09'!C12,"")&IF($D$14='KL10'!$C$4,'KL10'!C12,"")&IF($D$14='KL11'!$C$4,'KL11'!C12,"")&IF($D$14='KL12'!$C$4,'KL12'!C12,"") | AL23: =IF($D$14='KL01'!$C$4,'KL01'!D12,"")&IF($D$14='KL02'!$C$4,'KL02'!D12,"")&IF($D$14='KL03'!$C$4,'KL03'!D12,"")&IF($D$14='KL04'!$C$4,'KL04'!D12,"")&IF($D$14='KL05'!$C$4,'KL05'!D12,"")&IF($D$14='KL06'!$C$4,'KL06'!D12,"")&IF($D$14='KL07'!$C$4,'KL07'!D12,"")&IF($D$14='KL08'!$C$4,'KL08'!D12,"")&IF($D$14='KL09'!$C$4,'KL09'!D12,"")&IF($D$14='KL10'!$C$4,'KL10'!D12,"")&IF($D$14='KL11'!$C$4,'KL11'!D12,"")&IF($D$14='KL12'!$C$4,'KL12'!D12,"") | AM23: =IF($D$14='KL01'!$C$4,'KL01'!E12,"")&IF($D$14='KL02'!$C$4,'KL02'!E12,"")&IF($D$14='KL03'!$C$4,'KL03'!E12,"")&IF($D$14='KL04'!$C$4,'KL04'!E12,"")&IF($D$14='KL05'!$C$4,'KL05'!E12,"")&IF($D$14='KL06'!$C$4,'KL06'!E12,"")&IF($D$14='KL07'!$C$4,'KL07'!E12,"")&IF($D$14='KL08'!$C$4,'KL08'!E12,"")&IF($D$14='KL09'!$C$4,'KL09'!E12,"")&IF($D$14='KL10'!$C$4,'KL10'!E12,"")&IF($D$14='KL11'!$C$4,'KL11'!E12,"")&IF($D$14='KL12'!$C$4,'KL12'!E12,"") | AN23: =IF($D$14='KL01'!$C$4,'KL01'!F12,"")&IF($D$14='KL02'!$C$4,'KL02'!F12,"")&IF($D$14='KL03'!$C$4,'KL03'!F12,"")&IF($D$14='KL04'!$C$4,'KL04'!F12,"")&IF($D$14='KL05'!$C$4,'KL05'!F12,"")&IF($D$14='KL06'!$C$4,'KL06'!F12,"")&IF($D$14='KL07'!$C$4,'KL07'!F12,"")&IF($D$14='KL08'!$C$4,'KL08'!F12,"")&IF($D$14='KL09'!$C$4,'KL09'!F12,"")&IF($D$14='KL10'!$C$4,'KL10'!F12,"")&IF($D$14='KL11'!$C$4,'KL11'!F12,"")&IF($D$14='KL12'!$C$4,'KL12'!F12,"") | AO23: =IF($D$14='KL01'!$C$4,'KL01'!G12,"")&IF($D$14='KL02'!$C$4,'KL02'!G12,"")&IF($D$14='KL03'!$C$4,'KL03'!G12,"")&IF($D$14='KL04'!$C$4,'KL04'!G12,"")&IF($D$14='KL05'!$C$4,'KL05'!G12,"")&IF($D$14='KL06'!$C$4,'KL06'!G12,"")&IF($D$14='KL07'!$C$4,'KL07'!G12,"")&IF($D$14='KL08'!$C$4,'KL08'!G12,"")&IF($D$14='KL09'!$C$4,'KL09'!G12,"")&IF($D$14='KL10'!$C$4,'KL10'!G12,"")&IF($D$14='KL11'!$C$4,'KL11'!G12,"")&IF($D$14='KL12'!$C$4,'KL12'!G12,"") | AP23: =IF($D$14='KL01'!$C$4,'KL01'!H12,"")&IF($D$14='KL02'!$C$4,'KL02'!H12,"")&IF($D$14='KL03'!$C$4,'KL03'!H12,"")&IF($D$14='KL04'!$C$4,'KL04'!H12,"")&IF($D$14='KL05'!$C$4,'KL05'!H12,"")&IF($D$14='KL06'!$C$4,'KL06'!H12,"")&IF($D$14='KL07'!$C$4,'KL07'!H12,"")&IF($D$14='KL08'!$C$4,'KL08'!H12,"")&IF($D$14='KL09'!$C$4,'KL09'!H12,"")&IF($D$14='KL10'!$C$4,'KL10'!H12,"")&IF($D$14='KL11'!$C$4,'KL11'!H12,"")&IF($D$14='KL12'!$C$4,'KL12'!H12,"") | AQ23: =IF($D$14='KL01'!$C$4,'KL01'!I12,"")&IF($D$14='KL02'!$C$4,'KL02'!I12,"")&IF($D$14='KL03'!$C$4,'KL03'!I12,"")&IF($D$14='KL04'!$C$4,'KL04'!I12,"")&IF($D$14='KL05'!$C$4,'KL05'!I12,"")&IF($D$14='KL06'!$C$4,'KL06'!I12,"")&IF($D$14='KL07'!$C$4,'KL07'!I12,"")&IF($D$14='KL08'!$C$4,'KL08'!I12,"")&IF($D$14='KL09'!$C$4,'KL09'!I12,"")&IF($D$14='KL10'!$C$4,'KL10'!I12,"")&IF($D$14='KL11'!$C$4,'KL11'!I12,"")&IF($D$14='KL12'!$C$4,'KL12'!I12,"") | AR23: =IF(AO23="","-/-",$AO$19) -> -/- | AS23: =IF(AP23="","-/-",$AP$19) -> -/- | AT23: =IF(AQ23="","-/-",$AQ$19) -> -/- | AU23: =IF(AK23="","",IF($D$19="","JA",IF($D$19=AR23,"JA",IF($D$19=AS23,"JA",IF($D$19=AT23,"JA",""))))) | AV23: =1+SUMPRODUCT(($AW$20:$AW$45<AW23)+(AW23="")*1000) -> 4 | AW23: =IF(AN23&AK23&AL23="","Z"&IF(AX23<10,"0"&AX23,AX23),AN23&AK23&AL23) -> Z04 | AX23: 4 | AZ23: =IF(AZ15>9000,"",FIXED(AZ15,$F$32,FALSE)) -> #N/A | BA23: =IF(BA15>9000,"",FIXED(BA15,$F$32,FALSE)) -> #N/A
C24: Thema: | T24: =IF(X24="",T23,T23+1) -> 1 | U24: =IF(T24=T23,"",T24&".") | V24: 19 | W24: ="#"&IF(V24<10,"0","")&V24&"#" -> #19# | X24: =IF(VLOOKUP($W24,$AJ$20:$AM$45,2,FALSE)="","",VLOOKUP($W24,$AJ$20:$AM$45,2,FALSE)) | Y24: =IF(VLOOKUP($W24,$AJ$20:$AM$45,3,FALSE)="","",VLOOKUP($W24,$AJ$20:$AM$45,3,FALSE)) | Z24: =X24&IF(OR(X24="",Y24=""),"",", ")&Y24 | AB24: =IF(AND(AA24<=$AZ$6,AA24>=$BA$6),1,IF(AND(AA24<=$AZ$7,AA24>=$BA$7),2,IF(AND(AA24<=$AZ$8,AA24>=$BA$8),3,IF(AND(AA24<=$AZ$9,AA24>=$BA$9),4,IF(AND(AA24<=$AZ$10,AA24>=$BA$10),5,6))))) -> #N/A | AD24: =IF(X24="","",IF(AF24="JA",IF(AA24="","offen",IF(AB24+AC24>6,6,AB24+AC24)),"-/-")) | AE24: =IF(VLOOKUP($W24,$AJ$20:$AM$45,4,FALSE)="","",VLOOKUP($W24,$AJ$20:$AM$45,4,FALSE)) | AF24: =IF(VLOOKUP($W24,$AJ$20:$AU$45,12,FALSE)="","",VLOOKUP($W24,$AJ$20:$AU$45,12,FALSE)) | AJ24: ="#"&IF(AV24<10,"0","")&AV24&"#" -> #05# | AK24: =IF($D$14='KL01'!$C$4,'KL01'!C13,"")&IF($D$14='KL02'!$C$4,'KL02'!C13,"")&IF($D$14='KL03'!$C$4,'KL03'!C13,"")&IF($D$14='KL04'!$C$4,'KL04'!C13,"")&IF($D$14='KL05'!$C$4,'KL05'!C13,"")&IF($D$14='KL06'!$C$4,'KL06'!C13,"")&IF($D$14='KL07'!$C$4,'KL07'!C13,"")&IF($D$14='KL08'!$C$4,'KL08'!C13,"")&IF($D$14='KL09'!$C$4,'KL09'!C13,"")&IF($D$14='KL10'!$C$4,'KL10'!C13,"")&IF($D$14='KL11'!$C$4,'KL11'!C13,"")&IF($D$14='KL12'!$C$4,'KL12'!C13,"") | AL24: =IF($D$14='KL01'!$C$4,'KL01'!D13,"")&IF($D$14='KL02'!$C$4,'KL02'!D13,"")&IF($D$14='KL03'!$C$4,'KL03'!D13,"")&IF($D$14='KL04'!$C$4,'KL04'!D13,"")&IF($D$14='KL05'!$C$4,'KL05'!D13,"")&IF($D$14='KL06'!$C$4,'KL06'!D13,"")&IF($D$14='KL07'!$C$4,'KL07'!D13,"")&IF($D$14='KL08'!$C$4,'KL08'!D13,"")&IF($D$14='KL09'!$C$4,'KL09'!D13,"")&IF($D$14='KL10'!$C$4,'KL10'!D13,"")&IF($D$14='KL11'!$C$4,'KL11'!D13,"")&IF($D$14='KL12'!$C$4,'KL12'!D13,"") | AM24: =IF($D$14='KL01'!$C$4,'KL01'!E13,"")&IF($D$14='KL02'!$C$4,'KL02'!E13,"")&IF($D$14='KL03'!$C$4,'KL03'!E13,"")&IF($D$14='KL04'!$C$4,'KL04'!E13,"")&IF($D$14='KL05'!$C$4,'KL05'!E13,"")&IF($D$14='KL06'!$C$4,'KL06'!E13,"")&IF($D$14='KL07'!$C$4,'KL07'!E13,"")&IF($D$14='KL08'!$C$4,'KL08'!E13,"")&IF($D$14='KL09'!$C$4,'KL09'!E13,"")&IF($D$14='KL10'!$C$4,'KL10'!E13,"")&IF($D$14='KL11'!$C$4,'KL11'!E13,"")&IF($D$14='KL12'!$C$4,'KL12'!E13,"") | AN24: =IF($D$14='KL01'!$C$4,'KL01'!F13,"")&IF($D$14='KL02'!$C$4,'KL02'!F13,"")&IF($D$14='KL03'!$C$4,'KL03'!F13,"")&IF($D$14='KL04'!$C$4,'KL04'!F13,"")&IF($D$14='KL05'!$C$4,'KL05'!F13,"")&IF($D$14='KL06'!$C$4,'KL06'!F13,"")&IF($D$14='KL07'!$C$4,'KL07'!F13,"")&IF($D$14='KL08'!$C$4,'KL08'!F13,"")&IF($D$14='KL09'!$C$4,'KL09'!F13,"")&IF($D$14='KL10'!$C$4,'KL10'!F13,"")&IF($D$14='KL11'!$C$4,'KL11'!F13,"")&IF($D$14='KL12'!$C$4,'KL12'!F13,"") | AO24: =IF($D$14='KL01'!$C$4,'KL01'!G13,"")&IF($D$14='KL02'!$C$4,'KL02'!G13,"")&IF($D$14='KL03'!$C$4,'KL03'!G13,"")&IF($D$14='KL04'!$C$4,'KL04'!G13,"")&IF($D$14='KL05'!$C$4,'KL05'!G13,"")&IF($D$14='KL06'!$C$4,'KL06'!G13,"")&IF($D$14='KL07'!$C$4,'KL07'!G13,"")&IF($D$14='KL08'!$C$4,'KL08'!G13,"")&IF($D$14='KL09'!$C$4,'KL09'!G13,"")&IF($D$14='KL10'!$C$4,'KL10'!G13,"")&IF($D$14='KL11'!$C$4,'KL11'!G13,"")&IF($D$14='KL12'!$C$4,'KL12'!G13,"") | AP24: =IF($D$14='KL01'!$C$4,'KL01'!H13,"")&IF($D$14='KL02'!$C$4,'KL02'!H13,"")&IF($D$14='KL03'!$C$4,'KL03'!H13,"")&IF($D$14='KL04'!$C$4,'KL04'!H13,"")&IF($D$14='KL05'!$C$4,'KL05'!H13,"")&IF($D$14='KL06'!$C$4,'KL06'!H13,"")&IF($D$14='KL07'!$C$4,'KL07'!H13,"")&IF($D$14='KL08'!$C$4,'KL08'!H13,"")&IF($D$14='KL09'!$C$4,'KL09'!H13,"")&IF($D$14='KL10'!$C$4,'KL10'!H13,"")&IF($D$14='KL11'!$C$4,'KL11'!H13,"")&IF($D$14='KL12'!$C$4,'KL12'!H13,"") | AQ24: =IF($D$14='KL01'!$C$4,'KL01'!I13,"")&IF($D$14='KL02'!$C$4,'KL02'!I13,"")&IF($D$14='KL03'!$C$4,'KL03'!I13,"")&IF($D$14='KL04'!$C$4,'KL04'!I13,"")&IF($D$14='KL05'!$C$4,'KL05'!I13,"")&IF($D$14='KL06'!$C$4,'KL06'!I13,"")&IF($D$14='KL07'!$C$4,'KL07'!I13,"")&IF($D$14='KL08'!$C$4,'KL08'!I13,"")&IF($D$14='KL09'!$C$4,'KL09'!I13,"")&IF($D$14='KL10'!$C$4,'KL10'!I13,"")&IF($D$14='KL11'!$C$4,'KL11'!I13,"")&IF($D$14='KL12'!$C$4,'KL12'!I13,"") | AR24: =IF(AO24="","-/-",$AO$19) -> -/- | AS24: =IF(AP24="","-/-",$AP$19) -> -/- | AT24: =IF(AQ24="","-/-",$AQ$19) -> -/- | AU24: =IF(AK24="","",IF($D$19="","JA",IF($D$19=AR24,"JA",IF($D$19=AS24,"JA",IF($D$19=AT24,"JA",""))))) | AV24: =1+SUMPRODUCT(($AW$20:$AW$45<AW24)+(AW24="")*1000) -> 5 | AW24: =IF(AN24&AK24&AL24="","Z"&IF(AX24<10,"0"&AX24,AX24),AN24&AK24&AL24) -> Z05 | AX24: 5 | AZ24: =IF(AZ16>9000,"",FIXED(AZ16,$F$32,FALSE)) -> #N/A | BA24: =IF(BA16>9000,"",FIXED(BA16,$F$32,FALSE)) -> #N/A
C25: Arbeitszeit: | J25: =IF(OR(M27="",M28="",M29="",M30="",M31=""),"-","x") -> - | L25: Punkte | O25: Fehler | T25: =IF(X25="",T24,T24+1) -> 1 | U25: =IF(T25=T24,"",T25&".") | V25: 20 | W25: ="#"&IF(V25<10,"0","")&V25&"#" -> #20# | X25: =IF(VLOOKUP($W25,$AJ$20:$AM$45,2,FALSE)="","",VLOOKUP($W25,$AJ$20:$AM$45,2,FALSE)) | Y25: =IF(VLOOKUP($W25,$AJ$20:$AM$45,3,FALSE)="","",VLOOKUP($W25,$AJ$20:$AM$45,3,FALSE)) | Z25: =X25&IF(OR(X25="",Y25=""),"",", ")&Y25 | AB25: =IF(AND(AA25<=$AZ$6,AA25>=$BA$6),1,IF(AND(AA25<=$AZ$7,AA25>=$BA$7),2,IF(AND(AA25<=$AZ$8,AA25>=$BA$8),3,IF(AND(AA25<=$AZ$9,AA25>=$BA$9),4,IF(AND(AA25<=$AZ$10,AA25>=$BA$10),5,6))))) -> #N/A | AD25: =IF(X25="","",IF(AF25="JA",IF(AA25="","offen",IF(AB25+AC25>6,6,AB25+AC25)),"-/-")) | AE25: =IF(VLOOKUP($W25,$AJ$20:$AM$45,4,FALSE)="","",VLOOKUP($W25,$AJ$20:$AM$45,4,FALSE)) | AF25: =IF(VLOOKUP($W25,$AJ$20:$AU$45,12,FALSE)="","",VLOOKUP($W25,$AJ$20:$AU$45,12,FALSE)) | AJ25: ="#"&IF(AV25<10,"0","")&AV25&"#" -> #06# | AK25: =IF($D$14='KL01'!$C$4,'KL01'!C14,"")&IF($D$14='KL02'!$C$4,'KL02'!C14,"")&IF($D$14='KL03'!$C$4,'KL03'!C14,"")&IF($D$14='KL04'!$C$4,'KL04'!C14,"")&IF($D$14='KL05'!$C$4,'KL05'!C14,"")&IF($D$14='KL06'!$C$4,'KL06'!C14,"")&IF($D$14='KL07'!$C$4,'KL07'!C14,"")&IF($D$14='KL08'!$C$4,'KL08'!C14,"")&IF($D$14='KL09'!$C$4,'KL09'!C14,"")&IF($D$14='KL10'!$C$4,'KL10'!C14,"")&IF($D$14='KL11'!$C$4,'KL11'!C14,"")&IF($D$14='KL12'!$C$4,'KL12'!C14,"") | AL25: =IF($D$14='KL01'!$C$4,'KL01'!D14,"")&IF($D$14='KL02'!$C$4,'KL02'!D14,"")&IF($D$14='KL03'!$C$4,'KL03'!D14,"")&IF($D$14='KL04'!$C$4,'KL04'!D14,"")&IF($D$14='KL05'!$C$4,'KL05'!D14,"")&IF($D$14='KL06'!$C$4,'KL06'!D14,"")&IF($D$14='KL07'!$C$4,'KL07'!D14,"")&IF($D$14='KL08'!$C$4,'KL08'!D14,"")&IF($D$14='KL09'!$C$4,'KL09'!D14,"")&IF($D$14='KL10'!$C$4,'KL10'!D14,"")&IF($D$14='KL11'!$C$4,'KL11'!D14,"")&IF($D$14='KL12'!$C$4,'KL12'!D14,"") | AM25: =IF($D$14='KL01'!$C$4,'KL01'!E14,"")&IF($D$14='KL02'!$C$4,'KL02'!E14,"")&IF($D$14='KL03'!$C$4,'KL03'!E14,"")&IF($D$14='KL04'!$C$4,'KL04'!E14,"")&IF($D$14='KL05'!$C$4,'KL05'!E14,"")&IF($D$14='KL06'!$C$4,'KL06'!E14,"")&IF($D$14='KL07'!$C$4,'KL07'!E14,"")&IF($D$14='KL08'!$C$4,'KL08'!E14,"")&IF($D$14='KL09'!$C$4,'KL09'!E14,"")&IF($D$14='KL10'!$C$4,'KL10'!E14,"")&IF($D$14='KL11'!$C$4,'KL11'!E14,"")&IF($D$14='KL12'!$C$4,'KL12'!E14,"") | AN25: =IF($D$14='KL01'!$C$4,'KL01'!F14,"")&IF($D$14='KL02'!$C$4,'KL02'!F14,"")&IF($D$14='KL03'!$C$4,'KL03'!F14,"")&IF($D$14='KL04'!$C$4,'KL04'!F14,"")&IF($D$14='KL05'!$C$4,'KL05'!F14,"")&IF($D$14='KL06'!$C$4,'KL06'!F14,"")&IF($D$14='KL07'!$C$4,'KL07'!F14,"")&IF($D$14='KL08'!$C$4,'KL08'!F14,"")&IF($D$14='KL09'!$C$4,'KL09'!F14,"")&IF($D$14='KL10'!$C$4,'KL10'!F14,"")&IF($D$14='KL11'!$C$4,'KL11'!F14,"")&IF($D$14='KL12'!$C$4,'KL12'!F14,"") | AO25: =IF($D$14='KL01'!$C$4,'KL01'!G14,"")&IF($D$14='KL02'!$C$4,'KL02'!G14,"")&IF($D$14='KL03'!$C$4,'KL03'!G14,"")&IF($D$14='KL04'!$C$4,'KL04'!G14,"")&IF($D$14='KL05'!$C$4,'KL05'!G14,"")&IF($D$14='KL06'!$C$4,'KL06'!G14,"")&IF($D$14='KL07'!$C$4,'KL07'!G14,"")&IF($D$14='KL08'!$C$4,'KL08'!G14,"")&IF($D$14='KL09'!$C$4,'KL09'!G14,"")&IF($D$14='KL10'!$C$4,'KL10'!G14,"")&IF($D$14='KL11'!$C$4,'KL11'!G14,"")&IF($D$14='KL12'!$C$4,'KL12'!G14,"") | AP25: =IF($D$14='KL01'!$C$4,'KL01'!H14,"")&IF($D$14='KL02'!$C$4,'KL02'!H14,"")&IF($D$14='KL03'!$C$4,'KL03'!H14,"")&IF($D$14='KL04'!$C$4,'KL04'!H14,"")&IF($D$14='KL05'!$C$4,'KL05'!H14,"")&IF($D$14='KL06'!$C$4,'KL06'!H14,"")&IF($D$14='KL07'!$C$4,'KL07'!H14,"")&IF($D$14='KL08'!$C$4,'KL08'!H14,"")&IF($D$14='KL09'!$C$4,'KL09'!H14,"")&IF($D$14='KL10'!$C$4,'KL10'!H14,"")&IF($D$14='KL11'!$C$4,'KL11'!H14,"")&IF($D$14='KL12'!$C$4,'KL12'!H14,"") | AQ25: =IF($D$14='KL01'!$C$4,'KL01'!I14,"")&IF($D$14='KL02'!$C$4,'KL02'!I14,"")&IF($D$14='KL03'!$C$4,'KL03'!I14,"")&IF($D$14='KL04'!$C$4,'KL04'!I14,"")&IF($D$14='KL05'!$C$4,'KL05'!I14,"")&IF($D$14='KL06'!$C$4,'KL06'!I14,"")&IF($D$14='KL07'!$C$4,'KL07'!I14,"")&IF($D$14='KL08'!$C$4,'KL08'!I14,"")&IF($D$14='KL09'!$C$4,'KL09'!I14,"")&IF($D$14='KL10'!$C$4,'KL10'!I14,"")&IF($D$14='KL11'!$C$4,'KL11'!I14,"")&IF($D$14='KL12'!$C$4,'KL12'!I14,"") | AR25: =IF(AO25="","-/-",$AO$19) -> -/- | AS25: =IF(AP25="","-/-",$AP$19) -> -/- | AT25: =IF(AQ25="","-/-",$AQ$19) -> -/- | AU25: =IF(AK25="","",IF($D$19="","JA",IF($D$19=AR25,"JA",IF($D$19=AS25,"JA",IF($D$19=AT25,"JA",""))))) | AV25: =1+SUMPRODUCT(($AW$20:$AW$45<AW25)+(AW25="")*1000) -> 6 | AW25: =IF(AN25&AK25&AL25="","Z"&IF(AX25<10,"0"&AX25,AX25),AN25&AK25&AL25) -> Z06 | AX25: 6 | AZ25: =IF(AZ17>9000,"",FIXED(AZ17,$F$32,FALSE)) -> #N/A | BA25: =IF(BA17>9000,"",FIXED(BA17,$F$32,FALSE)) -> #N/A
J26: Note | L26: kleiner gleich | M26: größer gleich | O26: kleiner gleich | P26: größer gleich | T26: =IF(X26="",T25,T25+1) -> 1 | U26: =IF(T26=T25,"",T26&".") | V26: 21 | W26: ="#"&IF(V26<10,"0","")&V26&"#" -> #21# | X26: =IF(VLOOKUP($W26,$AJ$20:$AM$45,2,FALSE)="","",VLOOKUP($W26,$AJ$20:$AM$45,2,FALSE)) | Y26: =IF(VLOOKUP($W26,$AJ$20:$AM$45,3,FALSE)="","",VLOOKUP($W26,$AJ$20:$AM$45,3,FALSE)) | Z26: =X26&IF(OR(X26="",Y26=""),"",", ")&Y26 | AB26: =IF(AND(AA26<=$AZ$6,AA26>=$BA$6),1,IF(AND(AA26<=$AZ$7,AA26>=$BA$7),2,IF(AND(AA26<=$AZ$8,AA26>=$BA$8),3,IF(AND(AA26<=$AZ$9,AA26>=$BA$9),4,IF(AND(AA26<=$AZ$10,AA26>=$BA$10),5,6))))) -> #N/A | AD26: =IF(X26="","",IF(AF26="JA",IF(AA26="","offen",IF(AB26+AC26>6,6,AB26+AC26)),"-/-")) | AE26: =IF(VLOOKUP($W26,$AJ$20:$AM$45,4,FALSE)="","",VLOOKUP($W26,$AJ$20:$AM$45,4,FALSE)) | AF26: =IF(VLOOKUP($W26,$AJ$20:$AU$45,12,FALSE)="","",VLOOKUP($W26,$AJ$20:$AU$45,12,FALSE)) | AJ26: ="#"&IF(AV26<10,"0","")&AV26&"#" -> #07# | AK26: =IF($D$14='KL01'!$C$4,'KL01'!C15,"")&IF($D$14='KL02'!$C$4,'KL02'!C15,"")&IF($D$14='KL03'!$C$4,'KL03'!C15,"")&IF($D$14='KL04'!$C$4,'KL04'!C15,"")&IF($D$14='KL05'!$C$4,'KL05'!C15,"")&IF($D$14='KL06'!$C$4,'KL06'!C15,"")&IF($D$14='KL07'!$C$4,'KL07'!C15,"")&IF($D$14='KL08'!$C$4,'KL08'!C15,"")&IF($D$14='KL09'!$C$4,'KL09'!C15,"")&IF($D$14='KL10'!$C$4,'KL10'!C15,"")&IF($D$14='KL11'!$C$4,'KL11'!C15,"")&IF($D$14='KL12'!$C$4,'KL12'!C15,"") | AL26: =IF($D$14='KL01'!$C$4,'KL01'!D15,"")&IF($D$14='KL02'!$C$4,'KL02'!D15,"")&IF($D$14='KL03'!$C$4,'KL03'!D15,"")&IF($D$14='KL04'!$C$4,'KL04'!D15,"")&IF($D$14='KL05'!$C$4,'KL05'!D15,"")&IF($D$14='KL06'!$C$4,'KL06'!D15,"")&IF($D$14='KL07'!$C$4,'KL07'!D15,"")&IF($D$14='KL08'!$C$4,'KL08'!D15,"")&IF($D$14='KL09'!$C$4,'KL09'!D15,"")&IF($D$14='KL10'!$C$4,'KL10'!D15,"")&IF($D$14='KL11'!$C$4,'KL11'!D15,"")&IF($D$14='KL12'!$C$4,'KL12'!D15,"") | AM26: =IF($D$14='KL01'!$C$4,'KL01'!E15,"")&IF($D$14='KL02'!$C$4,'KL02'!E15,"")&IF($D$14='KL03'!$C$4,'KL03'!E15,"")&IF($D$14='KL04'!$C$4,'KL04'!E15,"")&IF($D$14='KL05'!$C$4,'KL05'!E15,"")&IF($D$14='KL06'!$C$4,'KL06'!E15,"")&IF($D$14='KL07'!$C$4,'KL07'!E15,"")&IF($D$14='KL08'!$C$4,'KL08'!E15,"")&IF($D$14='KL09'!$C$4,'KL09'!E15,"")&IF($D$14='KL10'!$C$4,'KL10'!E15,"")&IF($D$14='KL11'!$C$4,'KL11'!E15,"")&IF($D$14='KL12'!$C$4,'KL12'!E15,"") | AN26: =IF($D$14='KL01'!$C$4,'KL01'!F15,"")&IF($D$14='KL02'!$C$4,'KL02'!F15,"")&IF($D$14='KL03'!$C$4,'KL03'!F15,"")&IF($D$14='KL04'!$C$4,'KL04'!F15,"")&IF($D$14='KL05'!$C$4,'KL05'!F15,"")&IF($D$14='KL06'!$C$4,'KL06'!F15,"")&IF($D$14='KL07'!$C$4,'KL07'!F15,"")&IF($D$14='KL08'!$C$4,'KL08'!F15,"")&IF($D$14='KL09'!$C$4,'KL09'!F15,"")&IF($D$14='KL10'!$C$4,'KL10'!F15,"")&IF($D$14='KL11'!$C$4,'KL11'!F15,"")&IF($D$14='KL12'!$C$4,'KL12'!F15,"") | AO26: =IF($D$14='KL01'!$C$4,'KL01'!G15,"")&IF($D$14='KL02'!$C$4,'KL02'!G15,"")&IF($D$14='KL03'!$C$4,'KL03'!G15,"")&IF($D$14='KL04'!$C$4,'KL04'!G15,"")&IF($D$14='KL05'!$C$4,'KL05'!G15,"")&IF($D$14='KL06'!$C$4,'KL06'!G15,"")&IF($D$14='KL07'!$C$4,'KL07'!G15,"")&IF($D$14='KL08'!$C$4,'KL08'!G15,"")&IF($D$14='KL09'!$C$4,'KL09'!G15,"")&IF($D$14='KL10'!$C$4,'KL10'!G15,"")&IF($D$14='KL11'!$C$4,'KL11'!G15,"")&IF($D$14='KL12'!$C$4,'KL12'!G15,"") | AP26: =IF($D$14='KL01'!$C$4,'KL01'!H15,"")&IF($D$14='KL02'!$C$4,'KL02'!H15,"")&IF($D$14='KL03'!$C$4,'KL03'!H15,"")&IF($D$14='KL04'!$C$4,'KL04'!H15,"")&IF($D$14='KL05'!$C$4,'KL05'!H15,"")&IF($D$14='KL06'!$C$4,'KL06'!H15,"")&IF($D$14='KL07'!$C$4,'KL07'!H15,"")&IF($D$14='KL08'!$C$4,'KL08'!H15,"")&IF($D$14='KL09'!$C$4,'KL09'!H15,"")&IF($D$14='KL10'!$C$4,'KL10'!H15,"")&IF($D$14='KL11'!$C$4,'KL11'!H15,"")&IF($D$14='KL12'!$C$4,'KL12'!H15,"") | AQ26: =IF($D$14='KL01'!$C$4,'KL01'!I15,"")&IF($D$14='KL02'!$C$4,'KL02'!I15,"")&IF($D$14='KL03'!$C$4,'KL03'!I15,"")&IF($D$14='KL04'!$C$4,'KL04'!I15,"")&IF($D$14='KL05'!$C$4,'KL05'!I15,"")&IF($D$14='KL06'!$C$4,'KL06'!I15,"")&IF($D$14='KL07'!$C$4,'KL07'!I15,"")&IF($D$14='KL08'!$C$4,'KL08'!I15,"")&IF($D$14='KL09'!$C$4,'KL09'!I15,"")&IF($D$14='KL10'!$C$4,'KL10'!I15,"")&IF($D$14='KL11'!$C$4,'KL11'!I15,"")&IF($D$14='KL12'!$C$4,'KL12'!I15,"") | AR26: =IF(AO26="","-/-",$AO$19) -> -/- | AS26: =IF(AP26="","-/-",$AP$19) -> -/- | AT26: =IF(AQ26="","-/-",$AQ$19) -> -/- | AU26: =IF(AK26="","",IF($D$19="","JA",IF($D$19=AR26,"JA",IF($D$19=AS26,"JA",IF($D$19=AT26,"JA",""))))) | AV26: =1+SUMPRODUCT(($AW$20:$AW$45<AW26)+(AW26="")*1000) -> 7 | AW26: =IF(AN26&AK26&AL26="","Z"&IF(AX26<10,"0"&AX26,AX26),AN26&AK26&AL26) -> Z07 | AX26: 7 | AZ26: =IF(AZ18>9000,"",FIXED(AZ18,$F$32,FALSE)) -> #N/A | BA26: =IF(BA18>9000,"",FIXED(BA18,$F$32,FALSE)) -> #N/A
D27: Punkte | E27: Meter | F27: =IF(L58="","-/-",L58) -> -/- | J27: 1 | L27: =O5 -> 100 | P27: 0 | T27: =IF(X27="",T26,T26+1) -> 1 | U27: =IF(T27=T26,"",T27&".") | V27: 22 | W27: ="#"&IF(V27<10,"0","")&V27&"#" -> #22# | X27: =IF(VLOOKUP($W27,$AJ$20:$AM$45,2,FALSE)="","",VLOOKUP($W27,$AJ$20:$AM$45,2,FALSE)) | Y27: =IF(VLOOKUP($W27,$AJ$20:$AM$45,3,FALSE)="","",VLOOKUP($W27,$AJ$20:$AM$45,3,FALSE)) | Z27: =X27&IF(OR(X27="",Y27=""),"",", ")&Y27 | AB27: =IF(AND(AA27<=$AZ$6,AA27>=$BA$6),1,IF(AND(AA27<=$AZ$7,AA27>=$BA$7),2,IF(AND(AA27<=$AZ$8,AA27>=$BA$8),3,IF(AND(AA27<=$AZ$9,AA27>=$BA$9),4,IF(AND(AA27<=$AZ$10,AA27>=$BA$10),5,6))))) -> #N/A | AD27: =IF(X27="","",IF(AF27="JA",IF(AA27="","offen",IF(AB27+AC27>6,6,AB27+AC27)),"-/-")) | AE27: =IF(VLOOKUP($W27,$AJ$20:$AM$45,4,FALSE)="","",VLOOKUP($W27,$AJ$20:$AM$45,4,FALSE)) | AF27: =IF(VLOOKUP($W27,$AJ$20:$AU$45,12,FALSE)="","",VLOOKUP($W27,$AJ$20:$AU$45,12,FALSE)) | AJ27: ="#"&IF(AV27<10,"0","")&AV27&"#" -> #08# | AK27: =IF($D$14='KL01'!$C$4,'KL01'!C16,"")&IF($D$14='KL02'!$C$4,'KL02'!C16,"")&IF($D$14='KL03'!$C$4,'KL03'!C16,"")&IF($D$14='KL04'!$C$4,'KL04'!C16,"")&IF($D$14='KL05'!$C$4,'KL05'!C16,"")&IF($D$14='KL06'!$C$4,'KL06'!C16,"")&IF($D$14='KL07'!$C$4,'KL07'!C16,"")&IF($D$14='KL08'!$C$4,'KL08'!C16,"")&IF($D$14='KL09'!$C$4,'KL09'!C16,"")&IF($D$14='KL10'!$C$4,'KL10'!C16,"")&IF($D$14='KL11'!$C$4,'KL11'!C16,"")&IF($D$14='KL12'!$C$4,'KL12'!C16,"") | AL27: =IF($D$14='KL01'!$C$4,'KL01'!D16,"")&IF($D$14='KL02'!$C$4,'KL02'!D16,"")&IF($D$14='KL03'!$C$4,'KL03'!D16,"")&IF($D$14='KL04'!$C$4,'KL04'!D16,"")&IF($D$14='KL05'!$C$4,'KL05'!D16,"")&IF($D$14='KL06'!$C$4,'KL06'!D16,"")&IF($D$14='KL07'!$C$4,'KL07'!D16,"")&IF($D$14='KL08'!$C$4,'KL08'!D16,"")&IF($D$14='KL09'!$C$4,'KL09'!D16,"")&IF($D$14='KL10'!$C$4,'KL10'!D16,"")&IF($D$14='KL11'!$C$4,'KL11'!D16,"")&IF($D$14='KL12'!$C$4,'KL12'!D16,"") | AM27: =IF($D$14='KL01'!$C$4,'KL01'!E16,"")&IF($D$14='KL02'!$C$4,'KL02'!E16,"")&IF($D$14='KL03'!$C$4,'KL03'!E16,"")&IF($D$14='KL04'!$C$4,'KL04'!E16,"")&IF($D$14='KL05'!$C$4,'KL05'!E16,"")&IF($D$14='KL06'!$C$4,'KL06'!E16,"")&IF($D$14='KL07'!$C$4,'KL07'!E16,"")&IF($D$14='KL08'!$C$4,'KL08'!E16,"")&IF($D$14='KL09'!$C$4,'KL09'!E16,"")&IF($D$14='KL10'!$C$4,'KL10'!E16,"")&IF($D$14='KL11'!$C$4,'KL11'!E16,"")&IF($D$14='KL12'!$C$4,'KL12'!E16,"") | AN27: =IF($D$14='KL01'!$C$4,'KL01'!F16,"")&IF($D$14='KL02'!$C$4,'KL02'!F16,"")&IF($D$14='KL03'!$C$4,'KL03'!F16,"")&IF($D$14='KL04'!$C$4,'KL04'!F16,"")&IF($D$14='KL05'!$C$4,'KL05'!F16,"")&IF($D$14='KL06'!$C$4,'KL06'!F16,"")&IF($D$14='KL07'!$C$4,'KL07'!F16,"")&IF($D$14='KL08'!$C$4,'KL08'!F16,"")&IF($D$14='KL09'!$C$4,'KL09'!F16,"")&IF($D$14='KL10'!$C$4,'KL10'!F16,"")&IF($D$14='KL11'!$C$4,'KL11'!F16,"")&IF($D$14='KL12'!$C$4,'KL12'!F16,"") | AO27: =IF($D$14='KL01'!$C$4,'KL01'!G16,"")&IF($D$14='KL02'!$C$4,'KL02'!G16,"")&IF($D$14='KL03'!$C$4,'KL03'!G16,"")&IF($D$14='KL04'!$C$4,'KL04'!G16,"")&IF($D$14='KL05'!$C$4,'KL05'!G16,"")&IF($D$14='KL06'!$C$4,'KL06'!G16,"")&IF($D$14='KL07'!$C$4,'KL07'!G16,"")&IF($D$14='KL08'!$C$4,'KL08'!G16,"")&IF($D$14='KL09'!$C$4,'KL09'!G16,"")&IF($D$14='KL10'!$C$4,'KL10'!G16,"")&IF($D$14='KL11'!$C$4,'KL11'!G16,"")&IF($D$14='KL12'!$C$4,'KL12'!G16,"") | AP27: =IF($D$14='KL01'!$C$4,'KL01'!H16,"")&IF($D$14='KL02'!$C$4,'KL02'!H16,"")&IF($D$14='KL03'!$C$4,'KL03'!H16,"")&IF($D$14='KL04'!$C$4,'KL04'!H16,"")&IF($D$14='KL05'!$C$4,'KL05'!H16,"")&IF($D$14='KL06'!$C$4,'KL06'!H16,"")&IF($D$14='KL07'!$C$4,'KL07'!H16,"")&IF($D$14='KL08'!$C$4,'KL08'!H16,"")&IF($D$14='KL09'!$C$4,'KL09'!H16,"")&IF($D$14='KL10'!$C$4,'KL10'!H16,"")&IF($D$14='KL11'!$C$4,'KL11'!H16,"")&IF($D$14='KL12'!$C$4,'KL12'!H16,"") | AQ27: =IF($D$14='KL01'!$C$4,'KL01'!I16,"")&IF($D$14='KL02'!$C$4,'KL02'!I16,"")&IF($D$14='KL03'!$C$4,'KL03'!I16,"")&IF($D$14='KL04'!$C$4,'KL04'!I16,"")&IF($D$14='KL05'!$C$4,'KL05'!I16,"")&IF($D$14='KL06'!$C$4,'KL06'!I16,"")&IF($D$14='KL07'!$C$4,'KL07'!I16,"")&IF($D$14='KL08'!$C$4,'KL08'!I16,"")&IF($D$14='KL09'!$C$4,'KL09'!I16,"")&IF($D$14='KL10'!$C$4,'KL10'!I16,"")&IF($D$14='KL11'!$C$4,'KL11'!I16,"")&IF($D$14='KL12'!$C$4,'KL12'!I16,"") | AR27: =IF(AO27="","-/-",$AO$19) -> -/- | AS27: =IF(AP27="","-/-",$AP$19) -> -/- | AT27: =IF(AQ27="","-/-",$AQ$19) -> -/- | AU27: =IF(AK27="","",IF($D$19="","JA",IF($D$19=AR27,"JA",IF($D$19=AS27,"JA",IF($D$19=AT27,"JA",""))))) | AV27: =1+SUMPRODUCT(($AW$20:$AW$45<AW27)+(AW27="")*1000) -> 8 | AW27: =IF(AN27&AK27&AL27="","Z"&IF(AX27<10,"0"&AX27,AX27),AN27&AK27&AL27) -> Z08 | AX27: 8 | AZ27: =IF(AZ19>9000,"",FIXED(AZ19,$F$32,FALSE)) -> #N/A | BA27: =IF(BA19>9000,"",FIXED(BA19,$F$32,FALSE)) -> #N/A
D28: Prozent | E28: Sekunden | F28: =IF(O58="","-/-",O58) -> -/- | J28: 2 | L28: =M27-IF($E$32="JA",0.5,IF($F$32<0.5,1,IF($F$32<1.5,0.1,IF($F$32<2.5,0.01,0.001)))) -> -1 | P28: =O27+IF($E$32="JA",0.5,IF($F$32<0.5,1,IF($F$32<1.5,0.1,IF($F$32<2.5,0.01,0.001)))) -> 1 | T28: =IF(X28="",T27,T27+1) -> 1 | U28: =IF(T28=T27,"",T28&".") | V28: 23 | W28: ="#"&IF(V28<10,"0","")&V28&"#" -> #23# | X28: =IF(VLOOKUP($W28,$AJ$20:$AM$45,2,FALSE)="","",VLOOKUP($W28,$AJ$20:$AM$45,2,FALSE)) | Y28: =IF(VLOOKUP($W28,$AJ$20:$AM$45,3,FALSE)="","",VLOOKUP($W28,$AJ$20:$AM$45,3,FALSE)) | Z28: =X28&IF(OR(X28="",Y28=""),"",", ")&Y28 | AB28: =IF(AND(AA28<=$AZ$6,AA28>=$BA$6),1,IF(AND(AA28<=$AZ$7,AA28>=$BA$7),2,IF(AND(AA28<=$AZ$8,AA28>=$BA$8),3,IF(AND(AA28<=$AZ$9,AA28>=$BA$9),4,IF(AND(AA28<=$AZ$10,AA28>=$BA$10),5,6))))) -> #N/A | AD28: =IF(X28="","",IF(AF28="JA",IF(AA28="","offen",IF(AB28+AC28>6,6,AB28+AC28)),"-/-")) | AE28: =IF(VLOOKUP($W28,$AJ$20:$AM$45,4,FALSE)="","",VLOOKUP($W28,$AJ$20:$AM$45,4,FALSE)) | AF28: =IF(VLOOKUP($W28,$AJ$20:$AU$45,12,FALSE)="","",VLOOKUP($W28,$AJ$20:$AU$45,12,FALSE)) | AJ28: ="#"&IF(AV28<10,"0","")&AV28&"#" -> #09# | AK28: =IF($D$14='KL01'!$C$4,'KL01'!C17,"")&IF($D$14='KL02'!$C$4,'KL02'!C17,"")&IF($D$14='KL03'!$C$4,'KL03'!C17,"")&IF($D$14='KL04'!$C$4,'KL04'!C17,"")&IF($D$14='KL05'!$C$4,'KL05'!C17,"")&IF($D$14='KL06'!$C$4,'KL06'!C17,"")&IF($D$14='KL07'!$C$4,'KL07'!C17,"")&IF($D$14='KL08'!$C$4,'KL08'!C17,"")&IF($D$14='KL09'!$C$4,'KL09'!C17,"")&IF($D$14='KL10'!$C$4,'KL10'!C17,"")&IF($D$14='KL11'!$C$4,'KL11'!C17,"")&IF($D$14='KL12'!$C$4,'KL12'!C17,"") | AL28: =IF($D$14='KL01'!$C$4,'KL01'!D17,"")&IF($D$14='KL02'!$C$4,'KL02'!D17,"")&IF($D$14='KL03'!$C$4,'KL03'!D17,"")&IF($D$14='KL04'!$C$4,'KL04'!D17,"")&IF($D$14='KL05'!$C$4,'KL05'!D17,"")&IF($D$14='KL06'!$C$4,'KL06'!D17,"")&IF($D$14='KL07'!$C$4,'KL07'!D17,"")&IF($D$14='KL08'!$C$4,'KL08'!D17,"")&IF($D$14='KL09'!$C$4,'KL09'!D17,"")&IF($D$14='KL10'!$C$4,'KL10'!D17,"")&IF($D$14='KL11'!$C$4,'KL11'!D17,"")&IF($D$14='KL12'!$C$4,'KL12'!D17,"") | AM28: =IF($D$14='KL01'!$C$4,'KL01'!E17,"")&IF($D$14='KL02'!$C$4,'KL02'!E17,"")&IF($D$14='KL03'!$C$4,'KL03'!E17,"")&IF($D$14='KL04'!$C$4,'KL04'!E17,"")&IF($D$14='KL05'!$C$4,'KL05'!E17,"")&IF($D$14='KL06'!$C$4,'KL06'!E17,"")&IF($D$14='KL07'!$C$4,'KL07'!E17,"")&IF($D$14='KL08'!$C$4,'KL08'!E17,"")&IF($D$14='KL09'!$C$4,'KL09'!E17,"")&IF($D$14='KL10'!$C$4,'KL10'!E17,"")&IF($D$14='KL11'!$C$4,'KL11'!E17,"")&IF($D$14='KL12'!$C$4,'KL12'!E17,"") | AN28: =IF($D$14='KL01'!$C$4,'KL01'!F17,"")&IF($D$14='KL02'!$C$4,'KL02'!F17,"")&IF($D$14='KL03'!$C$4,'KL03'!F17,"")&IF($D$14='KL04'!$C$4,'KL04'!F17,"")&IF($D$14='KL05'!$C$4,'KL05'!F17,"")&IF($D$14='KL06'!$C$4,'KL06'!F17,"")&IF($D$14='KL07'!$C$4,'KL07'!F17,"")&IF($D$14='KL08'!$C$4,'KL08'!F17,"")&IF($D$14='KL09'!$C$4,'KL09'!F17,"")&IF($D$14='KL10'!$C$4,'KL10'!F17,"")&IF($D$14='KL11'!$C$4,'KL11'!F17,"")&IF($D$14='KL12'!$C$4,'KL12'!F17,"") | AO28: =IF($D$14='KL01'!$C$4,'KL01'!G17,"")&IF($D$14='KL02'!$C$4,'KL02'!G17,"")&IF($D$14='KL03'!$C$4,'KL03'!G17,"")&IF($D$14='KL04'!$C$4,'KL04'!G17,"")&IF($D$14='KL05'!$C$4,'KL05'!G17,"")&IF($D$14='KL06'!$C$4,'KL06'!G17,"")&IF($D$14='KL07'!$C$4,'KL07'!G17,"")&IF($D$14='KL08'!$C$4,'KL08'!G17,"")&IF($D$14='KL09'!$C$4,'KL09'!G17,"")&IF($D$14='KL10'!$C$4,'KL10'!G17,"")&IF($D$14='KL11'!$C$4,'KL11'!G17,"")&IF($D$14='KL12'!$C$4,'KL12'!G17,"") | AP28: =IF($D$14='KL01'!$C$4,'KL01'!H17,"")&IF($D$14='KL02'!$C$4,'KL02'!H17,"")&IF($D$14='KL03'!$C$4,'KL03'!H17,"")&IF($D$14='KL04'!$C$4,'KL04'!H17,"")&IF($D$14='KL05'!$C$4,'KL05'!H17,"")&IF($D$14='KL06'!$C$4,'KL06'!H17,"")&IF($D$14='KL07'!$C$4,'KL07'!H17,"")&IF($D$14='KL08'!$C$4,'KL08'!H17,"")&IF($D$14='KL09'!$C$4,'KL09'!H17,"")&IF($D$14='KL10'!$C$4,'KL10'!H17,"")&IF($D$14='KL11'!$C$4,'KL11'!H17,"")&IF($D$14='KL12'!$C$4,'KL12'!H17,"") | AQ28: =IF($D$14='KL01'!$C$4,'KL01'!I17,"")&IF($D$14='KL02'!$C$4,'KL02'!I17,"")&IF($D$14='KL03'!$C$4,'KL03'!I17,"")&IF($D$14='KL04'!$C$4,'KL04'!I17,"")&IF($D$14='KL05'!$C$4,'KL05'!I17,"")&IF($D$14='KL06'!$C$4,'KL06'!I17,"")&IF($D$14='KL07'!$C$4,'KL07'!I17,"")&IF($D$14='KL08'!$C$4,'KL08'!I17,"")&IF($D$14='KL09'!$C$4,'KL09'!I17,"")&IF($D$14='KL10'!$C$4,'KL10'!I17,"")&IF($D$14='KL11'!$C$4,'KL11'!I17,"")&IF($D$14='KL12'!$C$4,'KL12'!I17,"") | AR28: =IF(AO28="","-/-",$AO$19) -> -/- | AS28: =IF(AP28="","-/-",$AP$19) -> -/- | AT28: =IF(AQ28="","-/-",$AQ$19) -> -/- | AU28: =IF(AK28="","",IF($D$19="","JA",IF($D$19=AR28,"JA",IF($D$19=AS28,"JA",IF($D$19=AT28,"JA",""))))) | AV28: =1+SUMPRODUCT(($AW$20:$AW$45<AW28)+(AW28="")*1000) -> 9 | AW28: =IF(AN28&AK28&AL28="","Z"&IF(AX28<10,"0"&AX28,AX28),AN28&AK28&AL28) -> Z09 | AX28: 9 | AZ28: =IF(AZ20>9000,"",FIXED(AZ20,$F$32,FALSE)) -> #N/A | BA28: =IF(BA20>9000,"",FIXED(BA20,$F$32,FALSE)) -> #N/A
D29: Fehler | E29: Fehlerprozent | J29: 3 | L29: =M28-IF($E$32="JA",0.5,IF($F$32<0.5,1,IF($F$32<1.5,0.1,IF($F$32<2.5,0.01,0.001)))) -> -1 | P29: =O28+IF($E$32="JA",0.5,IF($F$32<0.5,1,IF($F$32<1.5,0.1,IF($F$32<2.5,0.01,0.001)))) -> 1 | T29: =IF(X29="",T28,T28+1) -> 1 | U29: =IF(T29=T28,"",T29&".") | V29: 24 | W29: ="#"&IF(V29<10,"0","")&V29&"#" -> #24# | X29: =IF(VLOOKUP($W29,$AJ$20:$AM$45,2,FALSE)="","",VLOOKUP($W29,$AJ$20:$AM$45,2,FALSE)) | Y29: =IF(VLOOKUP($W29,$AJ$20:$AM$45,3,FALSE)="","",VLOOKUP($W29,$AJ$20:$AM$45,3,FALSE)) | Z29: =X29&IF(OR(X29="",Y29=""),"",", ")&Y29 | AB29: =IF(AND(AA29<=$AZ$6,AA29>=$BA$6),1,IF(AND(AA29<=$AZ$7,AA29>=$BA$7),2,IF(AND(AA29<=$AZ$8,AA29>=$BA$8),3,IF(AND(AA29<=$AZ$9,AA29>=$BA$9),4,IF(AND(AA29<=$AZ$10,AA29>=$BA$10),5,6))))) -> #N/A | AD29: =IF(X29="","",IF(AF29="JA",IF(AA29="","offen",IF(AB29+AC29>6,6,AB29+AC29)),"-/-")) | AE29: =IF(VLOOKUP($W29,$AJ$20:$AM$45,4,FALSE)="","",VLOOKUP($W29,$AJ$20:$AM$45,4,FALSE)) | AF29: =IF(VLOOKUP($W29,$AJ$20:$AU$45,12,FALSE)="","",VLOOKUP($W29,$AJ$20:$AU$45,12,FALSE)) | AJ29: ="#"&IF(AV29<10,"0","")&AV29&"#" -> #10# | AK29: =IF($D$14='KL01'!$C$4,'KL01'!C18,"")&IF($D$14='KL02'!$C$4,'KL02'!C18,"")&IF($D$14='KL03'!$C$4,'KL03'!C18,"")&IF($D$14='KL04'!$C$4,'KL04'!C18,"")&IF($D$14='KL05'!$C$4,'KL05'!C18,"")&IF($D$14='KL06'!$C$4,'KL06'!C18,"")&IF($D$14='KL07'!$C$4,'KL07'!C18,"")&IF($D$14='KL08'!$C$4,'KL08'!C18,"")&IF($D$14='KL09'!$C$4,'KL09'!C18,"")&IF($D$14='KL10'!$C$4,'KL10'!C18,"")&IF($D$14='KL11'!$C$4,'KL11'!C18,"")&IF($D$14='KL12'!$C$4,'KL12'!C18,"") | AL29: =IF($D$14='KL01'!$C$4,'KL01'!D18,"")&IF($D$14='KL02'!$C$4,'KL02'!D18,"")&IF($D$14='KL03'!$C$4,'KL03'!D18,"")&IF($D$14='KL04'!$C$4,'KL04'!D18,"")&IF($D$14='KL05'!$C$4,'KL05'!D18,"")&IF($D$14='KL06'!$C$4,'KL06'!D18,"")&IF($D$14='KL07'!$C$4,'KL07'!D18,"")&IF($D$14='KL08'!$C$4,'KL08'!D18,"")&IF($D$14='KL09'!$C$4,'KL09'!D18,"")&IF($D$14='KL10'!$C$4,'KL10'!D18,"")&IF($D$14='KL11'!$C$4,'KL11'!D18,"")&IF($D$14='KL12'!$C$4,'KL12'!D18,"") | AM29: =IF($D$14='KL01'!$C$4,'KL01'!E18,"")&IF($D$14='KL02'!$C$4,'KL02'!E18,"")&IF($D$14='KL03'!$C$4,'KL03'!E18,"")&IF($D$14='KL04'!$C$4,'KL04'!E18,"")&IF($D$14='KL05'!$C$4,'KL05'!E18,"")&IF($D$14='KL06'!$C$4,'KL06'!E18,"")&IF($D$14='KL07'!$C$4,'KL07'!E18,"")&IF($D$14='KL08'!$C$4,'KL08'!E18,"")&IF($D$14='KL09'!$C$4,'KL09'!E18,"")&IF($D$14='KL10'!$C$4,'KL10'!E18,"")&IF($D$14='KL11'!$C$4,'KL11'!E18,"")&IF($D$14='KL12'!$C$4,'KL12'!E18,"") | AN29: =IF($D$14='KL01'!$C$4,'KL01'!F18,"")&IF($D$14='KL02'!$C$4,'KL02'!F18,"")&IF($D$14='KL03'!$C$4,'KL03'!F18,"")&IF($D$14='KL04'!$C$4,'KL04'!F18,"")&IF($D$14='KL05'!$C$4,'KL05'!F18,"")&IF($D$14='KL06'!$C$4,'KL06'!F18,"")&IF($D$14='KL07'!$C$4,'KL07'!F18,"")&IF($D$14='KL08'!$C$4,'KL08'!F18,"")&IF($D$14='KL09'!$C$4,'KL09'!F18,"")&IF($D$14='KL10'!$C$4,'KL10'!F18,"")&IF($D$14='KL11'!$C$4,'KL11'!F18,"")&IF($D$14='KL12'!$C$4,'KL12'!F18,"") | AO29: =IF($D$14='KL01'!$C$4,'KL01'!G18,"")&IF($D$14='KL02'!$C$4,'KL02'!G18,"")&IF($D$14='KL03'!$C$4,'KL03'!G18,"")&IF($D$14='KL04'!$C$4,'KL04'!G18,"")&IF($D$14='KL05'!$C$4,'KL05'!G18,"")&IF($D$14='KL06'!$C$4,'KL06'!G18,"")&IF($D$14='KL07'!$C$4,'KL07'!G18,"")&IF($D$14='KL08'!$C$4,'KL08'!G18,"")&IF($D$14='KL09'!$C$4,'KL09'!G18,"")&IF($D$14='KL10'!$C$4,'KL10'!G18,"")&IF($D$14='KL11'!$C$4,'KL11'!G18,"")&IF($D$14='KL12'!$C$4,'KL12'!G18,"") | AP29: =IF($D$14='KL01'!$C$4,'KL01'!H18,"")&IF($D$14='KL02'!$C$4,'KL02'!H18,"")&IF($D$14='KL03'!$C$4,'KL03'!H18,"")&IF($D$14='KL04'!$C$4,'KL04'!H18,"")&IF($D$14='KL05'!$C$4,'KL05'!H18,"")&IF($D$14='KL06'!$C$4,'KL06'!H18,"")&IF($D$14='KL07'!$C$4,'KL07'!H18,"")&IF($D$14='KL08'!$C$4,'KL08'!H18,"")&IF($D$14='KL09'!$C$4,'KL09'!H18,"")&IF($D$14='KL10'!$C$4,'KL10'!H18,"")&IF($D$14='KL11'!$C$4,'KL11'!H18,"")&IF($D$14='KL12'!$C$4,'KL12'!H18,"") | AQ29: =IF($D$14='KL01'!$C$4,'KL01'!I18,"")&IF($D$14='KL02'!$C$4,'KL02'!I18,"")&IF($D$14='KL03'!$C$4,'KL03'!I18,"")&IF($D$14='KL04'!$C$4,'KL04'!I18,"")&IF($D$14='KL05'!$C$4,'KL05'!I18,"")&IF($D$14='KL06'!$C$4,'KL06'!I18,"")&IF($D$14='KL07'!$C$4,'KL07'!I18,"")&IF($D$14='KL08'!$C$4,'KL08'!I18,"")&IF($D$14='KL09'!$C$4,'KL09'!I18,"")&IF($D$14='KL10'!$C$4,'KL10'!I18,"")&IF($D$14='KL11'!$C$4,'KL11'!I18,"")&IF($D$14='KL12'!$C$4,'KL12'!I18,"") | AR29: =IF(AO29="","-/-",$AO$19) -> -/- | AS29: =IF(AP29="","-/-",$AP$19) -> -/- | AT29: =IF(AQ29="","-/-",$AQ$19) -> -/- | AU29: =IF(AK29="","",IF($D$19="","JA",IF($D$19=AR29,"JA",IF($D$19=AS29,"JA",IF($D$19=AT29,"JA",""))))) | AV29: =1+SUMPRODUCT(($AW$20:$AW$45<AW29)+(AW29="")*1000) -> 10 | AW29: =IF(AN29&AK29&AL29="","Z"&IF(AX29<10,"0"&AX29,AX29),AN29&AK29&AL29) -> Z10 | AX29: 10
D30: Schnitt | E30: Fehlerpunkte | J30: 4 | L30: =M29-IF($E$32="JA",0.5,IF($F$32<0.5,1,IF($F$32<1.5,0.1,IF($F$32<2.5,0.01,0.001)))) -> -1 | P30: =O29+IF($E$32="JA",0.5,IF($F$32<0.5,1,IF($F$32<1.5,0.1,IF($F$32<2.5,0.01,0.001)))) -> 1 | T30: =IF(X30="",T29,T29+1) -> 1 | U30: =IF(T30=T29,"",T30&".") | V30: 25 | W30: ="#"&IF(V30<10,"0","")&V30&"#" -> #25# | X30: =IF(VLOOKUP($W30,$AJ$20:$AM$45,2,FALSE)="","",VLOOKUP($W30,$AJ$20:$AM$45,2,FALSE)) | Y30: =IF(VLOOKUP($W30,$AJ$20:$AM$45,3,FALSE)="","",VLOOKUP($W30,$AJ$20:$AM$45,3,FALSE)) | Z30: =X30&IF(OR(X30="",Y30=""),"",", ")&Y30 | AB30: =IF(AND(AA30<=$AZ$6,AA30>=$BA$6),1,IF(AND(AA30<=$AZ$7,AA30>=$BA$7),2,IF(AND(AA30<=$AZ$8,AA30>=$BA$8),3,IF(AND(AA30<=$AZ$9,AA30>=$BA$9),4,IF(AND(AA30<=$AZ$10,AA30>=$BA$10),5,6))))) -> #N/A | AD30: =IF(X30="","",IF(AF30="JA",IF(AA30="","offen",IF(AB30+AC30>6,6,AB30+AC30)),"-/-")) | AE30: =IF(VLOOKUP($W30,$AJ$20:$AM$45,4,FALSE)="","",VLOOKUP($W30,$AJ$20:$AM$45,4,FALSE)) | AF30: =IF(VLOOKUP($W30,$AJ$20:$AU$45,12,FALSE)="","",VLOOKUP($W30,$AJ$20:$AU$45,12,FALSE)) | AJ30: ="#"&IF(AV30<10,"0","")&AV30&"#" -> #11# | AK30: =IF($D$14='KL01'!$C$4,'KL01'!C19,"")&IF($D$14='KL02'!$C$4,'KL02'!C19,"")&IF($D$14='KL03'!$C$4,'KL03'!C19,"")&IF($D$14='KL04'!$C$4,'KL04'!C19,"")&IF($D$14='KL05'!$C$4,'KL05'!C19,"")&IF($D$14='KL06'!$C$4,'KL06'!C19,"")&IF($D$14='KL07'!$C$4,'KL07'!C19,"")&IF($D$14='KL08'!$C$4,'KL08'!C19,"")&IF($D$14='KL09'!$C$4,'KL09'!C19,"")&IF($D$14='KL10'!$C$4,'KL10'!C19,"")&IF($D$14='KL11'!$C$4,'KL11'!C19,"")&IF($D$14='KL12'!$C$4,'KL12'!C19,"") | AL30: =IF($D$14='KL01'!$C$4,'KL01'!D19,"")&IF($D$14='KL02'!$C$4,'KL02'!D19,"")&IF($D$14='KL03'!$C$4,'KL03'!D19,"")&IF($D$14='KL04'!$C$4,'KL04'!D19,"")&IF($D$14='KL05'!$C$4,'KL05'!D19,"")&IF($D$14='KL06'!$C$4,'KL06'!D19,"")&IF($D$14='KL07'!$C$4,'KL07'!D19,"")&IF($D$14='KL08'!$C$4,'KL08'!D19,"")&IF($D$14='KL09'!$C$4,'KL09'!D19,"")&IF($D$14='KL10'!$C$4,'KL10'!D19,"")&IF($D$14='KL11'!$C$4,'KL11'!D19,"")&IF($D$14='KL12'!$C$4,'KL12'!D19,"") | AM30: =IF($D$14='KL01'!$C$4,'KL01'!E19,"")&IF($D$14='KL02'!$C$4,'KL02'!E19,"")&IF($D$14='KL03'!$C$4,'KL03'!E19,"")&IF($D$14='KL04'!$C$4,'KL04'!E19,"")&IF($D$14='KL05'!$C$4,'KL05'!E19,"")&IF($D$14='KL06'!$C$4,'KL06'!E19,"")&IF($D$14='KL07'!$C$4,'KL07'!E19,"")&IF($D$14='KL08'!$C$4,'KL08'!E19,"")&IF($D$14='KL09'!$C$4,'KL09'!E19,"")&IF($D$14='KL10'!$C$4,'KL10'!E19,"")&IF($D$14='KL11'!$C$4,'KL11'!E19,"")&IF($D$14='KL12'!$C$4,'KL12'!E19,"") | AN30: =IF($D$14='KL01'!$C$4,'KL01'!F19,"")&IF($D$14='KL02'!$C$4,'KL02'!F19,"")&IF($D$14='KL03'!$C$4,'KL03'!F19,"")&IF($D$14='KL04'!$C$4,'KL04'!F19,"")&IF($D$14='KL05'!$C$4,'KL05'!F19,"")&IF($D$14='KL06'!$C$4,'KL06'!F19,"")&IF($D$14='KL07'!$C$4,'KL07'!F19,"")&IF($D$14='KL08'!$C$4,'KL08'!F19,"")&IF($D$14='KL09'!$C$4,'KL09'!F19,"")&IF($D$14='KL10'!$C$4,'KL10'!F19,"")&IF($D$14='KL11'!$C$4,'KL11'!F19,"")&IF($D$14='KL12'!$C$4,'KL12'!F19,"") | AO30: =IF($D$14='KL01'!$C$4,'KL01'!G19,"")&IF($D$14='KL02'!$C$4,'KL02'!G19,"")&IF($D$14='KL03'!$C$4,'KL03'!G19,"")&IF($D$14='KL04'!$C$4,'KL04'!G19,"")&IF($D$14='KL05'!$C$4,'KL05'!G19,"")&IF($D$14='KL06'!$C$4,'KL06'!G19,"")&IF($D$14='KL07'!$C$4,'KL07'!G19,"")&IF($D$14='KL08'!$C$4,'KL08'!G19,"")&IF($D$14='KL09'!$C$4,'KL09'!G19,"")&IF($D$14='KL10'!$C$4,'KL10'!G19,"")&IF($D$14='KL11'!$C$4,'KL11'!G19,"")&IF($D$14='KL12'!$C$4,'KL12'!G19,"") | AP30: =IF($D$14='KL01'!$C$4,'KL01'!H19,"")&IF($D$14='KL02'!$C$4,'KL02'!H19,"")&IF($D$14='KL03'!$C$4,'KL03'!H19,"")&IF($D$14='KL04'!$C$4,'KL04'!H19,"")&IF($D$14='KL05'!$C$4,'KL05'!H19,"")&IF($D$14='KL06'!$C$4,'KL06'!H19,"")&IF($D$14='KL07'!$C$4,'KL07'!H19,"")&IF($D$14='KL08'!$C$4,'KL08'!H19,"")&IF($D$14='KL09'!$C$4,'KL09'!H19,"")&IF($D$14='KL10'!$C$4,'KL10'!H19,"")&IF($D$14='KL11'!$C$4,'KL11'!H19,"")&IF($D$14='KL12'!$C$4,'KL12'!H19,"") | AQ30: =IF($D$14='KL01'!$C$4,'KL01'!I19,"")&IF($D$14='KL02'!$C$4,'KL02'!I19,"")&IF($D$14='KL03'!$C$4,'KL03'!I19,"")&IF($D$14='KL04'!$C$4,'KL04'!I19,"")&IF($D$14='KL05'!$C$4,'KL05'!I19,"")&IF($D$14='KL06'!$C$4,'KL06'!I19,"")&IF($D$14='KL07'!$C$4,'KL07'!I19,"")&IF($D$14='KL08'!$C$4,'KL08'!I19,"")&IF($D$14='KL09'!$C$4,'KL09'!I19,"")&IF($D$14='KL10'!$C$4,'KL10'!I19,"")&IF($D$14='KL11'!$C$4,'KL11'!I19,"")&IF($D$14='KL12'!$C$4,'KL12'!I19,"") | AR30: =IF(AO30="","-/-",$AO$19) -> -/- | AS30: =IF(AP30="","-/-",$AP$19) -> -/- | AT30: =IF(AQ30="","-/-",$AQ$19) -> -/- | AU30: =IF(AK30="","",IF($D$19="","JA",IF($D$19=AR30,"JA",IF($D$19=AS30,"JA",IF($D$19=AT30,"JA",""))))) | AV30: =1+SUMPRODUCT(($AW$20:$AW$45<AW30)+(AW30="")*1000) -> 11 | AW30: =IF(AN30&AK30&AL30="","Z"&IF(AX30<10,"0"&AX30,AX30),AN30&AK30&AL30) -> Z11 | AX30: 11
C31: Bewertung: | J31: 5 | L31: =M30-IF($E$32="JA",0.5,IF($F$32<0.5,1,IF($F$32<1.5,0.1,IF($F$32<2.5,0.01,0.001)))) -> -1 | P31: =O30+IF($E$32="JA",0.5,IF($F$32<0.5,1,IF($F$32<1.5,0.1,IF($F$32<2.5,0.01,0.001)))) -> 1 | T31: =IF(X31="",T30,T30+1) -> 1 | U31: =IF(T31=T30,"",T31&".") | V31: 26 | W31: ="#"&IF(V31<10,"0","")&V31&"#" -> #26# | X31: =IF(VLOOKUP($W31,$AJ$20:$AM$45,2,FALSE)="","",VLOOKUP($W31,$AJ$20:$AM$45,2,FALSE)) | Y31: =IF(VLOOKUP($W31,$AJ$20:$AM$45,3,FALSE)="","",VLOOKUP($W31,$AJ$20:$AM$45,3,FALSE)) | Z31: =X31&IF(OR(X31="",Y31=""),"",", ")&Y31 | AB31: =IF(AND(AA31<=$AZ$6,AA31>=$BA$6),1,IF(AND(AA31<=$AZ$7,AA31>=$BA$7),2,IF(AND(AA31<=$AZ$8,AA31>=$BA$8),3,IF(AND(AA31<=$AZ$9,AA31>=$BA$9),4,IF(AND(AA31<=$AZ$10,AA31>=$BA$10),5,6))))) -> #N/A | AD31: =IF(X31="","",IF(AF31="JA",IF(AA31="","offen",IF(AB31+AC31>6,6,AB31+AC31)),"-/-")) | AE31: =IF(VLOOKUP($W31,$AJ$20:$AM$45,4,FALSE)="","",VLOOKUP($W31,$AJ$20:$AM$45,4,FALSE)) | AF31: =IF(VLOOKUP($W31,$AJ$20:$AU$45,12,FALSE)="","",VLOOKUP($W31,$AJ$20:$AU$45,12,FALSE)) | AJ31: ="#"&IF(AV31<10,"0","")&AV31&"#" -> #12# | AK31: =IF($D$14='KL01'!$C$4,'KL01'!C20,"")&IF($D$14='KL02'!$C$4,'KL02'!C20,"")&IF($D$14='KL03'!$C$4,'KL03'!C20,"")&IF($D$14='KL04'!$C$4,'KL04'!C20,"")&IF($D$14='KL05'!$C$4,'KL05'!C20,"")&IF($D$14='KL06'!$C$4,'KL06'!C20,"")&IF($D$14='KL07'!$C$4,'KL07'!C20,"")&IF($D$14='KL08'!$C$4,'KL08'!C20,"")&IF($D$14='KL09'!$C$4,'KL09'!C20,"")&IF($D$14='KL10'!$C$4,'KL10'!C20,"")&IF($D$14='KL11'!$C$4,'KL11'!C20,"")&IF($D$14='KL12'!$C$4,'KL12'!C20,"") | AL31: =IF($D$14='KL01'!$C$4,'KL01'!D20,"")&IF($D$14='KL02'!$C$4,'KL02'!D20,"")&IF($D$14='KL03'!$C$4,'KL03'!D20,"")&IF($D$14='KL04'!$C$4,'KL04'!D20,"")&IF($D$14='KL05'!$C$4,'KL05'!D20,"")&IF($D$14='KL06'!$C$4,'KL06'!D20,"")&IF($D$14='KL07'!$C$4,'KL07'!D20,"")&IF($D$14='KL08'!$C$4,'KL08'!D20,"")&IF($D$14='KL09'!$C$4,'KL09'!D20,"")&IF($D$14='KL10'!$C$4,'KL10'!D20,"")&IF($D$14='KL11'!$C$4,'KL11'!D20,"")&IF($D$14='KL12'!$C$4,'KL12'!D20,"") | AM31: =IF($D$14='KL01'!$C$4,'KL01'!E20,"")&IF($D$14='KL02'!$C$4,'KL02'!E20,"")&IF($D$14='KL03'!$C$4,'KL03'!E20,"")&IF($D$14='KL04'!$C$4,'KL04'!E20,"")&IF($D$14='KL05'!$C$4,'KL05'!E20,"")&IF($D$14='KL06'!$C$4,'KL06'!E20,"")&IF($D$14='KL07'!$C$4,'KL07'!E20,"")&IF($D$14='KL08'!$C$4,'KL08'!E20,"")&IF($D$14='KL09'!$C$4,'KL09'!E20,"")&IF($D$14='KL10'!$C$4,'KL10'!E20,"")&IF($D$14='KL11'!$C$4,'KL11'!E20,"")&IF($D$14='KL12'!$C$4,'KL12'!E20,"") | AN31: =IF($D$14='KL01'!$C$4,'KL01'!F20,"")&IF($D$14='KL02'!$C$4,'KL02'!F20,"")&IF($D$14='KL03'!$C$4,'KL03'!F20,"")&IF($D$14='KL04'!$C$4,'KL04'!F20,"")&IF($D$14='KL05'!$C$4,'KL05'!F20,"")&IF($D$14='KL06'!$C$4,'KL06'!F20,"")&IF($D$14='KL07'!$C$4,'KL07'!F20,"")&IF($D$14='KL08'!$C$4,'KL08'!F20,"")&IF($D$14='KL09'!$C$4,'KL09'!F20,"")&IF($D$14='KL10'!$C$4,'KL10'!F20,"")&IF($D$14='KL11'!$C$4,'KL11'!F20,"")&IF($D$14='KL12'!$C$4,'KL12'!F20,"") | AO31: =IF($D$14='KL01'!$C$4,'KL01'!G20,"")&IF($D$14='KL02'!$C$4,'KL02'!G20,"")&IF($D$14='KL03'!$C$4,'KL03'!G20,"")&IF($D$14='KL04'!$C$4,'KL04'!G20,"")&IF($D$14='KL05'!$C$4,'KL05'!G20,"")&IF($D$14='KL06'!$C$4,'KL06'!G20,"")&IF($D$14='KL07'!$C$4,'KL07'!G20,"")&IF($D$14='KL08'!$C$4,'KL08'!G20,"")&IF($D$14='KL09'!$C$4,'KL09'!G20,"")&IF($D$14='KL10'!$C$4,'KL10'!G20,"")&IF($D$14='KL11'!$C$4,'KL11'!G20,"")&IF($D$14='KL12'!$C$4,'KL12'!G20,"") | AP31: =IF($D$14='KL01'!$C$4,'KL01'!H20,"")&IF($D$14='KL02'!$C$4,'KL02'!H20,"")&IF($D$14='KL03'!$C$4,'KL03'!H20,"")&IF($D$14='KL04'!$C$4,'KL04'!H20,"")&IF($D$14='KL05'!$C$4,'KL05'!H20,"")&IF($D$14='KL06'!$C$4,'KL06'!H20,"")&IF($D$14='KL07'!$C$4,'KL07'!H20,"")&IF($D$14='KL08'!$C$4,'KL08'!H20,"")&IF($D$14='KL09'!$C$4,'KL09'!H20,"")&IF($D$14='KL10'!$C$4,'KL10'!H20,"")&IF($D$14='KL11'!$C$4,'KL11'!H20,"")&IF($D$14='KL12'!$C$4,'KL12'!H20,"") | AQ31: =IF($D$14='KL01'!$C$4,'KL01'!I20,"")&IF($D$14='KL02'!$C$4,'KL02'!I20,"")&IF($D$14='KL03'!$C$4,'KL03'!I20,"")&IF($D$14='KL04'!$C$4,'KL04'!I20,"")&IF($D$14='KL05'!$C$4,'KL05'!I20,"")&IF($D$14='KL06'!$C$4,'KL06'!I20,"")&IF($D$14='KL07'!$C$4,'KL07'!I20,"")&IF($D$14='KL08'!$C$4,'KL08'!I20,"")&IF($D$14='KL09'!$C$4,'KL09'!I20,"")&IF($D$14='KL10'!$C$4,'KL10'!I20,"")&IF($D$14='KL11'!$C$4,'KL11'!I20,"")&IF($D$14='KL12'!$C$4,'KL12'!I20,"") | AR31: =IF(AO31="","-/-",$AO$19) -> -/- | AS31: =IF(AP31="","-/-",$AP$19) -> -/- | AT31: =IF(AQ31="","-/-",$AQ$19) -> -/- | AU31: =IF(AK31="","",IF($D$19="","JA",IF($D$19=AR31,"JA",IF($D$19=AS31,"JA",IF($D$19=AT31,"JA",""))))) | AV31: =1+SUMPRODUCT(($AW$20:$AW$45<AW31)+(AW31="")*1000) -> 12 | AW31: =IF(AN31&AK31&AL31="","Z"&IF(AX31<10,"0"&AX31,AX31),AN31&AK31&AL31) -> Z12 | AX31: 12 | AZ31: Punkte
C32: halbe Schritte: | E32: =IF(D32="","NEIN","JA") -> NEIN | F32: =IF(E32="JA",1,IF(D33>2.5,3,IF(D33>1.5,2,IF(D33>0.5,1,0)))) -> 0 | J32: 6 | L32: =M31-IF($E$32="JA",0.5,IF($F$32<0.5,1,IF($F$32<1.5,0.1,IF($F$32<2.5,0.01,0.001)))) -> -1 | M32: 0 | O32: 99999.9 | P32: =O31+IF($E$32="JA",0.5,IF($F$32<0.5,1,IF($F$32<1.5,0.1,IF($F$32<2.5,0.01,0.001)))) -> 1 | AJ32: ="#"&IF(AV32<10,"0","")&AV32&"#" -> #13# | AK32: =IF($D$14='KL01'!$C$4,'KL01'!C21,"")&IF($D$14='KL02'!$C$4,'KL02'!C21,"")&IF($D$14='KL03'!$C$4,'KL03'!C21,"")&IF($D$14='KL04'!$C$4,'KL04'!C21,"")&IF($D$14='KL05'!$C$4,'KL05'!C21,"")&IF($D$14='KL06'!$C$4,'KL06'!C21,"")&IF($D$14='KL07'!$C$4,'KL07'!C21,"")&IF($D$14='KL08'!$C$4,'KL08'!C21,"")&IF($D$14='KL09'!$C$4,'KL09'!C21,"")&IF($D$14='KL10'!$C$4,'KL10'!C21,"")&IF($D$14='KL11'!$C$4,'KL11'!C21,"")&IF($D$14='KL12'!$C$4,'KL12'!C21,"") | AL32: =IF($D$14='KL01'!$C$4,'KL01'!D21,"")&IF($D$14='KL02'!$C$4,'KL02'!D21,"")&IF($D$14='KL03'!$C$4,'KL03'!D21,"")&IF($D$14='KL04'!$C$4,'KL04'!D21,"")&IF($D$14='KL05'!$C$4,'KL05'!D21,"")&IF($D$14='KL06'!$C$4,'KL06'!D21,"")&IF($D$14='KL07'!$C$4,'KL07'!D21,"")&IF($D$14='KL08'!$C$4,'KL08'!D21,"")&IF($D$14='KL09'!$C$4,'KL09'!D21,"")&IF($D$14='KL10'!$C$4,'KL10'!D21,"")&IF($D$14='KL11'!$C$4,'KL11'!D21,"")&IF($D$14='KL12'!$C$4,'KL12'!D21,"") | AM32: =IF($D$14='KL01'!$C$4,'KL01'!E21,"")&IF($D$14='KL02'!$C$4,'KL02'!E21,"")&IF($D$14='KL03'!$C$4,'KL03'!E21,"")&IF($D$14='KL04'!$C$4,'KL04'!E21,"")&IF($D$14='KL05'!$C$4,'KL05'!E21,"")&IF($D$14='KL06'!$C$4,'KL06'!E21,"")&IF($D$14='KL07'!$C$4,'KL07'!E21,"")&IF($D$14='KL08'!$C$4,'KL08'!E21,"")&IF($D$14='KL09'!$C$4,'KL09'!E21,"")&IF($D$14='KL10'!$C$4,'KL10'!E21,"")&IF($D$14='KL11'!$C$4,'KL11'!E21,"")&IF($D$14='KL12'!$C$4,'KL12'!E21,"") | AN32: =IF($D$14='KL01'!$C$4,'KL01'!F21,"")&IF($D$14='KL02'!$C$4,'KL02'!F21,"")&IF($D$14='KL03'!$C$4,'KL03'!F21,"")&IF($D$14='KL04'!$C$4,'KL04'!F21,"")&IF($D$14='KL05'!$C$4,'KL05'!F21,"")&IF($D$14='KL06'!$C$4,'KL06'!F21,"")&IF($D$14='KL07'!$C$4,'KL07'!F21,"")&IF($D$14='KL08'!$C$4,'KL08'!F21,"")&IF($D$14='KL09'!$C$4,'KL09'!F21,"")&IF($D$14='KL10'!$C$4,'KL10'!F21,"")&IF($D$14='KL11'!$C$4,'KL11'!F21,"")&IF($D$14='KL12'!$C$4,'KL12'!F21,"") | AO32: =IF($D$14='KL01'!$C$4,'KL01'!G21,"")&IF($D$14='KL02'!$C$4,'KL02'!G21,"")&IF($D$14='KL03'!$C$4,'KL03'!G21,"")&IF($D$14='KL04'!$C$4,'KL04'!G21,"")&IF($D$14='KL05'!$C$4,'KL05'!G21,"")&IF($D$14='KL06'!$C$4,'KL06'!G21,"")&IF($D$14='KL07'!$C$4,'KL07'!G21,"")&IF($D$14='KL08'!$C$4,'KL08'!G21,"")&IF($D$14='KL09'!$C$4,'KL09'!G21,"")&IF($D$14='KL10'!$C$4,'KL10'!G21,"")&IF($D$14='KL11'!$C$4,'KL11'!G21,"")&IF($D$14='KL12'!$C$4,'KL12'!G21,"") | AP32: =IF($D$14='KL01'!$C$4,'KL01'!H21,"")&IF($D$14='KL02'!$C$4,'KL02'!H21,"")&IF($D$14='KL03'!$C$4,'KL03'!H21,"")&IF($D$14='KL04'!$C$4,'KL04'!H21,"")&IF($D$14='KL05'!$C$4,'KL05'!H21,"")&IF($D$14='KL06'!$C$4,'KL06'!H21,"")&IF($D$14='KL07'!$C$4,'KL07'!H21,"")&IF($D$14='KL08'!$C$4,'KL08'!H21,"")&IF($D$14='KL09'!$C$4,'KL09'!H21,"")&IF($D$14='KL10'!$C$4,'KL10'!H21,"")&IF($D$14='KL11'!$C$4,'KL11'!H21,"")&IF($D$14='KL12'!$C$4,'KL12'!H21,"") | AQ32: =IF($D$14='KL01'!$C$4,'KL01'!I21,"")&IF($D$14='KL02'!$C$4,'KL02'!I21,"")&IF($D$14='KL03'!$C$4,'KL03'!I21,"")&IF($D$14='KL04'!$C$4,'KL04'!I21,"")&IF($D$14='KL05'!$C$4,'KL05'!I21,"")&IF($D$14='KL06'!$C$4,'KL06'!I21,"")&IF($D$14='KL07'!$C$4,'KL07'!I21,"")&IF($D$14='KL08'!$C$4,'KL08'!I21,"")&IF($D$14='KL09'!$C$4,'KL09'!I21,"")&IF($D$14='KL10'!$C$4,'KL10'!I21,"")&IF($D$14='KL11'!$C$4,'KL11'!I21,"")&IF($D$14='KL12'!$C$4,'KL12'!I21,"") | AR32: =IF(AO32="","-/-",$AO$19) -> -/- | AS32: =IF(AP32="","-/-",$AP$19) -> -/- | AT32: =IF(AQ32="","-/-",$AQ$19) -> -/- | AU32: =IF(AK32="","",IF($D$19="","JA",IF($D$19=AR32,"JA",IF($D$19=AS32,"JA",IF($D$19=AT32,"JA",""))))) | AV32: =1+SUMPRODUCT(($AW$20:$AW$45<AW32)+(AW32="")*1000) -> 13 | AW32: =IF(AN32&AK32&AL32="","Z"&IF(AX32<10,"0"&AX32,AX32),AN32&AK32&AL32) -> Z13 | AX32: 13 | AZ32: kleiner gleich | BA32: größer gleich
C33: Dezimalstellen: | E33: ="= "&IF(E32="JA","3,5",ROUND(3.2443,F32)&" "&D31) -> = 3 | AJ33: ="#"&IF(AV33<10,"0","")&AV33&"#" -> #14# | AK33: =IF($D$14='KL01'!$C$4,'KL01'!C22,"")&IF($D$14='KL02'!$C$4,'KL02'!C22,"")&IF($D$14='KL03'!$C$4,'KL03'!C22,"")&IF($D$14='KL04'!$C$4,'KL04'!C22,"")&IF($D$14='KL05'!$C$4,'KL05'!C22,"")&IF($D$14='KL06'!$C$4,'KL06'!C22,"")&IF($D$14='KL07'!$C$4,'KL07'!C22,"")&IF($D$14='KL08'!$C$4,'KL08'!C22,"")&IF($D$14='KL09'!$C$4,'KL09'!C22,"")&IF($D$14='KL10'!$C$4,'KL10'!C22,"")&IF($D$14='KL11'!$C$4,'KL11'!C22,"")&IF($D$14='KL12'!$C$4,'KL12'!C22,"") | AL33: =IF($D$14='KL01'!$C$4,'KL01'!D22,"")&IF($D$14='KL02'!$C$4,'KL02'!D22,"")&IF($D$14='KL03'!$C$4,'KL03'!D22,"")&IF($D$14='KL04'!$C$4,'KL04'!D22,"")&IF($D$14='KL05'!$C$4,'KL05'!D22,"")&IF($D$14='KL06'!$C$4,'KL06'!D22,"")&IF($D$14='KL07'!$C$4,'KL07'!D22,"")&IF($D$14='KL08'!$C$4,'KL08'!D22,"")&IF($D$14='KL09'!$C$4,'KL09'!D22,"")&IF($D$14='KL10'!$C$4,'KL10'!D22,"")&IF($D$14='KL11'!$C$4,'KL11'!D22,"")&IF($D$14='KL12'!$C$4,'KL12'!D22,"") | AM33: =IF($D$14='KL01'!$C$4,'KL01'!E22,"")&IF($D$14='KL02'!$C$4,'KL02'!E22,"")&IF($D$14='KL03'!$C$4,'KL03'!E22,"")&IF($D$14='KL04'!$C$4,'KL04'!E22,"")&IF($D$14='KL05'!$C$4,'KL05'!E22,"")&IF($D$14='KL06'!$C$4,'KL06'!E22,"")&IF($D$14='KL07'!$C$4,'KL07'!E22,"")&IF($D$14='KL08'!$C$4,'KL08'!E22,"")&IF($D$14='KL09'!$C$4,'KL09'!E22,"")&IF($D$14='KL10'!$C$4,'KL10'!E22,"")&IF($D$14='KL11'!$C$4,'KL11'!E22,"")&IF($D$14='KL12'!$C$4,'KL12'!E22,"") | AN33: =IF($D$14='KL01'!$C$4,'KL01'!F22,"")&IF($D$14='KL02'!$C$4,'KL02'!F22,"")&IF($D$14='KL03'!$C$4,'KL03'!F22,"")&IF($D$14='KL04'!$C$4,'KL04'!F22,"")&IF($D$14='KL05'!$C$4,'KL05'!F22,"")&IF($D$14='KL06'!$C$4,'KL06'!F22,"")&IF($D$14='KL07'!$C$4,'KL07'!F22,"")&IF($D$14='KL08'!$C$4,'KL08'!F22,"")&IF($D$14='KL09'!$C$4,'KL09'!F22,"")&IF($D$14='KL10'!$C$4,'KL10'!F22,"")&IF($D$14='KL11'!$C$4,'KL11'!F22,"")&IF($D$14='KL12'!$C$4,'KL12'!F22,"") | AO33: =IF($D$14='KL01'!$C$4,'KL01'!G22,"")&IF($D$14='KL02'!$C$4,'KL02'!G22,"")&IF($D$14='KL03'!$C$4,'KL03'!G22,"")&IF($D$14='KL04'!$C$4,'KL04'!G22,"")&IF($D$14='KL05'!$C$4,'KL05'!G22,"")&IF($D$14='KL06'!$C$4,'KL06'!G22,"")&IF($D$14='KL07'!$C$4,'KL07'!G22,"")&IF($D$14='KL08'!$C$4,'KL08'!G22,"")&IF($D$14='KL09'!$C$4,'KL09'!G22,"")&IF($D$14='KL10'!$C$4,'KL10'!G22,"")&IF($D$14='KL11'!$C$4,'KL11'!G22,"")&IF($D$14='KL12'!$C$4,'KL12'!G22,"") | AP33: =IF($D$14='KL01'!$C$4,'KL01'!H22,"")&IF($D$14='KL02'!$C$4,'KL02'!H22,"")&IF($D$14='KL03'!$C$4,'KL03'!H22,"")&IF($D$14='KL04'!$C$4,'KL04'!H22,"")&IF($D$14='KL05'!$C$4,'KL05'!H22,"")&IF($D$14='KL06'!$C$4,'KL06'!H22,"")&IF($D$14='KL07'!$C$4,'KL07'!H22,"")&IF($D$14='KL08'!$C$4,'KL08'!H22,"")&IF($D$14='KL09'!$C$4,'KL09'!H22,"")&IF($D$14='KL10'!$C$4,'KL10'!H22,"")&IF($D$14='KL11'!$C$4,'KL11'!H22,"")&IF($D$14='KL12'!$C$4,'KL12'!H22,"") | AQ33: =IF($D$14='KL01'!$C$4,'KL01'!I22,"")&IF($D$14='KL02'!$C$4,'KL02'!I22,"")&IF($D$14='KL03'!$C$4,'KL03'!I22,"")&IF($D$14='KL04'!$C$4,'KL04'!I22,"")&IF($D$14='KL05'!$C$4,'KL05'!I22,"")&IF($D$14='KL06'!$C$4,'KL06'!I22,"")&IF($D$14='KL07'!$C$4,'KL07'!I22,"")&IF($D$14='KL08'!$C$4,'KL08'!I22,"")&IF($D$14='KL09'!$C$4,'KL09'!I22,"")&IF($D$14='KL10'!$C$4,'KL10'!I22,"")&IF($D$14='KL11'!$C$4,'KL11'!I22,"")&IF($D$14='KL12'!$C$4,'KL12'!I22,"") | AR33: =IF(AO33="","-/-",$AO$19) -> -/- | AS33: =IF(AP33="","-/-",$AP$19) -> -/- | AT33: =IF(AQ33="","-/-",$AQ$19) -> -/- | AU33: =IF(AK33="","",IF($D$19="","JA",IF($D$19=AR33,"JA",IF($D$19=AS33,"JA",IF($D$19=AT33,"JA",""))))) | AV33: =1+SUMPRODUCT(($AW$20:$AW$45<AW33)+(AW33="")*1000) -> 14 | AW33: =IF(AN33&AK33&AL33="","Z"&IF(AX33<10,"0"&AX33,AX33),AN33&AK33&AL33) -> Z14 | AX33: 14 | AZ33: =IF($J$25="x",L27,IF($J$16="x",O18,O9)) -> 100 | BA33: =IF($J$25="x",M27,IF($J$16="x",P18,P9)) -> 90
L34: Sport | AJ34: ="#"&IF(AV34<10,"0","")&AV34&"#" -> #15# | AK34: =IF($D$14='KL01'!$C$4,'KL01'!C23,"")&IF($D$14='KL02'!$C$4,'KL02'!C23,"")&IF($D$14='KL03'!$C$4,'KL03'!C23,"")&IF($D$14='KL04'!$C$4,'KL04'!C23,"")&IF($D$14='KL05'!$C$4,'KL05'!C23,"")&IF($D$14='KL06'!$C$4,'KL06'!C23,"")&IF($D$14='KL07'!$C$4,'KL07'!C23,"")&IF($D$14='KL08'!$C$4,'KL08'!C23,"")&IF($D$14='KL09'!$C$4,'KL09'!C23,"")&IF($D$14='KL10'!$C$4,'KL10'!C23,"")&IF($D$14='KL11'!$C$4,'KL11'!C23,"")&IF($D$14='KL12'!$C$4,'KL12'!C23,"") | AL34: =IF($D$14='KL01'!$C$4,'KL01'!D23,"")&IF($D$14='KL02'!$C$4,'KL02'!D23,"")&IF($D$14='KL03'!$C$4,'KL03'!D23,"")&IF($D$14='KL04'!$C$4,'KL04'!D23,"")&IF($D$14='KL05'!$C$4,'KL05'!D23,"")&IF($D$14='KL06'!$C$4,'KL06'!D23,"")&IF($D$14='KL07'!$C$4,'KL07'!D23,"")&IF($D$14='KL08'!$C$4,'KL08'!D23,"")&IF($D$14='KL09'!$C$4,'KL09'!D23,"")&IF($D$14='KL10'!$C$4,'KL10'!D23,"")&IF($D$14='KL11'!$C$4,'KL11'!D23,"")&IF($D$14='KL12'!$C$4,'KL12'!D23,"") | AM34: =IF($D$14='KL01'!$C$4,'KL01'!E23,"")&IF($D$14='KL02'!$C$4,'KL02'!E23,"")&IF($D$14='KL03'!$C$4,'KL03'!E23,"")&IF($D$14='KL04'!$C$4,'KL04'!E23,"")&IF($D$14='KL05'!$C$4,'KL05'!E23,"")&IF($D$14='KL06'!$C$4,'KL06'!E23,"")&IF($D$14='KL07'!$C$4,'KL07'!E23,"")&IF($D$14='KL08'!$C$4,'KL08'!E23,"")&IF($D$14='KL09'!$C$4,'KL09'!E23,"")&IF($D$14='KL10'!$C$4,'KL10'!E23,"")&IF($D$14='KL11'!$C$4,'KL11'!E23,"")&IF($D$14='KL12'!$C$4,'KL12'!E23,"") | AN34: =IF($D$14='KL01'!$C$4,'KL01'!F23,"")&IF($D$14='KL02'!$C$4,'KL02'!F23,"")&IF($D$14='KL03'!$C$4,'KL03'!F23,"")&IF($D$14='KL04'!$C$4,'KL04'!F23,"")&IF($D$14='KL05'!$C$4,'KL05'!F23,"")&IF($D$14='KL06'!$C$4,'KL06'!F23,"")&IF($D$14='KL07'!$C$4,'KL07'!F23,"")&IF($D$14='KL08'!$C$4,'KL08'!F23,"")&IF($D$14='KL09'!$C$4,'KL09'!F23,"")&IF($D$14='KL10'!$C$4,'KL10'!F23,"")&IF($D$14='KL11'!$C$4,'KL11'!F23,"")&IF($D$14='KL12'!$C$4,'KL12'!F23,"") | AO34: =IF($D$14='KL01'!$C$4,'KL01'!G23,"")&IF($D$14='KL02'!$C$4,'KL02'!G23,"")&IF($D$14='KL03'!$C$4,'KL03'!G23,"")&IF($D$14='KL04'!$C$4,'KL04'!G23,"")&IF($D$14='KL05'!$C$4,'KL05'!G23,"")&IF($D$14='KL06'!$C$4,'KL06'!G23,"")&IF($D$14='KL07'!$C$4,'KL07'!G23,"")&IF($D$14='KL08'!$C$4,'KL08'!G23,"")&IF($D$14='KL09'!$C$4,'KL09'!G23,"")&IF($D$14='KL10'!$C$4,'KL10'!G23,"")&IF($D$14='KL11'!$C$4,'KL11'!G23,"")&IF($D$14='KL12'!$C$4,'KL12'!G23,"") | AP34: =IF($D$14='KL01'!$C$4,'KL01'!H23,"")&IF($D$14='KL02'!$C$4,'KL02'!H23,"")&IF($D$14='KL03'!$C$4,'KL03'!H23,"")&IF($D$14='KL04'!$C$4,'KL04'!H23,"")&IF($D$14='KL05'!$C$4,'KL05'!H23,"")&IF($D$14='KL06'!$C$4,'KL06'!H23,"")&IF($D$14='KL07'!$C$4,'KL07'!H23,"")&IF($D$14='KL08'!$C$4,'KL08'!H23,"")&IF($D$14='KL09'!$C$4,'KL09'!H23,"")&IF($D$14='KL10'!$C$4,'KL10'!H23,"")&IF($D$14='KL11'!$C$4,'KL11'!H23,"")&IF($D$14='KL12'!$C$4,'KL12'!H23,"") | AQ34: =IF($D$14='KL01'!$C$4,'KL01'!I23,"")&IF($D$14='KL02'!$C$4,'KL02'!I23,"")&IF($D$14='KL03'!$C$4,'KL03'!I23,"")&IF($D$14='KL04'!$C$4,'KL04'!I23,"")&IF($D$14='KL05'!$C$4,'KL05'!I23,"")&IF($D$14='KL06'!$C$4,'KL06'!I23,"")&IF($D$14='KL07'!$C$4,'KL07'!I23,"")&IF($D$14='KL08'!$C$4,'KL08'!I23,"")&IF($D$14='KL09'!$C$4,'KL09'!I23,"")&IF($D$14='KL10'!$C$4,'KL10'!I23,"")&IF($D$14='KL11'!$C$4,'KL11'!I23,"")&IF($D$14='KL12'!$C$4,'KL12'!I23,"") | AR34: =IF(AO34="","-/-",$AO$19) -> -/- | AS34: =IF(AP34="","-/-",$AP$19) -> -/- | AT34: =IF(AQ34="","-/-",$AQ$19) -> -/- | AU34: =IF(AK34="","",IF($D$19="","JA",IF($D$19=AR34,"JA",IF($D$19=AS34,"JA",IF($D$19=AT34,"JA",""))))) | AV34: =1+SUMPRODUCT(($AW$20:$AW$45<AW34)+(AW34="")*1000) -> 15 | AW34: =IF(AN34&AK34&AL34="","Z"&IF(AX34<10,"0"&AX34,AX34),AN34&AK34&AL34) -> Z15 | AX34: 15 | AZ34: =IF($J$25="x",L28,IF($J$16="x",O19,O10)) -> 89 | BA34: =IF($J$25="x",M28,IF($J$16="x",P19,P10)) -> 80
C35: Bemerkungen: | AJ35: ="#"&IF(AV35<10,"0","")&AV35&"#" -> #16# | AK35: =IF($D$14='KL01'!$C$4,'KL01'!C24,"")&IF($D$14='KL02'!$C$4,'KL02'!C24,"")&IF($D$14='KL03'!$C$4,'KL03'!C24,"")&IF($D$14='KL04'!$C$4,'KL04'!C24,"")&IF($D$14='KL05'!$C$4,'KL05'!C24,"")&IF($D$14='KL06'!$C$4,'KL06'!C24,"")&IF($D$14='KL07'!$C$4,'KL07'!C24,"")&IF($D$14='KL08'!$C$4,'KL08'!C24,"")&IF($D$14='KL09'!$C$4,'KL09'!C24,"")&IF($D$14='KL10'!$C$4,'KL10'!C24,"")&IF($D$14='KL11'!$C$4,'KL11'!C24,"")&IF($D$14='KL12'!$C$4,'KL12'!C24,"") | AL35: =IF($D$14='KL01'!$C$4,'KL01'!D24,"")&IF($D$14='KL02'!$C$4,'KL02'!D24,"")&IF($D$14='KL03'!$C$4,'KL03'!D24,"")&IF($D$14='KL04'!$C$4,'KL04'!D24,"")&IF($D$14='KL05'!$C$4,'KL05'!D24,"")&IF($D$14='KL06'!$C$4,'KL06'!D24,"")&IF($D$14='KL07'!$C$4,'KL07'!D24,"")&IF($D$14='KL08'!$C$4,'KL08'!D24,"")&IF($D$14='KL09'!$C$4,'KL09'!D24,"")&IF($D$14='KL10'!$C$4,'KL10'!D24,"")&IF($D$14='KL11'!$C$4,'KL11'!D24,"")&IF($D$14='KL12'!$C$4,'KL12'!D24,"") | AM35: =IF($D$14='KL01'!$C$4,'KL01'!E24,"")&IF($D$14='KL02'!$C$4,'KL02'!E24,"")&IF($D$14='KL03'!$C$4,'KL03'!E24,"")&IF($D$14='KL04'!$C$4,'KL04'!E24,"")&IF($D$14='KL05'!$C$4,'KL05'!E24,"")&IF($D$14='KL06'!$C$4,'KL06'!E24,"")&IF($D$14='KL07'!$C$4,'KL07'!E24,"")&IF($D$14='KL08'!$C$4,'KL08'!E24,"")&IF($D$14='KL09'!$C$4,'KL09'!E24,"")&IF($D$14='KL10'!$C$4,'KL10'!E24,"")&IF($D$14='KL11'!$C$4,'KL11'!E24,"")&IF($D$14='KL12'!$C$4,'KL12'!E24,"") | AN35: =IF($D$14='KL01'!$C$4,'KL01'!F24,"")&IF($D$14='KL02'!$C$4,'KL02'!F24,"")&IF($D$14='KL03'!$C$4,'KL03'!F24,"")&IF($D$14='KL04'!$C$4,'KL04'!F24,"")&IF($D$14='KL05'!$C$4,'KL05'!F24,"")&IF($D$14='KL06'!$C$4,'KL06'!F24,"")&IF($D$14='KL07'!$C$4,'KL07'!F24,"")&IF($D$14='KL08'!$C$4,'KL08'!F24,"")&IF($D$14='KL09'!$C$4,'KL09'!F24,"")&IF($D$14='KL10'!$C$4,'KL10'!F24,"")&IF($D$14='KL11'!$C$4,'KL11'!F24,"")&IF($D$14='KL12'!$C$4,'KL12'!F24,"") | AO35: =IF($D$14='KL01'!$C$4,'KL01'!G24,"")&IF($D$14='KL02'!$C$4,'KL02'!G24,"")&IF($D$14='KL03'!$C$4,'KL03'!G24,"")&IF($D$14='KL04'!$C$4,'KL04'!G24,"")&IF($D$14='KL05'!$C$4,'KL05'!G24,"")&IF($D$14='KL06'!$C$4,'KL06'!G24,"")&IF($D$14='KL07'!$C$4,'KL07'!G24,"")&IF($D$14='KL08'!$C$4,'KL08'!G24,"")&IF($D$14='KL09'!$C$4,'KL09'!G24,"")&IF($D$14='KL10'!$C$4,'KL10'!G24,"")&IF($D$14='KL11'!$C$4,'KL11'!G24,"")&IF($D$14='KL12'!$C$4,'KL12'!G24,"") | AP35: =IF($D$14='KL01'!$C$4,'KL01'!H24,"")&IF($D$14='KL02'!$C$4,'KL02'!H24,"")&IF($D$14='KL03'!$C$4,'KL03'!H24,"")&IF($D$14='KL04'!$C$4,'KL04'!H24,"")&IF($D$14='KL05'!$C$4,'KL05'!H24,"")&IF($D$14='KL06'!$C$4,'KL06'!H24,"")&IF($D$14='KL07'!$C$4,'KL07'!H24,"")&IF($D$14='KL08'!$C$4,'KL08'!H24,"")&IF($D$14='KL09'!$C$4,'KL09'!H24,"")&IF($D$14='KL10'!$C$4,'KL10'!H24,"")&IF($D$14='KL11'!$C$4,'KL11'!H24,"")&IF($D$14='KL12'!$C$4,'KL12'!H24,"") | AQ35: =IF($D$14='KL01'!$C$4,'KL01'!I24,"")&IF($D$14='KL02'!$C$4,'KL02'!I24,"")&IF($D$14='KL03'!$C$4,'KL03'!I24,"")&IF($D$14='KL04'!$C$4,'KL04'!I24,"")&IF($D$14='KL05'!$C$4,'KL05'!I24,"")&IF($D$14='KL06'!$C$4,'KL06'!I24,"")&IF($D$14='KL07'!$C$4,'KL07'!I24,"")&IF($D$14='KL08'!$C$4,'KL08'!I24,"")&IF($D$14='KL09'!$C$4,'KL09'!I24,"")&IF($D$14='KL10'!$C$4,'KL10'!I24,"")&IF($D$14='KL11'!$C$4,'KL11'!I24,"")&IF($D$14='KL12'!$C$4,'KL12'!I24,"") | AR35: =IF(AO35="","-/-",$AO$19) -> -/- | AS35: =IF(AP35="","-/-",$AP$19) -> -/- | AT35: =IF(AQ35="","-/-",$AQ$19) -> -/- | AU35: =IF(AK35="","",IF($D$19="","JA",IF($D$19=AR35,"JA",IF($D$19=AS35,"JA",IF($D$19=AT35,"JA",""))))) | AV35: =1+SUMPRODUCT(($AW$20:$AW$45<AW35)+(AW35="")*1000) -> 16 | AW35: =IF(AN35&AK35&AL35="","Z"&IF(AX35<10,"0"&AX35,AX35),AN35&AK35&AL35) -> Z16 | AX35: 16 | AZ35: =IF($J$25="x",L29,IF($J$16="x",O20,O11)) -> 79 | BA35: =IF($J$25="x",M29,IF($J$16="x",P20,P11)) -> 65
L36: Sekunden | O36: Meter | AJ36: ="#"&IF(AV36<10,"0","")&AV36&"#" -> #17# | AK36: =IF($D$14='KL01'!$C$4,'KL01'!C25,"")&IF($D$14='KL02'!$C$4,'KL02'!C25,"")&IF($D$14='KL03'!$C$4,'KL03'!C25,"")&IF($D$14='KL04'!$C$4,'KL04'!C25,"")&IF($D$14='KL05'!$C$4,'KL05'!C25,"")&IF($D$14='KL06'!$C$4,'KL06'!C25,"")&IF($D$14='KL07'!$C$4,'KL07'!C25,"")&IF($D$14='KL08'!$C$4,'KL08'!C25,"")&IF($D$14='KL09'!$C$4,'KL09'!C25,"")&IF($D$14='KL10'!$C$4,'KL10'!C25,"")&IF($D$14='KL11'!$C$4,'KL11'!C25,"")&IF($D$14='KL12'!$C$4,'KL12'!C25,"") | AL36: =IF($D$14='KL01'!$C$4,'KL01'!D25,"")&IF($D$14='KL02'!$C$4,'KL02'!D25,"")&IF($D$14='KL03'!$C$4,'KL03'!D25,"")&IF($D$14='KL04'!$C$4,'KL04'!D25,"")&IF($D$14='KL05'!$C$4,'KL05'!D25,"")&IF($D$14='KL06'!$C$4,'KL06'!D25,"")&IF($D$14='KL07'!$C$4,'KL07'!D25,"")&IF($D$14='KL08'!$C$4,'KL08'!D25,"")&IF($D$14='KL09'!$C$4,'KL09'!D25,"")&IF($D$14='KL10'!$C$4,'KL10'!D25,"")&IF($D$14='KL11'!$C$4,'KL11'!D25,"")&IF($D$14='KL12'!$C$4,'KL12'!D25,"") | AM36: =IF($D$14='KL01'!$C$4,'KL01'!E25,"")&IF($D$14='KL02'!$C$4,'KL02'!E25,"")&IF($D$14='KL03'!$C$4,'KL03'!E25,"")&IF($D$14='KL04'!$C$4,'KL04'!E25,"")&IF($D$14='KL05'!$C$4,'KL05'!E25,"")&IF($D$14='KL06'!$C$4,'KL06'!E25,"")&IF($D$14='KL07'!$C$4,'KL07'!E25,"")&IF($D$14='KL08'!$C$4,'KL08'!E25,"")&IF($D$14='KL09'!$C$4,'KL09'!E25,"")&IF($D$14='KL10'!$C$4,'KL10'!E25,"")&IF($D$14='KL11'!$C$4,'KL11'!E25,"")&IF($D$14='KL12'!$C$4,'KL12'!E25,"") | AN36: =IF($D$14='KL01'!$C$4,'KL01'!F25,"")&IF($D$14='KL02'!$C$4,'KL02'!F25,"")&IF($D$14='KL03'!$C$4,'KL03'!F25,"")&IF($D$14='KL04'!$C$4,'KL04'!F25,"")&IF($D$14='KL05'!$C$4,'KL05'!F25,"")&IF($D$14='KL06'!$C$4,'KL06'!F25,"")&IF($D$14='KL07'!$C$4,'KL07'!F25,"")&IF($D$14='KL08'!$C$4,'KL08'!F25,"")&IF($D$14='KL09'!$C$4,'KL09'!F25,"")&IF($D$14='KL10'!$C$4,'KL10'!F25,"")&IF($D$14='KL11'!$C$4,'KL11'!F25,"")&IF($D$14='KL12'!$C$4,'KL12'!F25,"") | AO36: =IF($D$14='KL01'!$C$4,'KL01'!G25,"")&IF($D$14='KL02'!$C$4,'KL02'!G25,"")&IF($D$14='KL03'!$C$4,'KL03'!G25,"")&IF($D$14='KL04'!$C$4,'KL04'!G25,"")&IF($D$14='KL05'!$C$4,'KL05'!G25,"")&IF($D$14='KL06'!$C$4,'KL06'!G25,"")&IF($D$14='KL07'!$C$4,'KL07'!G25,"")&IF($D$14='KL08'!$C$4,'KL08'!G25,"")&IF($D$14='KL09'!$C$4,'KL09'!G25,"")&IF($D$14='KL10'!$C$4,'KL10'!G25,"")&IF($D$14='KL11'!$C$4,'KL11'!G25,"")&IF($D$14='KL12'!$C$4,'KL12'!G25,"") | AP36: =IF($D$14='KL01'!$C$4,'KL01'!H25,"")&IF($D$14='KL02'!$C$4,'KL02'!H25,"")&IF($D$14='KL03'!$C$4,'KL03'!H25,"")&IF($D$14='KL04'!$C$4,'KL04'!H25,"")&IF($D$14='KL05'!$C$4,'KL05'!H25,"")&IF($D$14='KL06'!$C$4,'KL06'!H25,"")&IF($D$14='KL07'!$C$4,'KL07'!H25,"")&IF($D$14='KL08'!$C$4,'KL08'!H25,"")&IF($D$14='KL09'!$C$4,'KL09'!H25,"")&IF($D$14='KL10'!$C$4,'KL10'!H25,"")&IF($D$14='KL11'!$C$4,'KL11'!H25,"")&IF($D$14='KL12'!$C$4,'KL12'!H25,"") | AQ36: =IF($D$14='KL01'!$C$4,'KL01'!I25,"")&IF($D$14='KL02'!$C$4,'KL02'!I25,"")&IF($D$14='KL03'!$C$4,'KL03'!I25,"")&IF($D$14='KL04'!$C$4,'KL04'!I25,"")&IF($D$14='KL05'!$C$4,'KL05'!I25,"")&IF($D$14='KL06'!$C$4,'KL06'!I25,"")&IF($D$14='KL07'!$C$4,'KL07'!I25,"")&IF($D$14='KL08'!$C$4,'KL08'!I25,"")&IF($D$14='KL09'!$C$4,'KL09'!I25,"")&IF($D$14='KL10'!$C$4,'KL10'!I25,"")&IF($D$14='KL11'!$C$4,'KL11'!I25,"")&IF($D$14='KL12'!$C$4,'KL12'!I25,"") | AR36: =IF(AO36="","-/-",$AO$19) -> -/- | AS36: =IF(AP36="","-/-",$AP$19) -> -/- | AT36: =IF(AQ36="","-/-",$AQ$19) -> -/- | AU36: =IF(AK36="","",IF($D$19="","JA",IF($D$19=AR36,"JA",IF($D$19=AS36,"JA",IF($D$19=AT36,"JA",""))))) | AV36: =1+SUMPRODUCT(($AW$20:$AW$45<AW36)+(AW36="")*1000) -> 17 | AW36: =IF(AN36&AK36&AL36="","Z"&IF(AX36<10,"0"&AX36,AX36),AN36&AK36&AL36) -> Z17 | AX36: 17 | AZ36: =IF($J$25="x",L30,IF($J$16="x",O21,O12)) -> 64 | BA36: =IF($J$25="x",M30,IF($J$16="x",P21,P12)) -> 50
J37: Note | L37: kleiner gleich | M37: größer gleich | O37: kleiner gleich | P37: größer gleich | AJ37: ="#"&IF(AV37<10,"0","")&AV37&"#" -> #18# | AK37: =IF($D$14='KL01'!$C$4,'KL01'!C26,"")&IF($D$14='KL02'!$C$4,'KL02'!C26,"")&IF($D$14='KL03'!$C$4,'KL03'!C26,"")&IF($D$14='KL04'!$C$4,'KL04'!C26,"")&IF($D$14='KL05'!$C$4,'KL05'!C26,"")&IF($D$14='KL06'!$C$4,'KL06'!C26,"")&IF($D$14='KL07'!$C$4,'KL07'!C26,"")&IF($D$14='KL08'!$C$4,'KL08'!C26,"")&IF($D$14='KL09'!$C$4,'KL09'!C26,"")&IF($D$14='KL10'!$C$4,'KL10'!C26,"")&IF($D$14='KL11'!$C$4,'KL11'!C26,"")&IF($D$14='KL12'!$C$4,'KL12'!C26,"") | AL37: =IF($D$14='KL01'!$C$4,'KL01'!D26,"")&IF($D$14='KL02'!$C$4,'KL02'!D26,"")&IF($D$14='KL03'!$C$4,'KL03'!D26,"")&IF($D$14='KL04'!$C$4,'KL04'!D26,"")&IF($D$14='KL05'!$C$4,'KL05'!D26,"")&IF($D$14='KL06'!$C$4,'KL06'!D26,"")&IF($D$14='KL07'!$C$4,'KL07'!D26,"")&IF($D$14='KL08'!$C$4,'KL08'!D26,"")&IF($D$14='KL09'!$C$4,'KL09'!D26,"")&IF($D$14='KL10'!$C$4,'KL10'!D26,"")&IF($D$14='KL11'!$C$4,'KL11'!D26,"")&IF($D$14='KL12'!$C$4,'KL12'!D26,"") | AM37: =IF($D$14='KL01'!$C$4,'KL01'!E26,"")&IF($D$14='KL02'!$C$4,'KL02'!E26,"")&IF($D$14='KL03'!$C$4,'KL03'!E26,"")&IF($D$14='KL04'!$C$4,'KL04'!E26,"")&IF($D$14='KL05'!$C$4,'KL05'!E26,"")&IF($D$14='KL06'!$C$4,'KL06'!E26,"")&IF($D$14='KL07'!$C$4,'KL07'!E26,"")&IF($D$14='KL08'!$C$4,'KL08'!E26,"")&IF($D$14='KL09'!$C$4,'KL09'!E26,"")&IF($D$14='KL10'!$C$4,'KL10'!E26,"")&IF($D$14='KL11'!$C$4,'KL11'!E26,"")&IF($D$14='KL12'!$C$4,'KL12'!E26,"") | AN37: =IF($D$14='KL01'!$C$4,'KL01'!F26,"")&IF($D$14='KL02'!$C$4,'KL02'!F26,"")&IF($D$14='KL03'!$C$4,'KL03'!F26,"")&IF($D$14='KL04'!$C$4,'KL04'!F26,"")&IF($D$14='KL05'!$C$4,'KL05'!F26,"")&IF($D$14='KL06'!$C$4,'KL06'!F26,"")&IF($D$14='KL07'!$C$4,'KL07'!F26,"")&IF($D$14='KL08'!$C$4,'KL08'!F26,"")&IF($D$14='KL09'!$C$4,'KL09'!F26,"")&IF($D$14='KL10'!$C$4,'KL10'!F26,"")&IF($D$14='KL11'!$C$4,'KL11'!F26,"")&IF($D$14='KL12'!$C$4,'KL12'!F26,"") | AO37: =IF($D$14='KL01'!$C$4,'KL01'!G26,"")&IF($D$14='KL02'!$C$4,'KL02'!G26,"")&IF($D$14='KL03'!$C$4,'KL03'!G26,"")&IF($D$14='KL04'!$C$4,'KL04'!G26,"")&IF($D$14='KL05'!$C$4,'KL05'!G26,"")&IF($D$14='KL06'!$C$4,'KL06'!G26,"")&IF($D$14='KL07'!$C$4,'KL07'!G26,"")&IF($D$14='KL08'!$C$4,'KL08'!G26,"")&IF($D$14='KL09'!$C$4,'KL09'!G26,"")&IF($D$14='KL10'!$C$4,'KL10'!G26,"")&IF($D$14='KL11'!$C$4,'KL11'!G26,"")&IF($D$14='KL12'!$C$4,'KL12'!G26,"") | AP37: =IF($D$14='KL01'!$C$4,'KL01'!H26,"")&IF($D$14='KL02'!$C$4,'KL02'!H26,"")&IF($D$14='KL03'!$C$4,'KL03'!H26,"")&IF($D$14='KL04'!$C$4,'KL04'!H26,"")&IF($D$14='KL05'!$C$4,'KL05'!H26,"")&IF($D$14='KL06'!$C$4,'KL06'!H26,"")&IF($D$14='KL07'!$C$4,'KL07'!H26,"")&IF($D$14='KL08'!$C$4,'KL08'!H26,"")&IF($D$14='KL09'!$C$4,'KL09'!H26,"")&IF($D$14='KL10'!$C$4,'KL10'!H26,"")&IF($D$14='KL11'!$C$4,'KL11'!H26,"")&IF($D$14='KL12'!$C$4,'KL12'!H26,"") | AQ37: =IF($D$14='KL01'!$C$4,'KL01'!I26,"")&IF($D$14='KL02'!$C$4,'KL02'!I26,"")&IF($D$14='KL03'!$C$4,'KL03'!I26,"")&IF($D$14='KL04'!$C$4,'KL04'!I26,"")&IF($D$14='KL05'!$C$4,'KL05'!I26,"")&IF($D$14='KL06'!$C$4,'KL06'!I26,"")&IF($D$14='KL07'!$C$4,'KL07'!I26,"")&IF($D$14='KL08'!$C$4,'KL08'!I26,"")&IF($D$14='KL09'!$C$4,'KL09'!I26,"")&IF($D$14='KL10'!$C$4,'KL10'!I26,"")&IF($D$14='KL11'!$C$4,'KL11'!I26,"")&IF($D$14='KL12'!$C$4,'KL12'!I26,"") | AR37: =IF(AO37="","-/-",$AO$19) -> -/- | AS37: =IF(AP37="","-/-",$AP$19) -> -/- | AT37: =IF(AQ37="","-/-",$AQ$19) -> -/- | AU37: =IF(AK37="","",IF($D$19="","JA",IF($D$19=AR37,"JA",IF($D$19=AS37,"JA",IF($D$19=AT37,"JA",""))))) | AV37: =1+SUMPRODUCT(($AW$20:$AW$45<AW37)+(AW37="")*1000) -> 18 | AW37: =IF(AN37&AK37&AL37="","Z"&IF(AX37<10,"0"&AX37,AX37),AN37&AK37&AL37) -> Z18 | AX37: 18 | AZ37: =IF($J$25="x",L31,IF($J$16="x",O22,O13)) -> 49 | BA37: =IF($J$25="x",M31,IF($J$16="x",P22,P13)) -> 30
J38: 1 | M38: 0 | O38: 99999.999 | AJ38: ="#"&IF(AV38<10,"0","")&AV38&"#" -> #19# | AK38: =IF($D$14='KL01'!$C$4,'KL01'!C27,"")&IF($D$14='KL02'!$C$4,'KL02'!C27,"")&IF($D$14='KL03'!$C$4,'KL03'!C27,"")&IF($D$14='KL04'!$C$4,'KL04'!C27,"")&IF($D$14='KL05'!$C$4,'KL05'!C27,"")&IF($D$14='KL06'!$C$4,'KL06'!C27,"")&IF($D$14='KL07'!$C$4,'KL07'!C27,"")&IF($D$14='KL08'!$C$4,'KL08'!C27,"")&IF($D$14='KL09'!$C$4,'KL09'!C27,"")&IF($D$14='KL10'!$C$4,'KL10'!C27,"")&IF($D$14='KL11'!$C$4,'KL11'!C27,"")&IF($D$14='KL12'!$C$4,'KL12'!C27,"") | AL38: =IF($D$14='KL01'!$C$4,'KL01'!D27,"")&IF($D$14='KL02'!$C$4,'KL02'!D27,"")&IF($D$14='KL03'!$C$4,'KL03'!D27,"")&IF($D$14='KL04'!$C$4,'KL04'!D27,"")&IF($D$14='KL05'!$C$4,'KL05'!D27,"")&IF($D$14='KL06'!$C$4,'KL06'!D27,"")&IF($D$14='KL07'!$C$4,'KL07'!D27,"")&IF($D$14='KL08'!$C$4,'KL08'!D27,"")&IF($D$14='KL09'!$C$4,'KL09'!D27,"")&IF($D$14='KL10'!$C$4,'KL10'!D27,"")&IF($D$14='KL11'!$C$4,'KL11'!D27,"")&IF($D$14='KL12'!$C$4,'KL12'!D27,"") | AM38: =IF($D$14='KL01'!$C$4,'KL01'!E27,"")&IF($D$14='KL02'!$C$4,'KL02'!E27,"")&IF($D$14='KL03'!$C$4,'KL03'!E27,"")&IF($D$14='KL04'!$C$4,'KL04'!E27,"")&IF($D$14='KL05'!$C$4,'KL05'!E27,"")&IF($D$14='KL06'!$C$4,'KL06'!E27,"")&IF($D$14='KL07'!$C$4,'KL07'!E27,"")&IF($D$14='KL08'!$C$4,'KL08'!E27,"")&IF($D$14='KL09'!$C$4,'KL09'!E27,"")&IF($D$14='KL10'!$C$4,'KL10'!E27,"")&IF($D$14='KL11'!$C$4,'KL11'!E27,"")&IF($D$14='KL12'!$C$4,'KL12'!E27,"") | AN38: =IF($D$14='KL01'!$C$4,'KL01'!F27,"")&IF($D$14='KL02'!$C$4,'KL02'!F27,"")&IF($D$14='KL03'!$C$4,'KL03'!F27,"")&IF($D$14='KL04'!$C$4,'KL04'!F27,"")&IF($D$14='KL05'!$C$4,'KL05'!F27,"")&IF($D$14='KL06'!$C$4,'KL06'!F27,"")&IF($D$14='KL07'!$C$4,'KL07'!F27,"")&IF($D$14='KL08'!$C$4,'KL08'!F27,"")&IF($D$14='KL09'!$C$4,'KL09'!F27,"")&IF($D$14='KL10'!$C$4,'KL10'!F27,"")&IF($D$14='KL11'!$C$4,'KL11'!F27,"")&IF($D$14='KL12'!$C$4,'KL12'!F27,"") | AO38: =IF($D$14='KL01'!$C$4,'KL01'!G27,"")&IF($D$14='KL02'!$C$4,'KL02'!G27,"")&IF($D$14='KL03'!$C$4,'KL03'!G27,"")&IF($D$14='KL04'!$C$4,'KL04'!G27,"")&IF($D$14='KL05'!$C$4,'KL05'!G27,"")&IF($D$14='KL06'!$C$4,'KL06'!G27,"")&IF($D$14='KL07'!$C$4,'KL07'!G27,"")&IF($D$14='KL08'!$C$4,'KL08'!G27,"")&IF($D$14='KL09'!$C$4,'KL09'!G27,"")&IF($D$14='KL10'!$C$4,'KL10'!G27,"")&IF($D$14='KL11'!$C$4,'KL11'!G27,"")&IF($D$14='KL12'!$C$4,'KL12'!G27,"") | AP38: =IF($D$14='KL01'!$C$4,'KL01'!H27,"")&IF($D$14='KL02'!$C$4,'KL02'!H27,"")&IF($D$14='KL03'!$C$4,'KL03'!H27,"")&IF($D$14='KL04'!$C$4,'KL04'!H27,"")&IF($D$14='KL05'!$C$4,'KL05'!H27,"")&IF($D$14='KL06'!$C$4,'KL06'!H27,"")&IF($D$14='KL07'!$C$4,'KL07'!H27,"")&IF($D$14='KL08'!$C$4,'KL08'!H27,"")&IF($D$14='KL09'!$C$4,'KL09'!H27,"")&IF($D$14='KL10'!$C$4,'KL10'!H27,"")&IF($D$14='KL11'!$C$4,'KL11'!H27,"")&IF($D$14='KL12'!$C$4,'KL12'!H27,"") | AQ38: =IF($D$14='KL01'!$C$4,'KL01'!I27,"")&IF($D$14='KL02'!$C$4,'KL02'!I27,"")&IF($D$14='KL03'!$C$4,'KL03'!I27,"")&IF($D$14='KL04'!$C$4,'KL04'!I27,"")&IF($D$14='KL05'!$C$4,'KL05'!I27,"")&IF($D$14='KL06'!$C$4,'KL06'!I27,"")&IF($D$14='KL07'!$C$4,'KL07'!I27,"")&IF($D$14='KL08'!$C$4,'KL08'!I27,"")&IF($D$14='KL09'!$C$4,'KL09'!I27,"")&IF($D$14='KL10'!$C$4,'KL10'!I27,"")&IF($D$14='KL11'!$C$4,'KL11'!I27,"")&IF($D$14='KL12'!$C$4,'KL12'!I27,"") | AR38: =IF(AO38="","-/-",$AO$19) -> -/- | AS38: =IF(AP38="","-/-",$AP$19) -> -/- | AT38: =IF(AQ38="","-/-",$AQ$19) -> -/- | AU38: =IF(AK38="","",IF($D$19="","JA",IF($D$19=AR38,"JA",IF($D$19=AS38,"JA",IF($D$19=AT38,"JA",""))))) | AV38: =1+SUMPRODUCT(($AW$20:$AW$45<AW38)+(AW38="")*1000) -> 19 | AW38: =IF(AN38&AK38&AL38="","Z"&IF(AX38<10,"0"&AX38,AX38),AN38&AK38&AL38) -> Z19 | AX38: 19 | AZ38: =IF($J$25="x",L32,IF($J$16="x",O23,O14)) -> 29 | BA38: =IF($J$25="x",M32,IF($J$16="x",P23,P14)) -> 0
J39: 2 | M39: =L38+IF($E$32="JA",0.5,IF($F$32<0.5,1,IF($F$32<1.5,0.1,IF($F$32<2.5,0.01,0.001)))) -> 1 | O39: =P38-IF($E$32="JA",0.5,IF($F$32<0.5,1,IF($F$32<1.5,0.1,IF($F$32<2.5,0.01,0.001)))) -> -1 | AJ39: ="#"&IF(AV39<10,"0","")&AV39&"#" -> #20# | AK39: =IF($D$14='KL01'!$C$4,'KL01'!C28,"")&IF($D$14='KL02'!$C$4,'KL02'!C28,"")&IF($D$14='KL03'!$C$4,'KL03'!C28,"")&IF($D$14='KL04'!$C$4,'KL04'!C28,"")&IF($D$14='KL05'!$C$4,'KL05'!C28,"")&IF($D$14='KL06'!$C$4,'KL06'!C28,"")&IF($D$14='KL07'!$C$4,'KL07'!C28,"")&IF($D$14='KL08'!$C$4,'KL08'!C28,"")&IF($D$14='KL09'!$C$4,'KL09'!C28,"")&IF($D$14='KL10'!$C$4,'KL10'!C28,"")&IF($D$14='KL11'!$C$4,'KL11'!C28,"")&IF($D$14='KL12'!$C$4,'KL12'!C28,"") | AL39: =IF($D$14='KL01'!$C$4,'KL01'!D28,"")&IF($D$14='KL02'!$C$4,'KL02'!D28,"")&IF($D$14='KL03'!$C$4,'KL03'!D28,"")&IF($D$14='KL04'!$C$4,'KL04'!D28,"")&IF($D$14='KL05'!$C$4,'KL05'!D28,"")&IF($D$14='KL06'!$C$4,'KL06'!D28,"")&IF($D$14='KL07'!$C$4,'KL07'!D28,"")&IF($D$14='KL08'!$C$4,'KL08'!D28,"")&IF($D$14='KL09'!$C$4,'KL09'!D28,"")&IF($D$14='KL10'!$C$4,'KL10'!D28,"")&IF($D$14='KL11'!$C$4,'KL11'!D28,"")&IF($D$14='KL12'!$C$4,'KL12'!D28,"") | AM39: =IF($D$14='KL01'!$C$4,'KL01'!E28,"")&IF($D$14='KL02'!$C$4,'KL02'!E28,"")&IF($D$14='KL03'!$C$4,'KL03'!E28,"")&IF($D$14='KL04'!$C$4,'KL04'!E28,"")&IF($D$14='KL05'!$C$4,'KL05'!E28,"")&IF($D$14='KL06'!$C$4,'KL06'!E28,"")&IF($D$14='KL07'!$C$4,'KL07'!E28,"")&IF($D$14='KL08'!$C$4,'KL08'!E28,"")&IF($D$14='KL09'!$C$4,'KL09'!E28,"")&IF($D$14='KL10'!$C$4,'KL10'!E28,"")&IF($D$14='KL11'!$C$4,'KL11'!E28,"")&IF($D$14='KL12'!$C$4,'KL12'!E28,"") | AN39: =IF($D$14='KL01'!$C$4,'KL01'!F28,"")&IF($D$14='KL02'!$C$4,'KL02'!F28,"")&IF($D$14='KL03'!$C$4,'KL03'!F28,"")&IF($D$14='KL04'!$C$4,'KL04'!F28,"")&IF($D$14='KL05'!$C$4,'KL05'!F28,"")&IF($D$14='KL06'!$C$4,'KL06'!F28,"")&IF($D$14='KL07'!$C$4,'KL07'!F28,"")&IF($D$14='KL08'!$C$4,'KL08'!F28,"")&IF($D$14='KL09'!$C$4,'KL09'!F28,"")&IF($D$14='KL10'!$C$4,'KL10'!F28,"")&IF($D$14='KL11'!$C$4,'KL11'!F28,"")&IF($D$14='KL12'!$C$4,'KL12'!F28,"") | AO39: =IF($D$14='KL01'!$C$4,'KL01'!G28,"")&IF($D$14='KL02'!$C$4,'KL02'!G28,"")&IF($D$14='KL03'!$C$4,'KL03'!G28,"")&IF($D$14='KL04'!$C$4,'KL04'!G28,"")&IF($D$14='KL05'!$C$4,'KL05'!G28,"")&IF($D$14='KL06'!$C$4,'KL06'!G28,"")&IF($D$14='KL07'!$C$4,'KL07'!G28,"")&IF($D$14='KL08'!$C$4,'KL08'!G28,"")&IF($D$14='KL09'!$C$4,'KL09'!G28,"")&IF($D$14='KL10'!$C$4,'KL10'!G28,"")&IF($D$14='KL11'!$C$4,'KL11'!G28,"")&IF($D$14='KL12'!$C$4,'KL12'!G28,"") | AP39: =IF($D$14='KL01'!$C$4,'KL01'!H28,"")&IF($D$14='KL02'!$C$4,'KL02'!H28,"")&IF($D$14='KL03'!$C$4,'KL03'!H28,"")&IF($D$14='KL04'!$C$4,'KL04'!H28,"")&IF($D$14='KL05'!$C$4,'KL05'!H28,"")&IF($D$14='KL06'!$C$4,'KL06'!H28,"")&IF($D$14='KL07'!$C$4,'KL07'!H28,"")&IF($D$14='KL08'!$C$4,'KL08'!H28,"")&IF($D$14='KL09'!$C$4,'KL09'!H28,"")&IF($D$14='KL10'!$C$4,'KL10'!H28,"")&IF($D$14='KL11'!$C$4,'KL11'!H28,"")&IF($D$14='KL12'!$C$4,'KL12'!H28,"") | AQ39: =IF($D$14='KL01'!$C$4,'KL01'!I28,"")&IF($D$14='KL02'!$C$4,'KL02'!I28,"")&IF($D$14='KL03'!$C$4,'KL03'!I28,"")&IF($D$14='KL04'!$C$4,'KL04'!I28,"")&IF($D$14='KL05'!$C$4,'KL05'!I28,"")&IF($D$14='KL06'!$C$4,'KL06'!I28,"")&IF($D$14='KL07'!$C$4,'KL07'!I28,"")&IF($D$14='KL08'!$C$4,'KL08'!I28,"")&IF($D$14='KL09'!$C$4,'KL09'!I28,"")&IF($D$14='KL10'!$C$4,'KL10'!I28,"")&IF($D$14='KL11'!$C$4,'KL11'!I28,"")&IF($D$14='KL12'!$C$4,'KL12'!I28,"") | AR39: =IF(AO39="","-/-",$AO$19) -> -/- | AS39: =IF(AP39="","-/-",$AP$19) -> -/- | AT39: =IF(AQ39="","-/-",$AQ$19) -> -/- | AU39: =IF(AK39="","",IF($D$19="","JA",IF($D$19=AR39,"JA",IF($D$19=AS39,"JA",IF($D$19=AT39,"JA",""))))) | AV39: =1+SUMPRODUCT(($AW$20:$AW$45<AW39)+(AW39="")*1000) -> 20 | AW39: =IF(AN39&AK39&AL39="","Z"&IF(AX39<10,"0"&AX39,AX39),AN39&AK39&AL39) -> Z20 | AX39: 20
J40: 3 | M40: =L39+IF($E$32="JA",0.5,IF($F$32<0.5,1,IF($F$32<1.5,0.1,IF($F$32<2.5,0.01,0.001)))) -> 1 | O40: =P39-IF($E$32="JA",0.5,IF($F$32<0.5,1,IF($F$32<1.5,0.1,IF($F$32<2.5,0.01,0.001)))) -> -1 | AJ40: ="#"&IF(AV40<10,"0","")&AV40&"#" -> #21# | AK40: =IF($D$14='KL01'!$C$4,'KL01'!C29,"")&IF($D$14='KL02'!$C$4,'KL02'!C29,"")&IF($D$14='KL03'!$C$4,'KL03'!C29,"")&IF($D$14='KL04'!$C$4,'KL04'!C29,"")&IF($D$14='KL05'!$C$4,'KL05'!C29,"")&IF($D$14='KL06'!$C$4,'KL06'!C29,"")&IF($D$14='KL07'!$C$4,'KL07'!C29,"")&IF($D$14='KL08'!$C$4,'KL08'!C29,"")&IF($D$14='KL09'!$C$4,'KL09'!C29,"")&IF($D$14='KL10'!$C$4,'KL10'!C29,"")&IF($D$14='KL11'!$C$4,'KL11'!C29,"")&IF($D$14='KL12'!$C$4,'KL12'!C29,"") | AL40: =IF($D$14='KL01'!$C$4,'KL01'!D29,"")&IF($D$14='KL02'!$C$4,'KL02'!D29,"")&IF($D$14='KL03'!$C$4,'KL03'!D29,"")&IF($D$14='KL04'!$C$4,'KL04'!D29,"")&IF($D$14='KL05'!$C$4,'KL05'!D29,"")&IF($D$14='KL06'!$C$4,'KL06'!D29,"")&IF($D$14='KL07'!$C$4,'KL07'!D29,"")&IF($D$14='KL08'!$C$4,'KL08'!D29,"")&IF($D$14='KL09'!$C$4,'KL09'!D29,"")&IF($D$14='KL10'!$C$4,'KL10'!D29,"")&IF($D$14='KL11'!$C$4,'KL11'!D29,"")&IF($D$14='KL12'!$C$4,'KL12'!D29,"") | AM40: =IF($D$14='KL01'!$C$4,'KL01'!E29,"")&IF($D$14='KL02'!$C$4,'KL02'!E29,"")&IF($D$14='KL03'!$C$4,'KL03'!E29,"")&IF($D$14='KL04'!$C$4,'KL04'!E29,"")&IF($D$14='KL05'!$C$4,'KL05'!E29,"")&IF($D$14='KL06'!$C$4,'KL06'!E29,"")&IF($D$14='KL07'!$C$4,'KL07'!E29,"")&IF($D$14='KL08'!$C$4,'KL08'!E29,"")&IF($D$14='KL09'!$C$4,'KL09'!E29,"")&IF($D$14='KL10'!$C$4,'KL10'!E29,"")&IF($D$14='KL11'!$C$4,'KL11'!E29,"")&IF($D$14='KL12'!$C$4,'KL12'!E29,"") | AN40: =IF($D$14='KL01'!$C$4,'KL01'!F29,"")&IF($D$14='KL02'!$C$4,'KL02'!F29,"")&IF($D$14='KL03'!$C$4,'KL03'!F29,"")&IF($D$14='KL04'!$C$4,'KL04'!F29,"")&IF($D$14='KL05'!$C$4,'KL05'!F29,"")&IF($D$14='KL06'!$C$4,'KL06'!F29,"")&IF($D$14='KL07'!$C$4,'KL07'!F29,"")&IF($D$14='KL08'!$C$4,'KL08'!F29,"")&IF($D$14='KL09'!$C$4,'KL09'!F29,"")&IF($D$14='KL10'!$C$4,'KL10'!F29,"")&IF($D$14='KL11'!$C$4,'KL11'!F29,"")&IF($D$14='KL12'!$C$4,'KL12'!F29,"") | AO40: =IF($D$14='KL01'!$C$4,'KL01'!G29,"")&IF($D$14='KL02'!$C$4,'KL02'!G29,"")&IF($D$14='KL03'!$C$4,'KL03'!G29,"")&IF($D$14='KL04'!$C$4,'KL04'!G29,"")&IF($D$14='KL05'!$C$4,'KL05'!G29,"")&IF($D$14='KL06'!$C$4,'KL06'!G29,"")&IF($D$14='KL07'!$C$4,'KL07'!G29,"")&IF($D$14='KL08'!$C$4,'KL08'!G29,"")&IF($D$14='KL09'!$C$4,'KL09'!G29,"")&IF($D$14='KL10'!$C$4,'KL10'!G29,"")&IF($D$14='KL11'!$C$4,'KL11'!G29,"")&IF($D$14='KL12'!$C$4,'KL12'!G29,"") | AP40: =IF($D$14='KL01'!$C$4,'KL01'!H29,"")&IF($D$14='KL02'!$C$4,'KL02'!H29,"")&IF($D$14='KL03'!$C$4,'KL03'!H29,"")&IF($D$14='KL04'!$C$4,'KL04'!H29,"")&IF($D$14='KL05'!$C$4,'KL05'!H29,"")&IF($D$14='KL06'!$C$4,'KL06'!H29,"")&IF($D$14='KL07'!$C$4,'KL07'!H29,"")&IF($D$14='KL08'!$C$4,'KL08'!H29,"")&IF($D$14='KL09'!$C$4,'KL09'!H29,"")&IF($D$14='KL10'!$C$4,'KL10'!H29,"")&IF($D$14='KL11'!$C$4,'KL11'!H29,"")&IF($D$14='KL12'!$C$4,'KL12'!H29,"") | AQ40: =IF($D$14='KL01'!$C$4,'KL01'!I29,"")&IF($D$14='KL02'!$C$4,'KL02'!I29,"")&IF($D$14='KL03'!$C$4,'KL03'!I29,"")&IF($D$14='KL04'!$C$4,'KL04'!I29,"")&IF($D$14='KL05'!$C$4,'KL05'!I29,"")&IF($D$14='KL06'!$C$4,'KL06'!I29,"")&IF($D$14='KL07'!$C$4,'KL07'!I29,"")&IF($D$14='KL08'!$C$4,'KL08'!I29,"")&IF($D$14='KL09'!$C$4,'KL09'!I29,"")&IF($D$14='KL10'!$C$4,'KL10'!I29,"")&IF($D$14='KL11'!$C$4,'KL11'!I29,"")&IF($D$14='KL12'!$C$4,'KL12'!I29,"") | AR40: =IF(AO40="","-/-",$AO$19) -> -/- | AS40: =IF(AP40="","-/-",$AP$19) -> -/- | AT40: =IF(AQ40="","-/-",$AQ$19) -> -/- | AU40: =IF(AK40="","",IF($D$19="","JA",IF($D$19=AR40,"JA",IF($D$19=AS40,"JA",IF($D$19=AT40,"JA",""))))) | AV40: =1+SUMPRODUCT(($AW$20:$AW$45<AW40)+(AW40="")*1000) -> 21 | AW40: =IF(AN40&AK40&AL40="","Z"&IF(AX40<10,"0"&AX40,AX40),AN40&AK40&AL40) -> Z21 | AX40: 21 | AZ40: Prozent
J41: 4 | M41: =L40+IF($E$32="JA",0.5,IF($F$32<0.5,1,IF($F$32<1.5,0.1,IF($F$32<2.5,0.01,0.001)))) -> 1 | O41: =P40-IF($E$32="JA",0.5,IF($F$32<0.5,1,IF($F$32<1.5,0.1,IF($F$32<2.5,0.01,0.001)))) -> -1 | AJ41: ="#"&IF(AV41<10,"0","")&AV41&"#" -> #22# | AK41: =IF($D$14='KL01'!$C$4,'KL01'!C30,"")&IF($D$14='KL02'!$C$4,'KL02'!C30,"")&IF($D$14='KL03'!$C$4,'KL03'!C30,"")&IF($D$14='KL04'!$C$4,'KL04'!C30,"")&IF($D$14='KL05'!$C$4,'KL05'!C30,"")&IF($D$14='KL06'!$C$4,'KL06'!C30,"")&IF($D$14='KL07'!$C$4,'KL07'!C30,"")&IF($D$14='KL08'!$C$4,'KL08'!C30,"")&IF($D$14='KL09'!$C$4,'KL09'!C30,"")&IF($D$14='KL10'!$C$4,'KL10'!C30,"")&IF($D$14='KL11'!$C$4,'KL11'!C30,"")&IF($D$14='KL12'!$C$4,'KL12'!C30,"") | AL41: =IF($D$14='KL01'!$C$4,'KL01'!D30,"")&IF($D$14='KL02'!$C$4,'KL02'!D30,"")&IF($D$14='KL03'!$C$4,'KL03'!D30,"")&IF($D$14='KL04'!$C$4,'KL04'!D30,"")&IF($D$14='KL05'!$C$4,'KL05'!D30,"")&IF($D$14='KL06'!$C$4,'KL06'!D30,"")&IF($D$14='KL07'!$C$4,'KL07'!D30,"")&IF($D$14='KL08'!$C$4,'KL08'!D30,"")&IF($D$14='KL09'!$C$4,'KL09'!D30,"")&IF($D$14='KL10'!$C$4,'KL10'!D30,"")&IF($D$14='KL11'!$C$4,'KL11'!D30,"")&IF($D$14='KL12'!$C$4,'KL12'!D30,"") | AM41: =IF($D$14='KL01'!$C$4,'KL01'!E30,"")&IF($D$14='KL02'!$C$4,'KL02'!E30,"")&IF($D$14='KL03'!$C$4,'KL03'!E30,"")&IF($D$14='KL04'!$C$4,'KL04'!E30,"")&IF($D$14='KL05'!$C$4,'KL05'!E30,"")&IF($D$14='KL06'!$C$4,'KL06'!E30,"")&IF($D$14='KL07'!$C$4,'KL07'!E30,"")&IF($D$14='KL08'!$C$4,'KL08'!E30,"")&IF($D$14='KL09'!$C$4,'KL09'!E30,"")&IF($D$14='KL10'!$C$4,'KL10'!E30,"")&IF($D$14='KL11'!$C$4,'KL11'!E30,"")&IF($D$14='KL12'!$C$4,'KL12'!E30,"") | AN41: =IF($D$14='KL01'!$C$4,'KL01'!F30,"")&IF($D$14='KL02'!$C$4,'KL02'!F30,"")&IF($D$14='KL03'!$C$4,'KL03'!F30,"")&IF($D$14='KL04'!$C$4,'KL04'!F30,"")&IF($D$14='KL05'!$C$4,'KL05'!F30,"")&IF($D$14='KL06'!$C$4,'KL06'!F30,"")&IF($D$14='KL07'!$C$4,'KL07'!F30,"")&IF($D$14='KL08'!$C$4,'KL08'!F30,"")&IF($D$14='KL09'!$C$4,'KL09'!F30,"")&IF($D$14='KL10'!$C$4,'KL10'!F30,"")&IF($D$14='KL11'!$C$4,'KL11'!F30,"")&IF($D$14='KL12'!$C$4,'KL12'!F30,"") | AO41: =IF($D$14='KL01'!$C$4,'KL01'!G30,"")&IF($D$14='KL02'!$C$4,'KL02'!G30,"")&IF($D$14='KL03'!$C$4,'KL03'!G30,"")&IF($D$14='KL04'!$C$4,'KL04'!G30,"")&IF($D$14='KL05'!$C$4,'KL05'!G30,"")&IF($D$14='KL06'!$C$4,'KL06'!G30,"")&IF($D$14='KL07'!$C$4,'KL07'!G30,"")&IF($D$14='KL08'!$C$4,'KL08'!G30,"")&IF($D$14='KL09'!$C$4,'KL09'!G30,"")&IF($D$14='KL10'!$C$4,'KL10'!G30,"")&IF($D$14='KL11'!$C$4,'KL11'!G30,"")&IF($D$14='KL12'!$C$4,'KL12'!G30,"") | AP41: =IF($D$14='KL01'!$C$4,'KL01'!H30,"")&IF($D$14='KL02'!$C$4,'KL02'!H30,"")&IF($D$14='KL03'!$C$4,'KL03'!H30,"")&IF($D$14='KL04'!$C$4,'KL04'!H30,"")&IF($D$14='KL05'!$C$4,'KL05'!H30,"")&IF($D$14='KL06'!$C$4,'KL06'!H30,"")&IF($D$14='KL07'!$C$4,'KL07'!H30,"")&IF($D$14='KL08'!$C$4,'KL08'!H30,"")&IF($D$14='KL09'!$C$4,'KL09'!H30,"")&IF($D$14='KL10'!$C$4,'KL10'!H30,"")&IF($D$14='KL11'!$C$4,'KL11'!H30,"")&IF($D$14='KL12'!$C$4,'KL12'!H30,"") | AQ41: =IF($D$14='KL01'!$C$4,'KL01'!I30,"")&IF($D$14='KL02'!$C$4,'KL02'!I30,"")&IF($D$14='KL03'!$C$4,'KL03'!I30,"")&IF($D$14='KL04'!$C$4,'KL04'!I30,"")&IF($D$14='KL05'!$C$4,'KL05'!I30,"")&IF($D$14='KL06'!$C$4,'KL06'!I30,"")&IF($D$14='KL07'!$C$4,'KL07'!I30,"")&IF($D$14='KL08'!$C$4,'KL08'!I30,"")&IF($D$14='KL09'!$C$4,'KL09'!I30,"")&IF($D$14='KL10'!$C$4,'KL10'!I30,"")&IF($D$14='KL11'!$C$4,'KL11'!I30,"")&IF($D$14='KL12'!$C$4,'KL12'!I30,"") | AR41: =IF(AO41="","-/-",$AO$19) -> -/- | AS41: =IF(AP41="","-/-",$AP$19) -> -/- | AT41: =IF(AQ41="","-/-",$AQ$19) -> -/- | AU41: =IF(AK41="","",IF($D$19="","JA",IF($D$19=AR41,"JA",IF($D$19=AS41,"JA",IF($D$19=AT41,"JA",""))))) | AV41: =1+SUMPRODUCT(($AW$20:$AW$45<AW41)+(AW41="")*1000) -> 22 | AW41: =IF(AN41&AK41&AL41="","Z"&IF(AX41<10,"0"&AX41,AX41),AN41&AK41&AL41) -> Z22 | AX41: 22 | AZ41: kleiner gleich | BA41: größer gleich
J42: 5 | M42: =L41+IF($E$32="JA",0.5,IF($F$32<0.5,1,IF($F$32<1.5,0.1,IF($F$32<2.5,0.01,0.001)))) -> 1 | O42: =P41-IF($E$32="JA",0.5,IF($F$32<0.5,1,IF($F$32<1.5,0.1,IF($F$32<2.5,0.01,0.001)))) -> -1 | AJ42: ="#"&IF(AV42<10,"0","")&AV42&"#" -> #23# | AK42: =IF($D$14='KL01'!$C$4,'KL01'!C31,"")&IF($D$14='KL02'!$C$4,'KL02'!C31,"")&IF($D$14='KL03'!$C$4,'KL03'!C31,"")&IF($D$14='KL04'!$C$4,'KL04'!C31,"")&IF($D$14='KL05'!$C$4,'KL05'!C31,"")&IF($D$14='KL06'!$C$4,'KL06'!C31,"")&IF($D$14='KL07'!$C$4,'KL07'!C31,"")&IF($D$14='KL08'!$C$4,'KL08'!C31,"")&IF($D$14='KL09'!$C$4,'KL09'!C31,"")&IF($D$14='KL10'!$C$4,'KL10'!C31,"")&IF($D$14='KL11'!$C$4,'KL11'!C31,"")&IF($D$14='KL12'!$C$4,'KL12'!C31,"") | AL42: =IF($D$14='KL01'!$C$4,'KL01'!D31,"")&IF($D$14='KL02'!$C$4,'KL02'!D31,"")&IF($D$14='KL03'!$C$4,'KL03'!D31,"")&IF($D$14='KL04'!$C$4,'KL04'!D31,"")&IF($D$14='KL05'!$C$4,'KL05'!D31,"")&IF($D$14='KL06'!$C$4,'KL06'!D31,"")&IF($D$14='KL07'!$C$4,'KL07'!D31,"")&IF($D$14='KL08'!$C$4,'KL08'!D31,"")&IF($D$14='KL09'!$C$4,'KL09'!D31,"")&IF($D$14='KL10'!$C$4,'KL10'!D31,"")&IF($D$14='KL11'!$C$4,'KL11'!D31,"")&IF($D$14='KL12'!$C$4,'KL12'!D31,"") | AM42: =IF($D$14='KL01'!$C$4,'KL01'!E31,"")&IF($D$14='KL02'!$C$4,'KL02'!E31,"")&IF($D$14='KL03'!$C$4,'KL03'!E31,"")&IF($D$14='KL04'!$C$4,'KL04'!E31,"")&IF($D$14='KL05'!$C$4,'KL05'!E31,"")&IF($D$14='KL06'!$C$4,'KL06'!E31,"")&IF($D$14='KL07'!$C$4,'KL07'!E31,"")&IF($D$14='KL08'!$C$4,'KL08'!E31,"")&IF($D$14='KL09'!$C$4,'KL09'!E31,"")&IF($D$14='KL10'!$C$4,'KL10'!E31,"")&IF($D$14='KL11'!$C$4,'KL11'!E31,"")&IF($D$14='KL12'!$C$4,'KL12'!E31,"") | AN42: =IF($D$14='KL01'!$C$4,'KL01'!F31,"")&IF($D$14='KL02'!$C$4,'KL02'!F31,"")&IF($D$14='KL03'!$C$4,'KL03'!F31,"")&IF($D$14='KL04'!$C$4,'KL04'!F31,"")&IF($D$14='KL05'!$C$4,'KL05'!F31,"")&IF($D$14='KL06'!$C$4,'KL06'!F31,"")&IF($D$14='KL07'!$C$4,'KL07'!F31,"")&IF($D$14='KL08'!$C$4,'KL08'!F31,"")&IF($D$14='KL09'!$C$4,'KL09'!F31,"")&IF($D$14='KL10'!$C$4,'KL10'!F31,"")&IF($D$14='KL11'!$C$4,'KL11'!F31,"")&IF($D$14='KL12'!$C$4,'KL12'!F31,"") | AO42: =IF($D$14='KL01'!$C$4,'KL01'!G31,"")&IF($D$14='KL02'!$C$4,'KL02'!G31,"")&IF($D$14='KL03'!$C$4,'KL03'!G31,"")&IF($D$14='KL04'!$C$4,'KL04'!G31,"")&IF($D$14='KL05'!$C$4,'KL05'!G31,"")&IF($D$14='KL06'!$C$4,'KL06'!G31,"")&IF($D$14='KL07'!$C$4,'KL07'!G31,"")&IF($D$14='KL08'!$C$4,'KL08'!G31,"")&IF($D$14='KL09'!$C$4,'KL09'!G31,"")&IF($D$14='KL10'!$C$4,'KL10'!G31,"")&IF($D$14='KL11'!$C$4,'KL11'!G31,"")&IF($D$14='KL12'!$C$4,'KL12'!G31,"") | AP42: =IF($D$14='KL01'!$C$4,'KL01'!H31,"")&IF($D$14='KL02'!$C$4,'KL02'!H31,"")&IF($D$14='KL03'!$C$4,'KL03'!H31,"")&IF($D$14='KL04'!$C$4,'KL04'!H31,"")&IF($D$14='KL05'!$C$4,'KL05'!H31,"")&IF($D$14='KL06'!$C$4,'KL06'!H31,"")&IF($D$14='KL07'!$C$4,'KL07'!H31,"")&IF($D$14='KL08'!$C$4,'KL08'!H31,"")&IF($D$14='KL09'!$C$4,'KL09'!H31,"")&IF($D$14='KL10'!$C$4,'KL10'!H31,"")&IF($D$14='KL11'!$C$4,'KL11'!H31,"")&IF($D$14='KL12'!$C$4,'KL12'!H31,"") | AQ42: =IF($D$14='KL01'!$C$4,'KL01'!I31,"")&IF($D$14='KL02'!$C$4,'KL02'!I31,"")&IF($D$14='KL03'!$C$4,'KL03'!I31,"")&IF($D$14='KL04'!$C$4,'KL04'!I31,"")&IF($D$14='KL05'!$C$4,'KL05'!I31,"")&IF($D$14='KL06'!$C$4,'KL06'!I31,"")&IF($D$14='KL07'!$C$4,'KL07'!I31,"")&IF($D$14='KL08'!$C$4,'KL08'!I31,"")&IF($D$14='KL09'!$C$4,'KL09'!I31,"")&IF($D$14='KL10'!$C$4,'KL10'!I31,"")&IF($D$14='KL11'!$C$4,'KL11'!I31,"")&IF($D$14='KL12'!$C$4,'KL12'!I31,"") | AR42: =IF(AO42="","-/-",$AO$19) -> -/- | AS42: =IF(AP42="","-/-",$AP$19) -> -/- | AT42: =IF(AQ42="","-/-",$AQ$19) -> -/- | AU42: =IF(AK42="","",IF($D$19="","JA",IF($D$19=AR42,"JA",IF($D$19=AS42,"JA",IF($D$19=AT42,"JA",""))))) | AV42: =1+SUMPRODUCT(($AW$20:$AW$45<AW42)+(AW42="")*1000) -> 23 | AW42: =IF(AN42&AK42&AL42="","Z"&IF(AX42<10,"0"&AX42,AX42),AN42&AK42&AL42) -> Z23 | AX42: 23 | AZ42: =IF($J$16="x",L18,L9) -> 1 | BA42: =IF($J$16="x",M18,M9) -> 0.9
J43: 6 | L43: 99999.999 | M43: =L42+IF($E$32="JA",0.5,IF($F$32<0.5,1,IF($F$32<1.5,0.1,IF($F$32<2.5,0.01,0.001)))) -> 1 | O43: =P42-IF($E$32="JA",0.5,IF($F$32<0.5,1,IF($F$32<1.5,0.1,IF($F$32<2.5,0.01,0.001)))) -> -1 | P43: 0 | AJ43: ="#"&IF(AV43<10,"0","")&AV43&"#" -> #24# | AK43: =IF($D$14='KL01'!$C$4,'KL01'!C32,"")&IF($D$14='KL02'!$C$4,'KL02'!C32,"")&IF($D$14='KL03'!$C$4,'KL03'!C32,"")&IF($D$14='KL04'!$C$4,'KL04'!C32,"")&IF($D$14='KL05'!$C$4,'KL05'!C32,"")&IF($D$14='KL06'!$C$4,'KL06'!C32,"")&IF($D$14='KL07'!$C$4,'KL07'!C32,"")&IF($D$14='KL08'!$C$4,'KL08'!C32,"")&IF($D$14='KL09'!$C$4,'KL09'!C32,"")&IF($D$14='KL10'!$C$4,'KL10'!C32,"")&IF($D$14='KL11'!$C$4,'KL11'!C32,"")&IF($D$14='KL12'!$C$4,'KL12'!C32,"") | AL43: =IF($D$14='KL01'!$C$4,'KL01'!D32,"")&IF($D$14='KL02'!$C$4,'KL02'!D32,"")&IF($D$14='KL03'!$C$4,'KL03'!D32,"")&IF($D$14='KL04'!$C$4,'KL04'!D32,"")&IF($D$14='KL05'!$C$4,'KL05'!D32,"")&IF($D$14='KL06'!$C$4,'KL06'!D32,"")&IF($D$14='KL07'!$C$4,'KL07'!D32,"")&IF($D$14='KL08'!$C$4,'KL08'!D32,"")&IF($D$14='KL09'!$C$4,'KL09'!D32,"")&IF($D$14='KL10'!$C$4,'KL10'!D32,"")&IF($D$14='KL11'!$C$4,'KL11'!D32,"")&IF($D$14='KL12'!$C$4,'KL12'!D32,"") | AM43: =IF($D$14='KL01'!$C$4,'KL01'!E32,"")&IF($D$14='KL02'!$C$4,'KL02'!E32,"")&IF($D$14='KL03'!$C$4,'KL03'!E32,"")&IF($D$14='KL04'!$C$4,'KL04'!E32,"")&IF($D$14='KL05'!$C$4,'KL05'!E32,"")&IF($D$14='KL06'!$C$4,'KL06'!E32,"")&IF($D$14='KL07'!$C$4,'KL07'!E32,"")&IF($D$14='KL08'!$C$4,'KL08'!E32,"")&IF($D$14='KL09'!$C$4,'KL09'!E32,"")&IF($D$14='KL10'!$C$4,'KL10'!E32,"")&IF($D$14='KL11'!$C$4,'KL11'!E32,"")&IF($D$14='KL12'!$C$4,'KL12'!E32,"") | AN43: =IF($D$14='KL01'!$C$4,'KL01'!F32,"")&IF($D$14='KL02'!$C$4,'KL02'!F32,"")&IF($D$14='KL03'!$C$4,'KL03'!F32,"")&IF($D$14='KL04'!$C$4,'KL04'!F32,"")&IF($D$14='KL05'!$C$4,'KL05'!F32,"")&IF($D$14='KL06'!$C$4,'KL06'!F32,"")&IF($D$14='KL07'!$C$4,'KL07'!F32,"")&IF($D$14='KL08'!$C$4,'KL08'!F32,"")&IF($D$14='KL09'!$C$4,'KL09'!F32,"")&IF($D$14='KL10'!$C$4,'KL10'!F32,"")&IF($D$14='KL11'!$C$4,'KL11'!F32,"")&IF($D$14='KL12'!$C$4,'KL12'!F32,"") | AO43: =IF($D$14='KL01'!$C$4,'KL01'!G32,"")&IF($D$14='KL02'!$C$4,'KL02'!G32,"")&IF($D$14='KL03'!$C$4,'KL03'!G32,"")&IF($D$14='KL04'!$C$4,'KL04'!G32,"")&IF($D$14='KL05'!$C$4,'KL05'!G32,"")&IF($D$14='KL06'!$C$4,'KL06'!G32,"")&IF($D$14='KL07'!$C$4,'KL07'!G32,"")&IF($D$14='KL08'!$C$4,'KL08'!G32,"")&IF($D$14='KL09'!$C$4,'KL09'!G32,"")&IF($D$14='KL10'!$C$4,'KL10'!G32,"")&IF($D$14='KL11'!$C$4,'KL11'!G32,"")&IF($D$14='KL12'!$C$4,'KL12'!G32,"") | AP43: =IF($D$14='KL01'!$C$4,'KL01'!H32,"")&IF($D$14='KL02'!$C$4,'KL02'!H32,"")&IF($D$14='KL03'!$C$4,'KL03'!H32,"")&IF($D$14='KL04'!$C$4,'KL04'!H32,"")&IF($D$14='KL05'!$C$4,'KL05'!H32,"")&IF($D$14='KL06'!$C$4,'KL06'!H32,"")&IF($D$14='KL07'!$C$4,'KL07'!H32,"")&IF($D$14='KL08'!$C$4,'KL08'!H32,"")&IF($D$14='KL09'!$C$4,'KL09'!H32,"")&IF($D$14='KL10'!$C$4,'KL10'!H32,"")&IF($D$14='KL11'!$C$4,'KL11'!H32,"")&IF($D$14='KL12'!$C$4,'KL12'!H32,"") | AQ43: =IF($D$14='KL01'!$C$4,'KL01'!I32,"")&IF($D$14='KL02'!$C$4,'KL02'!I32,"")&IF($D$14='KL03'!$C$4,'KL03'!I32,"")&IF($D$14='KL04'!$C$4,'KL04'!I32,"")&IF($D$14='KL05'!$C$4,'KL05'!I32,"")&IF($D$14='KL06'!$C$4,'KL06'!I32,"")&IF($D$14='KL07'!$C$4,'KL07'!I32,"")&IF($D$14='KL08'!$C$4,'KL08'!I32,"")&IF($D$14='KL09'!$C$4,'KL09'!I32,"")&IF($D$14='KL10'!$C$4,'KL10'!I32,"")&IF($D$14='KL11'!$C$4,'KL11'!I32,"")&IF($D$14='KL12'!$C$4,'KL12'!I32,"") | AR43: =IF(AO43="","-/-",$AO$19) -> -/- | AS43: =IF(AP43="","-/-",$AP$19) -> -/- | AT43: =IF(AQ43="","-/-",$AQ$19) -> -/- | AU43: =IF(AK43="","",IF($D$19="","JA",IF($D$19=AR43,"JA",IF($D$19=AS43,"JA",IF($D$19=AT43,"JA",""))))) | AV43: =1+SUMPRODUCT(($AW$20:$AW$45<AW43)+(AW43="")*1000) -> 24 | AW43: =IF(AN43&AK43&AL43="","Z"&IF(AX43<10,"0"&AX43,AX43),AN43&AK43&AL43) -> Z24 | AX43: 24 | AZ43: =IF($J$16="x",L19,L10) -> 0.899 | BA43: =IF($J$16="x",M19,M10) -> 0.8
AJ44: ="#"&IF(AV44<10,"0","")&AV44&"#" -> #25# | AK44: =IF($D$14='KL01'!$C$4,'KL01'!C33,"")&IF($D$14='KL02'!$C$4,'KL02'!C33,"")&IF($D$14='KL03'!$C$4,'KL03'!C33,"")&IF($D$14='KL04'!$C$4,'KL04'!C33,"")&IF($D$14='KL05'!$C$4,'KL05'!C33,"")&IF($D$14='KL06'!$C$4,'KL06'!C33,"")&IF($D$14='KL07'!$C$4,'KL07'!C33,"")&IF($D$14='KL08'!$C$4,'KL08'!C33,"")&IF($D$14='KL09'!$C$4,'KL09'!C33,"")&IF($D$14='KL10'!$C$4,'KL10'!C33,"")&IF($D$14='KL11'!$C$4,'KL11'!C33,"")&IF($D$14='KL12'!$C$4,'KL12'!C33,"") | AL44: =IF($D$14='KL01'!$C$4,'KL01'!D33,"")&IF($D$14='KL02'!$C$4,'KL02'!D33,"")&IF($D$14='KL03'!$C$4,'KL03'!D33,"")&IF($D$14='KL04'!$C$4,'KL04'!D33,"")&IF($D$14='KL05'!$C$4,'KL05'!D33,"")&IF($D$14='KL06'!$C$4,'KL06'!D33,"")&IF($D$14='KL07'!$C$4,'KL07'!D33,"")&IF($D$14='KL08'!$C$4,'KL08'!D33,"")&IF($D$14='KL09'!$C$4,'KL09'!D33,"")&IF($D$14='KL10'!$C$4,'KL10'!D33,"")&IF($D$14='KL11'!$C$4,'KL11'!D33,"")&IF($D$14='KL12'!$C$4,'KL12'!D33,"") | AM44: =IF($D$14='KL01'!$C$4,'KL01'!E33,"")&IF($D$14='KL02'!$C$4,'KL02'!E33,"")&IF($D$14='KL03'!$C$4,'KL03'!E33,"")&IF($D$14='KL04'!$C$4,'KL04'!E33,"")&IF($D$14='KL05'!$C$4,'KL05'!E33,"")&IF($D$14='KL06'!$C$4,'KL06'!E33,"")&IF($D$14='KL07'!$C$4,'KL07'!E33,"")&IF($D$14='KL08'!$C$4,'KL08'!E33,"")&IF($D$14='KL09'!$C$4,'KL09'!E33,"")&IF($D$14='KL10'!$C$4,'KL10'!E33,"")&IF($D$14='KL11'!$C$4,'KL11'!E33,"")&IF($D$14='KL12'!$C$4,'KL12'!E33,"") | AN44: =IF($D$14='KL01'!$C$4,'KL01'!F33,"")&IF($D$14='KL02'!$C$4,'KL02'!F33,"")&IF($D$14='KL03'!$C$4,'KL03'!F33,"")&IF($D$14='KL04'!$C$4,'KL04'!F33,"")&IF($D$14='KL05'!$C$4,'KL05'!F33,"")&IF($D$14='KL06'!$C$4,'KL06'!F33,"")&IF($D$14='KL07'!$C$4,'KL07'!F33,"")&IF($D$14='KL08'!$C$4,'KL08'!F33,"")&IF($D$14='KL09'!$C$4,'KL09'!F33,"")&IF($D$14='KL10'!$C$4,'KL10'!F33,"")&IF($D$14='KL11'!$C$4,'KL11'!F33,"")&IF($D$14='KL12'!$C$4,'KL12'!F33,"") | AO44: =IF($D$14='KL01'!$C$4,'KL01'!G33,"")&IF($D$14='KL02'!$C$4,'KL02'!G33,"")&IF($D$14='KL03'!$C$4,'KL03'!G33,"")&IF($D$14='KL04'!$C$4,'KL04'!G33,"")&IF($D$14='KL05'!$C$4,'KL05'!G33,"")&IF($D$14='KL06'!$C$4,'KL06'!G33,"")&IF($D$14='KL07'!$C$4,'KL07'!G33,"")&IF($D$14='KL08'!$C$4,'KL08'!G33,"")&IF($D$14='KL09'!$C$4,'KL09'!G33,"")&IF($D$14='KL10'!$C$4,'KL10'!G33,"")&IF($D$14='KL11'!$C$4,'KL11'!G33,"")&IF($D$14='KL12'!$C$4,'KL12'!G33,"") | AP44: =IF($D$14='KL01'!$C$4,'KL01'!H33,"")&IF($D$14='KL02'!$C$4,'KL02'!H33,"")&IF($D$14='KL03'!$C$4,'KL03'!H33,"")&IF($D$14='KL04'!$C$4,'KL04'!H33,"")&IF($D$14='KL05'!$C$4,'KL05'!H33,"")&IF($D$14='KL06'!$C$4,'KL06'!H33,"")&IF($D$14='KL07'!$C$4,'KL07'!H33,"")&IF($D$14='KL08'!$C$4,'KL08'!H33,"")&IF($D$14='KL09'!$C$4,'KL09'!H33,"")&IF($D$14='KL10'!$C$4,'KL10'!H33,"")&IF($D$14='KL11'!$C$4,'KL11'!H33,"")&IF($D$14='KL12'!$C$4,'KL12'!H33,"") | AQ44: =IF($D$14='KL01'!$C$4,'KL01'!I33,"")&IF($D$14='KL02'!$C$4,'KL02'!I33,"")&IF($D$14='KL03'!$C$4,'KL03'!I33,"")&IF($D$14='KL04'!$C$4,'KL04'!I33,"")&IF($D$14='KL05'!$C$4,'KL05'!I33,"")&IF($D$14='KL06'!$C$4,'KL06'!I33,"")&IF($D$14='KL07'!$C$4,'KL07'!I33,"")&IF($D$14='KL08'!$C$4,'KL08'!I33,"")&IF($D$14='KL09'!$C$4,'KL09'!I33,"")&IF($D$14='KL10'!$C$4,'KL10'!I33,"")&IF($D$14='KL11'!$C$4,'KL11'!I33,"")&IF($D$14='KL12'!$C$4,'KL12'!I33,"") | AR44: =IF(AO44="","-/-",$AO$19) -> -/- | AS44: =IF(AP44="","-/-",$AP$19) -> -/- | AT44: =IF(AQ44="","-/-",$AQ$19) -> -/- | AU44: =IF(AK44="","",IF($D$19="","JA",IF($D$19=AR44,"JA",IF($D$19=AS44,"JA",IF($D$19=AT44,"JA",""))))) | AV44: =1+SUMPRODUCT(($AW$20:$AW$45<AW44)+(AW44="")*1000) -> 25 | AW44: =IF(AN44&AK44&AL44="","Z"&IF(AX44<10,"0"&AX44,AX44),AN44&AK44&AL44) -> Z25 | AX44: 25 | AZ44: =IF($J$16="x",L20,L11) -> 0.799 | BA44: =IF($J$16="x",M20,M11) -> 0.65
L45: Textverarbeitung | AJ45: ="#"&IF(AV45<10,"0","")&AV45&"#" -> #26# | AV45: =1+SUMPRODUCT(($AW$20:$AW$45<AW45)+(AW45="")*1000) -> 26 | AW45: =AN20&"ZZZZZ" -> ZZZZZ | AX45: 26 | AZ45: =IF($J$16="x",L21,L12) -> 0.649 | BA45: =IF($J$16="x",M21,M12) -> 0.5
AZ46: =IF($J$16="x",L22,L13) -> 0.499 | BA46: =IF($J$16="x",M22,M13) -> 0.3
L47: Fehlerprozent | O47: Fehlerpunkte | AZ47: =IF($J$16="x",L23,L14) -> 0.299 | BA47: =IF($J$16="x",M23,M14) -> 0
J48: Note | L48: kleiner gleich | M48: größer gleich | O48: kleiner gleich | P48: größer gleich
J49: 1 | M49: 0 | P49: 0
J50: 2 | M50: =L49+IF($E$32="JA",0.5,IF($F$32<0.5,1,IF($F$32<1.5,0.1,IF($F$32<2.5,0.01,0.001)))) -> 1 | P50: =O49+IF($E$32="JA",0.5,IF($F$32<0.5,1,IF($F$32<1.5,0.1,IF($F$32<2.5,0.01,0.001)))) -> 1
J51: 3 | M51: =L50+IF($E$32="JA",0.5,IF($F$32<0.5,1,IF($F$32<1.5,0.1,IF($F$32<2.5,0.01,0.001)))) -> 1 | P51: =O50+IF($E$32="JA",0.5,IF($F$32<0.5,1,IF($F$32<1.5,0.1,IF($F$32<2.5,0.01,0.001)))) -> 1
J52: 4 | M52: =L51+IF($E$32="JA",0.5,IF($F$32<0.5,1,IF($F$32<1.5,0.1,IF($F$32<2.5,0.01,0.001)))) -> 1 | P52: =O51+IF($E$32="JA",0.5,IF($F$32<0.5,1,IF($F$32<1.5,0.1,IF($F$32<2.5,0.01,0.001)))) -> 1
J53: 5 | M53: =L52+IF($E$32="JA",0.5,IF($F$32<0.5,1,IF($F$32<1.5,0.1,IF($F$32<2.5,0.01,0.001)))) -> 1 | P53: =O52+IF($E$32="JA",0.5,IF($F$32<0.5,1,IF($F$32<1.5,0.1,IF($F$32<2.5,0.01,0.001)))) -> 1
J54: 6 | L54: 99999.999 | M54: =L53+IF($E$32="JA",0.5,IF($F$32<0.5,1,IF($F$32<1.5,0.1,IF($F$32<2.5,0.01,0.001)))) -> 1 | O54: 99999 | P54: =O53+IF($E$32="JA",0.5,IF($F$32<0.5,1,IF($F$32<1.5,0.1,IF($F$32<2.5,0.01,0.001)))) -> 1
L56: Frei
J59: Note | L59: kleiner gleich | M59: größer gleich | O59: kleiner gleich | P59: größer gleich
J60: 1
J61: 2
J62: 3
J63: 4
J64: 5
J65: 6
BQ68: =Druckausgabe_A4!C3 -> 0 | CH68: =Druckausgabe_A4!T3 -> Schuljahr: 2011/2012
BQ70: =Druckausgabe_A4!C5 -> im Fach
BQ73: Datum der Arbeit: | BV73: =Druckausgabe_A4!H8 -> 0 | BZ73: Lehrer: | CC73: =Druckausgabe_A4!O8 -> 0 | CI73: Klasse: | CL73: =Druckausgabe_A4!X8 -> 0
BQ75: Thema:
BR77: =Druckausgabe_A4!D12 -> 0
BQ80: Nr. | BR80: Name | BX80: =Druckausgabe_A4!J15 -> 0 | CA80: Note | CD80: Schnitt: | CG80: =Druckausgabe_A4!S15 -> -/- | CJ80: Arbeitszeit:
BQ81: =Druckausgabe_A4!C16 -> 1. | BR81: =Druckausgabe_A4!D16 | BX81: =Druckausgabe_A4!J16 | CA81: =Druckausgabe_A4!M16 | CK81: =Druckausgabe_A4!W16 -> min
BQ82: =Druckausgabe_A4!C17 | BR82: =Druckausgabe_A4!D17 | BX82: =Druckausgabe_A4!J17 | CA82: =Druckausgabe_A4!M17
BQ83: =Druckausgabe_A4!C18 | BR83: =Druckausgabe_A4!D18 | BX83: =Druckausgabe_A4!J18 | CA83: =Druckausgabe_A4!M18
BQ84: =Druckausgabe_A4!C19 | BR84: =Druckausgabe_A4!D19 | BX84: =Druckausgabe_A4!J19 | CA84: =Druckausgabe_A4!M19 | CD84: Note | CF84: =Druckausgabe_A4!R19 -> 0 | CK84: Anzahl
BQ85: =Druckausgabe_A4!C20 | BR85: =Druckausgabe_A4!D20 | BX85: =Druckausgabe_A4!J20 | CA85: =Druckausgabe_A4!M20 | CD85: 1 | CF85: =Druckausgabe_A4!R20 -> #N/A | CH85: - | CI85: =Druckausgabe_A4!U20 -> #N/A | CK85: =Druckausgabe_A4!W20 -> 0 | CL85: =Druckausgabe_A4!X20 -> -/-
BQ86: =Druckausgabe_A4!C21 | BR86: =Druckausgabe_A4!D21 | BX86: =Druckausgabe_A4!J21 | CA86: =Druckausgabe_A4!M21 | CD86: 2 | CF86: =Druckausgabe_A4!R21 -> #N/A | CH86: - | CI86: =Druckausgabe_A4!U21 -> #N/A | CK86: =Druckausgabe_A4!W21 -> 0 | CL86: =Druckausgabe_A4!X21 -> -/-
BQ87: =Druckausgabe_A4!C22 | BR87: =Druckausgabe_A4!D22 | BX87: =Druckausgabe_A4!J22 | CA87: =Druckausgabe_A4!M22 | CD87: 3 | CF87: =Druckausgabe_A4!R22 -> #N/A | CH87: - | CI87: =Druckausgabe_A4!U22 -> #N/A | CK87: =Druckausgabe_A4!W22 -> 0 | CL87: =Druckausgabe_A4!X22 -> -/-
BQ88: =Druckausgabe_A4!C23 | BR88: =Druckausgabe_A4!D23 | BX88: =Druckausgabe_A4!J23 | CA88: =Druckausgabe_A4!M23 | CD88: 4 | CF88: =Druckausgabe_A4!R23 -> #N/A | CH88: - | CI88: =Druckausgabe_A4!U23 -> #N/A | CK88: =Druckausgabe_A4!W23 -> 0 | CL88: =Druckausgabe_A4!X23 -> -/-
BQ89: =Druckausgabe_A4!C24 | BR89: =Druckausgabe_A4!D24 | BX89: =Druckausgabe_A4!J24 | CA89: =Druckausgabe_A4!M24 | CD89: 5 | CF89: =Druckausgabe_A4!R24 -> #N/A | CH89: - | CI89: =Druckausgabe_A4!U24 -> #N/A | CK89: =Druckausgabe_A4!W24 -> 0 | CL89: =Druckausgabe_A4!X24 -> -/-
BQ90: =Druckausgabe_A4!C25 | BR90: =Druckausgabe_A4!D25 | BX90: =Druckausgabe_A4!J25 | CA90: =Druckausgabe_A4!M25 | CD90: 6 | CF90: =Druckausgabe_A4!R25 -> #N/A | CH90: - | CI90: =Druckausgabe_A4!U25 -> #N/A | CK90: =Druckausgabe_A4!W25 -> 0 | CL90: =Druckausgabe_A4!X25 -> -/-
BQ91: =Druckausgabe_A4!C26 | BR91: =Druckausgabe_A4!D26 | BX91: =Druckausgabe_A4!J26 | CA91: =Druckausgabe_A4!M26 | CF91: Gesamt: | CK91: =Druckausgabe_A4!W26 -> 0
BQ92: =Druckausgabe_A4!C27 | BR92: =Druckausgabe_A4!D27 | BX92: =Druckausgabe_A4!J27 | CA92: =Druckausgabe_A4!M27
BQ93: =Druckausgabe_A4!C28 | BR93: =Druckausgabe_A4!D28 | BX93: =Druckausgabe_A4!J28 | CA93: =Druckausgabe_A4!M28
BQ94: =Druckausgabe_A4!C29 | BR94: =Druckausgabe_A4!D29 | BX94: =Druckausgabe_A4!J29 | CA94: =Druckausgabe_A4!M29
BQ95: =Druckausgabe_A4!C30 | BR95: =Druckausgabe_A4!D30 | BX95: =Druckausgabe_A4!J30 | CA95: =Druckausgabe_A4!M30
BQ96: =Druckausgabe_A4!C31 | BR96: =Druckausgabe_A4!D31 | BX96: =Druckausgabe_A4!J31 | CA96: =Druckausgabe_A4!M31
BQ97: =Druckausgabe_A4!C32 | BR97: =Druckausgabe_A4!D32 | BX97: =Druckausgabe_A4!J32 | CA97: =Druckausgabe_A4!M32
BQ98: =Druckausgabe_A4!C33 | BR98: =Druckausgabe_A4!D33 | BX98: =Druckausgabe_A4!J33 | CA98: =Druckausgabe_A4!M33
BQ99: =Druckausgabe_A4!C34 | BR99: =Druckausgabe_A4!D34 | BX99: =Druckausgabe_A4!J34 | CA99: =Druckausgabe_A4!M34
BQ100: =Druckausgabe_A4!C35 | BR100: =Druckausgabe_A4!D35 | BX100: =Druckausgabe_A4!J35 | CA100: =Druckausgabe_A4!M35
BQ101: =Druckausgabe_A4!C36 | BR101: =Druckausgabe_A4!D36 | BX101: =Druckausgabe_A4!J36 | CA101: =Druckausgabe_A4!M36
BQ102: =Druckausgabe_A4!C37 | BR102: =Druckausgabe_A4!D37 | BX102: =Druckausgabe_A4!J37 | CA102: =Druckausgabe_A4!M37
BQ103: =Druckausgabe_A4!C38 | BR103: =Druckausgabe_A4!D38 | BX103: =Druckausgabe_A4!J38 | CA103: =Druckausgabe_A4!M38
... BQ106: =Druckausgabe_A4!C41 | BR106: =Druckausgabe_A4!D41 | BX106: =Druckausgabe_A4!J41 | CA106: =Druckausgabe_A4!M41
BQ108: Bemerkungen:
BQ109: =Druckausgabe_A4!C44
BQ116: =Druckausgabe_A4!C51 -> Notenberechnung Ver 2.4, Florian Karl-David, 2012-01-22

Sheet Druckausgabe_A4
C3: =Eingabe!D15 -> 0 | T3: ="Schuljahr: "&Eingabe!D5 -> Schuljahr: 2011/2012
C5: =Eingabe!D22&" "&Eingabe!D23&" im Fach "&Eingabe!D8 -> im Fach
C8: Datum der Arbeit: | H8: =Eingabe!D21 -> 0 | L8: Lehrer: | O8: =Eingabe!D7 -> 0 | U8: Klasse: | X8: =Eingabe!D16 -> 0
C10: Thema:
D12: =Eingabe!D24 -> 0
C15: Nr. | D15: Name | J15: =Eingabe!AA5 -> 0 | M15: Note | P15: Schnitt: | S15: =IF(W26=0,"-/-",(W20*P20+W21*P21+W22*P22+W23*P23+W24*P24+W25*P25)/W26) -> -/- | V15: Arbeitszeit:
C16: =IF(Eingabe!U6="","",Eingabe!U6) -> 1. | D16: =IF(Eingabe!Z6="","",Eingabe!Z6) | J16: =IF(Eingabe!AA6="","",FIXED(Eingabe!AA6,Eingabe!$F$32,TRUE)) | M16: =IF(OR(Eingabe!AD6="offen",Eingabe!AD6=""),"",Eingabe!AD6) | W16: =Eingabe!D25&" min" -> min
C17: =IF(Eingabe!U7="","",Eingabe!U7) | D17: =IF(Eingabe!Z7="","",Eingabe!Z7) | J17: =IF(Eingabe!AA7="","",FIXED(Eingabe!AA7,Eingabe!$F$32,TRUE)) | M17: =IF(OR(Eingabe!AD7="offen",Eingabe!AD7=""),"",Eingabe!AD7)
C18: =IF(Eingabe!U8="","",Eingabe!U8) | D18: =IF(Eingabe!Z8="","",Eingabe!Z8) | J18: =IF(Eingabe!AA8="","",FIXED(Eingabe!AA8,Eingabe!$F$32,TRUE)) | M18: =IF(OR(Eingabe!AD8="offen",Eingabe!AD8=""),"",Eingabe!AD8)
C19: =IF(Eingabe!U9="","",Eingabe!U9) | D19: =IF(Eingabe!Z9="","",Eingabe!Z9) | J19: =IF(Eingabe!AA9="","",FIXED(Eingabe!AA9,Eingabe!$F$32,TRUE)) | M19: =IF(OR(Eingabe!AD9="offen",Eingabe!AD9=""),"",Eingabe!AD9) | P19: Note | R19: =Eingabe!AZ13 -> 0 | W19: Anzahl
C20: =IF(Eingabe!U10="","",Eingabe!U10) | D20: =IF(Eingabe!Z10="","",Eingabe!Z10) | J20: =IF(Eingabe!AA10="","",FIXED(Eingabe!AA10,Eingabe!$F$32,TRUE)) | M20: =IF(OR(Eingabe!AD10="offen",Eingabe!AD10=""),"",Eingabe!AD10) | P20: 1 | R20: =Eingabe!AZ23 -> #N/A | T20: - | U20: =Eingabe!BA23 -> #N/A | W20: =COUNTIF($M$16:$N$50,P20) -> 0 | X20: =IF($W$26=0,"-/-",W20/$W$26) -> -/-
C21: =IF(Eingabe!U11="","",Eingabe!U11) | D21: =IF(Eingabe!Z11="","",Eingabe!Z11) | J21: =IF(Eingabe!AA11="","",FIXED(Eingabe!AA11,Eingabe!$F$32,TRUE)) | M21: =IF(OR(Eingabe!AD11="offen",Eingabe!AD11=""),"",Eingabe!AD11) | P21: 2 | R21: =Eingabe!AZ24 -> #N/A | T21: - | U21: =Eingabe!BA24 -> #N/A | W21: =COUNTIF($M$16:$N$50,P21) -> 0 | X21: =IF($W$26=0,"-/-",W21/$W$26) -> -/-
C22: =IF(Eingabe!U12="","",Eingabe!U12) | D22: =IF(Eingabe!Z12="","",Eingabe!Z12) | J22: =IF(Eingabe!AA12="","",FIXED(Eingabe!AA12,Eingabe!$F$32,TRUE)) | M22: =IF(OR(Eingabe!AD12="offen",Eingabe!AD12=""),"",Eingabe!AD12) | P22: 3 | R22: =Eingabe!AZ25 -> #N/A | T22: - | U22: =Eingabe!BA25 -> #N/A | W22: =COUNTIF($M$16:$N$50,P22) -> 0 | X22: =IF($W$26=0,"-/-",W22/$W$26) -> -/-
C23: =IF(Eingabe!U13="","",Eingabe!U13) | D23: =IF(Eingabe!Z13="","",Eingabe!Z13) | J23: =IF(Eingabe!AA13="","",FIXED(Eingabe!AA13,Eingabe!$F$32,TRUE)) | M23: =IF(OR(Eingabe!AD13="offen",Eingabe!AD13=""),"",Eingabe!AD13) | P23: 4 | R23: =Eingabe!AZ26 -> #N/A | T23: - | U23: =Eingabe!BA26 -> #N/A | W23: =COUNTIF($M$16:$N$50,P23) -> 0 | X23: =IF($W$26=0,"-/-",W23/$W$26) -> -/-
C24: =IF(Eingabe!U14="","",Eingabe!U14) | D24: =IF(Eingabe!Z14="","",Eingabe!Z14) | J24: =IF(Eingabe!AA14="","",FIXED(Eingabe!AA14,Eingabe!$F$32,TRUE)) | M24: =IF(OR(Eingabe!AD14="offen",Eingabe!AD14=""),"",Eingabe!AD14) | P24: 5 | R24: =Eingabe!AZ27 -> #N/A | T24: - | U24: =Eingabe!BA27 -> #N/A | W24: =COUNTIF($M$16:$N$50,P24) -> 0 | X24: =IF($W$26=0,"-/-",W24/$W$26) -> -/-
C25: =IF(Eingabe!U15="","",Eingabe!U15) | D25: =IF(Eingabe!Z15="","",Eingabe!Z15) | J25: =IF(Eingabe!AA15="","",FIXED(Eingabe!AA15,Eingabe!$F$32,TRUE)) | M25: =IF(OR(Eingabe!AD15="offen",Eingabe!AD15=""),"",Eingabe!AD15) | P25: 6 | R25: =Eingabe!AZ28 -> #N/A | T25: - | U25: =Eingabe!BA28 -> #N/A | W25: =COUNTIF($M$16:$N$50,P25) -> 0 | X25: =IF($W$26=0,"-/-",W25/$W$26) -> -/-
C26: =IF(Eingabe!U16="","",Eingabe!U16) | D26: =IF(Eingabe!Z16="","",Eingabe!Z16) | J26: =IF(Eingabe!AA16="","",FIXED(Eingabe!AA16,Eingabe!$F$32,TRUE)) | M26: =IF(OR(Eingabe!AD16="offen",Eingabe!AD16=""),"",Eingabe!AD16) | R26: Gesamt: | W26: =SUM(W20:W25) -> 0
C27: =IF(Eingabe!U17="","",Eingabe!U17) | D27: =IF(Eingabe!Z17="","",Eingabe!Z17) | J27: =IF(Eingabe!AA17="","",FIXED(Eingabe!AA17,Eingabe!$F$32,TRUE)) | M27: =IF(OR(Eingabe!AD17="offen",Eingabe!AD17=""),"",Eingabe!AD17)
C28: =IF(Eingabe!U18="","",Eingabe!U18) | D28: =IF(Eingabe!Z18="","",Eingabe!Z18) | J28: =IF(Eingabe!AA18="","",FIXED(Eingabe!AA18,Eingabe!$F$32,TRUE)) | M28: =IF(OR(Eingabe!AD18="offen",Eingabe!AD18=""),"",Eingabe!AD18)
C29: =IF(Eingabe!U19="","",Eingabe!U19) | D29: =IF(Eingabe!Z19="","",Eingabe!Z19) | J29: =IF(Eingabe!AA19="","",FIXED(Eingabe!AA19,Eingabe!$F$32,TRUE)) | M29: =IF(OR(Eingabe!AD19="offen",Eingabe!AD19=""),"",Eingabe!AD19)
C30: =IF(Eingabe!U20="","",Eingabe!U20) | D30: =IF(Eingabe!Z20="","",Eingabe!Z20) | J30: =IF(Eingabe!AA20="","",FIXED(Eingabe!AA20,Eingabe!$F$32,TRUE)) | M30: =IF(OR(Eingabe!AD20="offen",Eingabe!AD20=""),"",Eingabe!AD20)
C31: =IF(Eingabe!U21="","",Eingabe!U21) | D31: =IF(Eingabe!Z21="","",Eingabe!Z21) | J31: =IF(Eingabe!AA21="","",FIXED(Eingabe!AA21,Eingabe!$F$32,TRUE)) | M31: =IF(OR(Eingabe!AD21="offen",Eingabe!AD21=""),"",Eingabe!AD21)
C32: =IF(Eingabe!U22="","",Eingabe!U22) | D32: =IF(Eingabe!Z22="","",Eingabe!Z22) | J32: =IF(Eingabe!AA22="","",FIXED(Eingabe!AA22,Eingabe!$F$32,TRUE)) | M32: =IF(OR(Eingabe!AD22="offen",Eingabe!AD22=""),"",Eingabe!AD22)
C33: =IF(Eingabe!U23="","",Eingabe!U23) | D33: =IF(Eingabe!Z23="","",Eingabe!Z23) | J33: =IF(Eingabe!AA23="","",FIXED(Eingabe!AA23,Eingabe!$F$32,TRUE)) | M33: =IF(OR(Eingabe!AD23="offen",Eingabe!AD23=""),"",Eingabe!AD23)
C34: =IF(Eingabe!U24="","",Eingabe!U24) | D34: =IF(Eingabe!Z24="","",Eingabe!Z24) | J34: =IF(Eingabe!AA24="","",FIXED(Eingabe!AA24,Eingabe!$F$32,TRUE)) | M34: =IF(OR(Eingabe!AD24="offen",Eingabe!AD24=""),"",Eingabe!AD24)
C35: =IF(Eingabe!U25="","",Eingabe!U25) | D35: =IF(Eingabe!Z25="","",Eingabe!Z25) | J35: =IF(Eingabe!AA25="","",FIXED(Eingabe!AA25,Eingabe!$F$32,TRUE)) | M35: =IF(OR(Eingabe!AD25="offen",Eingabe!AD25=""),"",Eingabe!AD25)
C36: =IF(Eingabe!U26="","",Eingabe!U26) | D36: =IF(Eingabe!Z26="","",Eingabe!Z26) | J36: =IF(Eingabe!AA26="","",FIXED(Eingabe!AA26,Eingabe!$F$32,TRUE)) | M36: =IF(OR(Eingabe!AD26="offen",Eingabe!AD26=""),"",Eingabe!AD26)
C37: =IF(Eingabe!U27="","",Eingabe!U27) | D37: =IF(Eingabe!Z27="","",Eingabe!Z27) | J37: =IF(Eingabe!AA27="","",FIXED(Eingabe!AA27,Eingabe!$F$32,TRUE)) | M37: =IF(OR(Eingabe!AD27="offen",Eingabe!AD27=""),"",Eingabe!AD27)
C38: =IF(Eingabe!U28="","",Eingabe!U28) | D38: =IF(Eingabe!Z28="","",Eingabe!Z28) | J38: =IF(Eingabe!AA28="","",FIXED(Eingabe!AA28,Eingabe!$F$32,TRUE)) | M38: =IF(OR(Eingabe!AD28="offen",Eingabe!AD28=""),"",Eingabe!AD28)
... C41: =IF(Eingabe!U31="","",Eingabe!U31) | D41: =IF(Eingabe!Z31="","",Eingabe!Z31) | J41: =IF(Eingabe!AA31="","",FIXED(Eingabe!AA31,Eingabe!$F$32,TRUE)) | M41: =IF(OR(Eingabe!AD31="offen",Eingabe!AD31=""),"",Eingabe!AD31)
C43: Bemerkungen:
C44: =IF(Eingabe!D35="","",Eingabe!D35)
C51: Notenberechnung Ver 2.4, Florian Karl-David, 2012-01-22

Sheet KL01
F2: Gruppen
C3: Kürzel: | D3: Schule: | F3: Jahrgangsstufe
C5: Klasse: | D5: Klassenleiter/in:
A8: Sverweis | C8: Nachname | D8: Vorname | E8: Bemerkungen
A9: ="#"&IF(#REF!<10,"0","")&#REF!&"#" -> #REF! | B9: 1.
A10: ="#"&IF(#REF!<10,"0","")&#REF!&"#" -> #REF! | B10: 2.
A11: ="#"&IF(#REF!<10,"0","")&#REF!&"#" -> #REF! | B11: 3.
A12: ="#"&IF(#REF!<10,"0","")&#REF!&"#" -> #REF! | B12: 4.
A13: ="#"&IF(#REF!<10,"0","")&#REF!&"#" -> #REF! | B13: 5.
A14: ="#"&IF(#REF!<10,"0","")&#REF!&"#" -> #REF! | B14: 6.
A15: ="#"&IF(#REF!<10,"0","")&#REF!&"#" -> #REF! | B15: 7.
A16: ="#"&IF(#REF!<10,"0","")&#REF!&"#" -> #REF! | B16: 8.
A17: ="#"&IF(#REF!<10,"0","")&#REF!&"#" -> #REF! | B17: 9.
A18: ="#"&IF(#REF!<10,"0","")&#REF!&"#" -> #REF! | B18: 10.
A19: ="#"&IF(#REF!<10,"0","")&#REF!&"#" -> #REF! | B19: 11.
A20: ="#"&IF(#REF!<10,"0","")&#REF!&"#" -> #REF! | B20: 12.
... A33: ="#"&IF(#REF!<10,"0","")&#REF!&"#" -> #REF! | B33: 25.

Sheet KL02
F2: Gruppen
C3: Kürzel: | D3: Schule: | F3: Jahrgangsstufe
C5: Klasse: | D5: Klassenleiter/in:
A8: Sverweis | C8: Nachname | D8: Vorname | E8: Bemerkungen
A9: ="#"&IF(#REF!<10,"0","")&#REF!&"#" -> #REF! | B9: 1.
A10: ="#"&IF(#REF!<10,"0","")&#REF!&"#" -> #REF! | B10: 2.
A11: ="#"&IF(#REF!<10,"0","")&#REF!&"#" -> #REF! | B11: 3.
A12: ="#"&IF(#REF!<10,"0","")&#REF!&"#" -> #REF! | B12: 4.
A13: ="#"&IF(#REF!<10,"0","")&#REF!&"#" -> #REF! | B13: 5.
A14: ="#"&IF(#REF!<10,"0","")&#REF!&"#" -> #REF! | B14: 6.
A15: ="#"&IF(#REF!<10,"0","")&#REF!&"#" -> #REF! | B15: 7.
A16: ="#"&IF(#REF!<10,"0","")&#REF!&"#" -> #REF! | B16: 8.
A17: ="#"&IF(#REF!<10,"0","")&#REF!&"#" -> #REF! | B17: 9.
A18: ="#"&IF(#REF!<10,"0","")&#REF!&"#" -> #REF! | B18: 10.
A19: ="#"&IF(#REF!<10,"0","")&#REF!&"#" -> #REF! | B19: 11.
A20: ="#"&IF(#REF!<10,"0","")&#REF!&"#" -> #REF! | B20: 12.
... A33: ="#"&IF(#REF!<10,"0","")&#REF!&"#" -> #REF! | B33: 25.

Sheet KL03
F2: Gruppen
C3: Kürzel: | D3: Schule: | F3: Jahrgangsstufe
C5: Klasse: | D5: Klassenleiter/in:
A8: Sverweis | C8: Nachname | D8: Vorname | E8: Bemerkungen
A9: ="#"&IF(#REF!<10,"0","")&#REF!&"#" -> #REF! | B9: 1.
A10: ="#"&IF(#REF!<10,"0","")&#REF!&"#" -> #REF! | B10: 2.
A11: ="#"&IF(#REF!<10,"0","")&#REF!&"#" -> #REF! | B11: 3.
A12: ="#"&IF(#REF!<10,"0","")&#REF!&"#" -> #REF! | B12: 4.
A13: ="#"&IF(#REF!<10,"0","")&#REF!&"#" -> #REF! | B13: 5.
A14: ="#"&IF(#REF!<10,"0","")&#REF!&"#" -> #REF! | B14: 6.
A15: ="#"&IF(#REF!<10,"0","")&#REF!&"#" -> #REF! | B15: 7.
A16: ="#"&IF(#REF!<10,"0","")&#REF!&"#" -> #REF! | B16: 8.
A17: ="#"&IF(#REF!<10,"0","")&#REF!&"#" -> #REF! | B17: 9.
A18: ="#"&IF(#REF!<10,"0","")&#REF!&"#" -> #REF! | B18: 10.
A19: ="#"&IF(#REF!<10,"0","")&#REF!&"#" -> #REF! | B19: 11.
A20: ="#"&IF(#REF!<10,"0","")&#REF!&"#" -> #REF! | B20: 12.
... A33: ="#"&IF(#REF!<10,"0","")&#REF!&"#" -> #REF! | B33: 25.

Sheet KL04
F2: Gruppen
C3: Kürzel: | D3: Schule: | F3: Jahrgangsstufe
C5: Klasse: | D5: Klassenleiter/in:
A8: Sverweis | C8: Nachname | D8: Vorname | E8: Bemerkungen
A9: ="#"&IF(#REF!<10,"0","")&#REF!&"#" -> #REF! | B9: 1.
A10: ="#"&IF(#REF!<10,"0","")&#REF!&"#" -> #REF! | B10: 2.
A11: ="#"&IF(#REF!<10,"0","")&#REF!&"#" -> #REF! | B11: 3.
A12: ="#"&IF(#REF!<10,"0","")&#REF!&"#" -> #REF! | B12: 4.
A13: ="#"&IF(#REF!<10,"0","")&#REF!&"#" -> #REF! | B13: 5.
A14: ="#"&IF(#REF!<10,"0","")&#REF!&"#" -> #REF! | B14: 6.
A15: ="#"&IF(#REF!<10,"0","")&#REF!&"#" -> #REF! | B15: 7.
A16: ="#"&IF(#REF!<10,"0","")&#REF!&"#" -> #REF! | B16: 8.
A17: ="#"&IF(#REF!<10,"0","")&#REF!&"#" -> #REF! | B17: 9.
A18: ="#"&IF(#REF!<10,"0","")&#REF!&"#" -> #REF! | B18: 10.
A19: ="#"&IF(#REF!<10,"0","")&#REF!&"#" -> #REF! | B19: 11.
A20: ="#"&IF(#REF!<10,"0","")&#REF!&"#" -> #REF! | B20: 12.
... A33: ="#"&IF(#REF!<10,"0","")&#REF!&"#" -> #REF! | B33: 25.

Sheet KL05
F2: Gruppen
C3: Kürzel: | D3: Schule: | F3: Jahrgangsstufe
C5: Klasse: | D5: Klassenleiter/in:
A8: Sverweis | C8: Nachname | D8: Vorname | E8: Bemerkungen
A9: ="#"&IF(#REF!<10,"0","")&#REF!&"#" -> #REF! | B9: 1.
A10: ="#"&IF(#REF!<10,"0","")&#REF!&"#" -> #REF! | B10: 2.
A11: ="#"&IF(#REF!<10,"0","")&#REF!&"#" -> #REF! | B11: 3.
A12: ="#"&IF(#REF!<10,"0","")&#REF!&"#" -> #REF! | B12: 4.
A13: ="#"&IF(#REF!<10,"0","")&#REF!&"#" -> #REF! | B13: 5.
A14: ="#"&IF(#REF!<10,"0","")&#REF!&"#" -> #REF! | B14: 6.
A15: ="#"&IF(#REF!<10,"0","")&#REF!&"#" -> #REF! | B15: 7.
A16: ="#"&IF(#REF!<10,"0","")&#REF!&"#" -> #REF! | B16: 8.
A17: ="#"&IF(#REF!<10,"0","")&#REF!&"#" -> #REF! | B17: 9.
A18: ="#"&IF(#REF!<10,"0","")&#REF!&"#" -> #REF! | B18: 10.
A19: ="#"&IF(#REF!<10,"0","")&#REF!&"#" -> #REF! | B19: 11.
A20: ="#"&IF(#REF!<10,"0","")&#REF!&"#" -> #REF! | B20: 12.
... A33: ="#"&IF(#REF!<10,"0","")&#REF!&"#" -> #REF! | B33: 25.

Sheet KL06
F2: Gruppen
C3: Kürzel: | D3: Schule: | F3: Jahrgangsstufe
C5: Klasse: | D5: Klassenleiter/in:
A8: Sverweis | C8: Nachname | D8: Vorname | E8: Bemerkungen
A9: ="#"&IF(#REF!<10,"0","")&#REF!&"#" -> #REF! | B9: 1.
A10: ="#"&IF(#REF!<10,"0","")&#REF!&"#" -> #REF! | B10: 2.
A11: ="#"&IF(#REF!<10,"0","")&#REF!&"#" -> #REF! | B11: 3.
A12: ="#"&IF(#REF!<10,"0","")&#REF!&"#" -> #REF! | B12: 4.
A13: ="#"&IF(#REF!<10,"0","")&#REF!&"#" -> #REF! | B13: 5.
A14: ="#"&IF(#REF!<10,"0","")&#REF!&"#" -> #REF! | B14: 6.
A15: ="#"&IF(#REF!<10,"0","")&#REF!&"#" -> #REF! | B15: 7.
A16: ="#"&IF(#REF!<10,"0","")&#REF!&"#" -> #REF! | B16: 8.
A17: ="#"&IF(#REF!<10,"0","")&#REF!&"#" -> #REF! | B17: 9.
A18: ="#"&IF(#REF!<10,"0","")&#REF!&"#" -> #REF! | B18: 10.
A19: ="#"&IF(#REF!<10,"0","")&#REF!&"#" -> #REF! | B19: 11.
A20: ="#"&IF(#REF!<10,"0","")&#REF!&"#" -> #REF! | B20: 12.
... A33: ="#"&IF(#REF!<10,"0","")&#REF!&"#" -> #REF! | B33: 25.

Sheet KL07
F2: Gruppen
C3: Kürzel: | D3: Schule: | F3: Jahrgangsstufe
C5: Klasse: | D5: Klassenleiter/in:
A8: Sverweis | C8: Nachname | D8: Vorname | E8: Bemerkungen
A9: ="#"&IF(#REF!<10,"0","")&#REF!&"#" -> #REF! | B9: 1.
A10: ="#"&IF(#REF!<10,"0","")&#REF!&"#" -> #REF! | B10: 2.
A11: ="#"&IF(#REF!<10,"0","")&#REF!&"#" -> #REF! | B11: 3.
A12: ="#"&IF(#REF!<10,"0","")&#REF!&"#" -> #REF! | B12: 4.
A13: ="#"&IF(#REF!<10,"0","")&#REF!&"#" -> #REF! | B13: 5.
A14: ="#"&IF(#REF!<10,"0","")&#REF!&"#" -> #REF! | B14: 6.
A15: ="#"&IF(#REF!<10,"0","")&#REF!&"#" -> #REF! | B15: 7.
A16: ="#"&IF(#REF!<10,"0","")&#REF!&"#" -> #REF! | B16: 8.
A17: ="#"&IF(#REF!<10,"0","")&#REF!&"#" -> #REF! | B17: 9.
A18: ="#"&IF(#REF!<10,"0","")&#REF!&"#" -> #REF! | B18: 10.
A19: ="#"&IF(#REF!<10,"0","")&#REF!&"#" -> #REF! | B19: 11.
A20: ="#"&IF(#REF!<10,"0","")&#REF!&"#" -> #REF! | B20: 12.
... A33: ="#"&IF(#REF!<10,"0","")&#REF!&"#" -> #REF! | B33: 25.

Sheet KL08
F2: Gruppen
C3: Kürzel: | D3: Schule: | F3: Jahrgangsstufe
C5: Klasse: | D5: Klassenleiter/in:
A8: Sverweis | C8: Nachname | D8: Vorname | E8: Bemerkungen
A9: ="#"&IF(#REF!<10,"0","")&#REF!&"#" -> #REF! | B9: 1.
A10: ="#"&IF(#REF!<10,"0","")&#REF!&"#" -> #REF! | B10: 2.
A11: ="#"&IF(#REF!<10,"0","")&#REF!&"#" -> #REF! | B11: 3.
A12: ="#"&IF(#REF!<10,"0","")&#REF!&"#" -> #REF! | B12: 4.
A13: ="#"&IF(#REF!<10,"0","")&#REF!&"#" -> #REF! | B13: 5.
A14: ="#"&IF(#REF!<10,"0","")&#REF!&"#" -> #REF! | B14: 6.
A15: ="#"&IF(#REF!<10,"0","")&#REF!&"#" -> #REF! | B15: 7.
A16: ="#"&IF(#REF!<10,"0","")&#REF!&"#" -> #REF! | B16: 8.
A17: ="#"&IF(#REF!<10,"0","")&#REF!&"#" -> #REF! | B17: 9.
A18: ="#"&IF(#REF!<10,"0","")&#REF!&"#" -> #REF! | B18: 10.
A19: ="#"&IF(#REF!<10,"0","")&#REF!&"#" -> #REF! | B19: 11.
A20: ="#"&IF(#REF!<10,"0","")&#REF!&"#" -> #REF! | B20: 12.
... A33: ="#"&IF(#REF!<10,"0","")&#REF!&"#" -> #REF! | B33: 25.

Sheet KL09
F2: Gruppen
C3: Kürzel: | D3: Schule: | F3: Jahrgangsstufe
C5: Klasse: | D5: Klassenleiter/in:
A8: Sverweis | C8: Nachname | D8: Vorname | E8: Bemerkungen
A9: ="#"&IF(#REF!<10,"0","")&#REF!&"#" -> #REF! | B9: 1.
A10: ="#"&IF(#REF!<10,"0","")&#REF!&"#" -> #REF! | B10: 2.
A11: ="#"&IF(#REF!<10,"0","")&#REF!&"#" -> #REF! | B11: 3.
A12: ="#"&IF(#REF!<10,"0","")&#REF!&"#" -> #REF! | B12: 4.
A13: ="#"&IF(#REF!<10,"0","")&#REF!&"#" -> #REF! | B13: 5.
A14: ="#"&IF(#REF!<10,"0","")&#REF!&"#" -> #REF! | B14: 6.
A15: ="#"&IF(#REF!<10,"0","")&#REF!&"#" -> #REF! | B15: 7.
A16: ="#"&IF(#REF!<10,"0","")&#REF!&"#" -> #REF! | B16: 8.
A17: ="#"&IF(#REF!<10,"0","")&#REF!&"#" -> #REF! | B17: 9.
A18: ="#"&IF(#REF!<10,"0","")&#REF!&"#" -> #REF! | B18: 10.
A19: ="#"&IF(#REF!<10,"0","")&#REF!&"#" -> #REF! | B19: 11.
A20: ="#"&IF(#REF!<10,"0","")&#REF!&"#" -> #REF! | B20: 12.
... A33: ="#"&IF(#REF!<10,"0","")&#REF!&"#" -> #REF! | B33: 25.

Sheet KL10
F2: Gruppen
C3: Kürzel: | D3: Schule: | F3: Jahrgangsstufe
C5: Klasse: | D5: Klassenleiter/in:
A8: Sverweis | C8: Nachname | D8: Vorname | E8: Bemerkungen
A9: ="#"&IF(#REF!<10,"0","")&#REF!&"#" -> #REF! | B9: 1.
A10: ="#"&IF(#REF!<10,"0","")&#REF!&"#" -> #REF! | B10: 2.
A11: ="#"&IF(#REF!<10,"0","")&#REF!&"#" -> #REF! | B11: 3.
A12: ="#"&IF(#REF!<10,"0","")&#REF!&"#" -> #REF! | B12: 4.
A13: ="#"&IF(#REF!<10,"0","")&#REF!&"#" -> #REF! | B13: 5.
A14: ="#"&IF(#REF!<10,"0","")&#REF!&"#" -> #REF! | B14: 6.
A15: ="#"&IF(#REF!<10,"0","")&#REF!&"#" -> #REF! | B15: 7.
A16: ="#"&IF(#REF!<10,"0","")&#REF!&"#" -> #REF! | B16: 8.
A17: ="#"&IF(#REF!<10,"0","")&#REF!&"#" -> #REF! | B17: 9.
A18: ="#"&IF(#REF!<10,"0","")&#REF!&"#" -> #REF! | B18: 10.
A19: ="#"&IF(#REF!<10,"0","")&#REF!&"#" -> #REF! | B19: 11.
A20: ="#"&IF(#REF!<10,"0","")&#REF!&"#" -> #REF! | B20: 12.
... A33: ="#"&IF(#REF!<10,"0","")&#REF!&"#" -> #REF! | B33: 25.

Sheet KL11
F2: Gruppen
C3: Kürzel: | D3: Schule: | F3: Jahrgangsstufe
C5: Klasse: | D5: Klassenleiter/in:
A8: Sverweis | C8: Nachname | D8: Vorname | E8: Bemerkungen
A9: ="#"&IF(#REF!<10,"0","")&#REF!&"#" -> #REF! | B9: 1.
A10: ="#"&IF(#REF!<10,"0","")&#REF!&"#" -> #REF! | B10: 2.
A11: ="#"&IF(#REF!<10,"0","")&#REF!&"#" -> #REF! | B11: 3.
A12: ="#"&IF(#REF!<10,"0","")&#REF!&"#" -> #REF! | B12: 4.
A13: ="#"&IF(#REF!<10,"0","")&#REF!&"#" -> #REF! | B13: 5.
A14: ="#"&IF(#REF!<10,"0","")&#REF!&"#" -> #REF! | B14: 6.
A15: ="#"&IF(#REF!<10,"0","")&#REF!&"#" -> #REF! | B15: 7.
A16: ="#"&IF(#REF!<10,"0","")&#REF!&"#" -> #REF! | B16: 8.
A17: ="#"&IF(#REF!<10,"0","")&#REF!&"#" -> #REF! | B17: 9.
A18: ="#"&IF(#REF!<10,"0","")&#REF!&"#" -> #REF! | B18: 10.
A19: ="#"&IF(#REF!<10,"0","")&#REF!&"#" -> #REF! | B19: 11.
A20: ="#"&IF(#REF!<10,"0","")&#REF!&"#" -> #REF! | B20: 12.
... A33: ="#"&IF(#REF!<10,"0","")&#REF!&"#" -> #REF! | B33: 25.

Sheet KL12
F2: Gruppen
C3: Kürzel: | D3: Schule: | F3: Jahrgangsstufe
C5: Klasse: | D5: Klassenleiter/in:
A8: Sverweis | C8: Nachname | D8: Vorname | E8: Bemerkungen
A9: ="#"&IF(#REF!<10,"0","")&#REF!&"#" -> #REF! | B9: 1.
A10: ="#"&IF(#REF!<10,"0","")&#REF!&"#" -> #REF! | B10: 2.
A11: ="#"&IF(#REF!<10,"0","")&#REF!&"#" -> #REF! | B11: 3.
A12: ="#"&IF(#REF!<10,"0","")&#REF!&"#" -> #REF! | B12: 4.
A13: ="#"&IF(#REF!<10,"0","")&#REF!&"#" -> #REF! | B13: 5.
A14: ="#"&IF(#REF!<10,"0","")&#REF!&"#" -> #REF! | B14: 6.
A15: ="#"&IF(#REF!<10,"0","")&#REF!&"#" -> #REF! | B15: 7.
A16: ="#"&IF(#REF!<10,"0","")&#REF!&"#" -> #REF! | B16: 8.
A17: ="#"&IF(#REF!<10,"0","")&#REF!&"#" -> #REF! | B17: 9.
A18: ="#"&IF(#REF!<10,"0","")&#REF!&"#" -> #REF! | B18: 10.
A19: ="#"&IF(#REF!<10,"0","")&#REF!&"#" -> #REF! | B19: 11.
A20: ="#"&IF(#REF!<10,"0","")&#REF!&"#" -> #REF! | B20: 12.
... A33: ="#"&IF(#REF!<10,"0","")&#REF!&"#" -> #REF! | B33: 25.
